{"text_format":"1","workbook":"xlsx","n_sheets":5,"sheets":["akties","Besluiten","data","statistiek","RisicoMatrix"],"not_rendered":{"charts":0,"images":0,"macros":1,"external_links":0,"defined_names":15,"comments":0,"pivot_tables":1},"unopened":[],"bounds":{"document_bytes":16777216,"sheet_cells":100000,"rows_first":2000,"rows_last":500,"rows_between":2000,"halvings":0,"cell_chars":16384,"cell_head_chars":4096},"cells_cut":0,"cells_raw":0,"read":"whole","date_system":"1900"}

{"sheet":"akties","index":0,"n_rows":204,"n_cols":31,"rows_kept":204,"cut":false,"hidden":false,"merged":[]}
[2014,null,null,null,{"$f":"NOW()","v":"2014-11-28T10:54:08.550"},null,null,null,null,null,null,null,null,null,null,null,null,null,null,null,null,{"$f":"SUBTOTAL(9,V3:V142)","v":140},{"$f":"SUBTOTAL(9,W3:W142)","v":0},{"$f":"SUBTOTAL(9,X3:X142)","v":0},0,0,0,0,0,0,0]
["nr","ctg","datum indien","indiener","Project deel","sub_projectdeel","wat (omschrijving)","Aktiehouder"," beschrijving Status/ Tegenmaatregel (Risico)","Prio","open\n/close","status","kans","impact","risico responsetype","einddatum",null,null,"links","duur totaal","nog te gaan"]
[1,null,null,null,null,null,null,null,null,null,null,null,null,null,null,null,null,null,"I",{"$f":"P3-C3","v":0},{"$f":"IF(K3=data!$A$26,P3-$E$1,\"-\")","v":"-"},1,{"$f":"IF(B3=data!$A$36,IF(K3=data!$A$26,1,0),0)","v":0},{"$f":"IF(B3=data!$A$36,IF(K3=data!$A$27,1,0),0)","v":0},{"$f":"IF(B3=data!$A$37,IF(K3=data!$A$26,1,0),0)","v":0},{"$f":"IF(B3=data!$A$37,IF(K3=data!$A$27,1,0),0)","v":0},{"$f":"IF(B3=data!$A$38,IF(K3=data!$A$26,1,0),0)","v":0},{"$f":"IF(B3=data!$A$38,IF(K3=data!$A$27,1,0),0)","v":0},{"$f":"IF(B5=data!$A$39,IF(K5=data!$A$26,1,0),0)","v":0},{"$f":"IF(B5=data!$A$39,IF(K5=data!$A$27,1,0),0)","v":0},{"$f":"IF(U3<0,1,0)","v":0}]
[2,null,null,null,null,null,null,null,null,null,null,null,null,null,null,null,null,null,"I",{"$f":"P4-C4","v":0},{"$f":"IF(K4=data!$A$26,P4-$E$1,\"-\")","v":"-"},1,{"$f":"IF(B4=data!$A$36,IF(K4=data!$A$26,1,0),0)","v":0},{"$f":"IF(B4=data!$A$36,IF(K4=data!$A$27,1,0),0)","v":0},{"$f":"IF(B4=data!$A$37,IF(K4=data!$A$26,1,0),0)","v":0},{"$f":"IF(B4=data!$A$37,IF(K4=data!$A$27,1,0),0)","v":0},{"$f":"IF(B4=data!$A$38,IF(K4=data!$A$26,1,0),0)","v":0},{"$f":"IF(B4=data!$A$38,IF(K4=data!$A$27,1,0),0)","v":0},{"$f":"IF(B6=data!$A$39,IF(K6=data!$A$26,1,0),0)","v":0},{"$f":"IF(B6=data!$A$39,IF(K6=data!$A$27,1,0),0)","v":0},0]
[3,null,null,null,null,null,null,null,null,null,null,null,null,null,null,null,null,null,"I",{"$f":"P5-C5","v":0},{"$f":"IF(K5=data!$A$26,P5-$E$1,\"-\")","v":"-"},1,{"$f":"IF(B5=data!$A$36,IF(K5=data!$A$26,1,0),0)","v":0},{"$f":"IF(B5=data!$A$36,IF(K5=data!$A$27,1,0),0)","v":0},{"$f":"IF(B5=data!$A$37,IF(K5=data!$A$26,1,0),0)","v":0},{"$f":"IF(B5=data!$A$37,IF(K5=data!$A$27,1,0),0)","v":0},{"$f":"IF(B5=data!$A$38,IF(K5=data!$A$26,1,0),0)","v":0},{"$f":"IF(B5=data!$A$38,IF(K5=data!$A$27,1,0),0)","v":0},{"$f":"IF(B7=data!$A$39,IF(K7=data!$A$26,1,0),0)","v":0},{"$f":"IF(B7=data!$A$39,IF(K7=data!$A$27,1,0),0)","v":0},0]
[4,null,null,null,null,null,null,null,null,null,null,null,null,null,null,null,null,null,"I",{"$f":"P6-C6","v":0},{"$f":"IF(K6=data!$A$26,P6-$E$1,\"-\")","v":"-"},1,{"$f":"IF(B6=data!$A$36,IF(K6=data!$A$26,1,0),0)","v":0},{"$f":"IF(B6=data!$A$36,IF(K6=data!$A$27,1,0),0)","v":0},{"$f":"IF(B6=data!$A$37,IF(K6=data!$A$26,1,0),0)","v":0},{"$f":"IF(B6=data!$A$37,IF(K6=data!$A$27,1,0),0)","v":0},{"$f":"IF(B6=data!$A$38,IF(K6=data!$A$26,1,0),0)","v":0},{"$f":"IF(B6=data!$A$38,IF(K6=data!$A$27,1,0),0)","v":0},{"$f":"IF(B8=data!$A$39,IF(K8=data!$A$26,1,0),0)","v":0},{"$f":"IF(B8=data!$A$39,IF(K8=data!$A$27,1,0),0)","v":0},0]
[5,null,null,null,null,null,null,null,null,null,null,null,null,null,null,null,null,null,"I",{"$f":"P7-C7","v":0},{"$f":"IF(K7=data!$A$26,P7-$E$1,\"-\")","v":"-"},1,{"$f":"IF(B7=data!$A$36,IF(K7=data!$A$26,1,0),0)","v":0},{"$f":"IF(B7=data!$A$36,IF(K7=data!$A$27,1,0),0)","v":0},{"$f":"IF(B7=data!$A$37,IF(K7=data!$A$26,1,0),0)","v":0},{"$f":"IF(B7=data!$A$37,IF(K7=data!$A$27,1,0),0)","v":0},{"$f":"IF(B7=data!$A$38,IF(K7=data!$A$26,1,0),0)","v":0},{"$f":"IF(B7=data!$A$38,IF(K7=data!$A$27,1,0),0)","v":0},{"$f":"IF(B9=data!$A$39,IF(K9=data!$A$26,1,0),0)","v":0},{"$f":"IF(B9=data!$A$39,IF(K9=data!$A$27,1,0),0)","v":0},0]
[6,null,null,null,null,null,null,null,null,null,null,null,null,null,null,null,null,null,"I",{"$f":"P8-C8","v":0},{"$f":"IF(K8=data!$A$26,P8-$E$1,\"-\")","v":"-"},1,{"$f":"IF(B8=data!$A$36,IF(K8=data!$A$26,1,0),0)","v":0},{"$f":"IF(B8=data!$A$36,IF(K8=data!$A$27,1,0),0)","v":0},{"$f":"IF(B8=data!$A$37,IF(K8=data!$A$26,1,0),0)","v":0},{"$f":"IF(B8=data!$A$37,IF(K8=data!$A$27,1,0),0)","v":0},{"$f":"IF(B8=data!$A$38,IF(K8=data!$A$26,1,0),0)","v":0},{"$f":"IF(B8=data!$A$38,IF(K8=data!$A$27,1,0),0)","v":0},{"$f":"IF(B10=data!$A$39,IF(K10=data!$A$26,1,0),0)","v":0},{"$f":"IF(B10=data!$A$39,IF(K10=data!$A$27,1,0),0)","v":0},0]
[7,null,null,null,null,null,null,null,null,null,null,null,null,null,null,null,null,null,"I",{"$f":"P9-C9","v":0},{"$f":"IF(K9=data!$A$26,P9-$E$1,\"-\")","v":"-"},1,{"$f":"IF(B9=data!$A$36,IF(K9=data!$A$26,1,0),0)","v":0},{"$f":"IF(B9=data!$A$36,IF(K9=data!$A$27,1,0),0)","v":0},{"$f":"IF(B9=data!$A$37,IF(K9=data!$A$26,1,0),0)","v":0},{"$f":"IF(B9=data!$A$37,IF(K9=data!$A$27,1,0),0)","v":0},{"$f":"IF(B9=data!$A$38,IF(K9=data!$A$26,1,0),0)","v":0},{"$f":"IF(B9=data!$A$38,IF(K9=data!$A$27,1,0),0)","v":0},{"$f":"IF(B11=data!$A$39,IF(K11=data!$A$26,1,0),0)","v":0},{"$f":"IF(B11=data!$A$39,IF(K11=data!$A$27,1,0),0)","v":0},0]
[8,null,null,null,null,null,null,null,null,null,null,null,null,null,null,null,null,null,"I",{"$f":"P10-C10","v":0},{"$f":"IF(K10=data!$A$26,P10-$E$1,\"-\")","v":"-"},1,{"$f":"IF(B10=data!$A$36,IF(K10=data!$A$26,1,0),0)","v":0},{"$f":"IF(B10=data!$A$36,IF(K10=data!$A$27,1,0),0)","v":0},{"$f":"IF(B10=data!$A$37,IF(K10=data!$A$26,1,0),0)","v":0},{"$f":"IF(B10=data!$A$37,IF(K10=data!$A$27,1,0),0)","v":0},{"$f":"IF(B10=data!$A$38,IF(K10=data!$A$26,1,0),0)","v":0},{"$f":"IF(B10=data!$A$38,IF(K10=data!$A$27,1,0),0)","v":0},{"$f":"IF(B12=data!$A$39,IF(K12=data!$A$26,1,0),0)","v":0},{"$f":"IF(B12=data!$A$39,IF(K12=data!$A$27,1,0),0)","v":0},0]
[9,null,null,null,null,null,null,null,null,null,null,null,null,null,null,null,null,null,"I",{"$f":"P11-C11","v":0},{"$f":"IF(K11=data!$A$26,P11-$E$1,\"-\")","v":"-"},1,{"$f":"IF(B11=data!$A$36,IF(K11=data!$A$26,1,0),0)","v":0},{"$f":"IF(B11=data!$A$36,IF(K11=data!$A$27,1,0),0)","v":0},{"$f":"IF(B11=data!$A$37,IF(K11=data!$A$26,1,0),0)","v":0},{"$f":"IF(B11=data!$A$37,IF(K11=data!$A$27,1,0),0)","v":0},{"$f":"IF(B11=data!$A$38,IF(K11=data!$A$26,1,0),0)","v":0},{"$f":"IF(B11=data!$A$38,IF(K11=data!$A$27,1,0),0)","v":0},{"$f":"IF(B13=data!$A$39,IF(K13=data!$A$26,1,0),0)","v":0},{"$f":"IF(B13=data!$A$39,IF(K13=data!$A$27,1,0),0)","v":0},0]
[10,null,null,null,null,null,null,null,null,null,null,null,null,null,null,null,null,null,"I",{"$f":"P12-C12","v":0},{"$f":"IF(K12=data!$A$26,P12-$E$1,\"-\")","v":"-"},1,{"$f":"IF(B12=data!$A$36,IF(K12=data!$A$26,1,0),0)","v":0},{"$f":"IF(B12=data!$A$36,IF(K12=data!$A$27,1,0),0)","v":0},{"$f":"IF(B12=data!$A$37,IF(K12=data!$A$26,1,0),0)","v":0},{"$f":"IF(B12=data!$A$37,IF(K12=data!$A$27,1,0),0)","v":0},{"$f":"IF(B12=data!$A$38,IF(K12=data!$A$26,1,0),0)","v":0},{"$f":"IF(B12=data!$A$38,IF(K12=data!$A$27,1,0),0)","v":0},{"$f":"IF(B14=data!$A$39,IF(K14=data!$A$26,1,0),0)","v":0},{"$f":"IF(B14=data!$A$39,IF(K14=data!$A$27,1,0),0)","v":0},0]
[11,null,null,null,null,null,null,null,null,null,null,null,null,null,null,null,null,null,"I",{"$f":"P13-C13","v":0},{"$f":"IF(K13=data!$A$26,P13-$E$1,\"-\")","v":"-"},1,{"$f":"IF(B13=data!$A$36,IF(K13=data!$A$26,1,0),0)","v":0},{"$f":"IF(B13=data!$A$36,IF(K13=data!$A$27,1,0),0)","v":0},{"$f":"IF(B13=data!$A$37,IF(K13=data!$A$26,1,0),0)","v":0},{"$f":"IF(B13=data!$A$37,IF(K13=data!$A$27,1,0),0)","v":0},{"$f":"IF(B13=data!$A$38,IF(K13=data!$A$26,1,0),0)","v":0},{"$f":"IF(B13=data!$A$38,IF(K13=data!$A$27,1,0),0)","v":0},{"$f":"IF(B15=data!$A$39,IF(K15=data!$A$26,1,0),0)","v":0},{"$f":"IF(B15=data!$A$39,IF(K15=data!$A$27,1,0),0)","v":0},0]
[12,null,null,null,null,null,null,null,null,null,null,null,null,null,null,null,null,null,"I",{"$f":"P14-C14","v":0},{"$f":"IF(K14=data!$A$26,P14-$E$1,\"-\")","v":"-"},1,{"$f":"IF(B14=data!$A$36,IF(K14=data!$A$26,1,0),0)","v":0},{"$f":"IF(B14=data!$A$36,IF(K14=data!$A$27,1,0),0)","v":0},{"$f":"IF(B14=data!$A$37,IF(K14=data!$A$26,1,0),0)","v":0},{"$f":"IF(B14=data!$A$37,IF(K14=data!$A$27,1,0),0)","v":0},{"$f":"IF(B14=data!$A$38,IF(K14=data!$A$26,1,0),0)","v":0},{"$f":"IF(B14=data!$A$38,IF(K14=data!$A$27,1,0),0)","v":0},{"$f":"IF(B16=data!$A$39,IF(K16=data!$A$26,1,0),0)","v":0},{"$f":"IF(B16=data!$A$39,IF(K16=data!$A$27,1,0),0)","v":0},0]
[13,null,null,null,null,null,null,null,null,null,null,null,null,null,null,null,null,null,"I",{"$f":"P15-C15","v":0},{"$f":"IF(K15=data!$A$26,P15-$E$1,\"-\")","v":"-"},1,{"$f":"IF(B15=data!$A$36,IF(K15=data!$A$26,1,0),0)","v":0},{"$f":"IF(B15=data!$A$36,IF(K15=data!$A$27,1,0),0)","v":0},{"$f":"IF(B15=data!$A$37,IF(K15=data!$A$26,1,0),0)","v":0},{"$f":"IF(B15=data!$A$37,IF(K15=data!$A$27,1,0),0)","v":0},{"$f":"IF(B15=data!$A$38,IF(K15=data!$A$26,1,0),0)","v":0},{"$f":"IF(B15=data!$A$38,IF(K15=data!$A$27,1,0),0)","v":0},{"$f":"IF(B17=data!$A$39,IF(K17=data!$A$26,1,0),0)","v":0},{"$f":"IF(B17=data!$A$39,IF(K17=data!$A$27,1,0),0)","v":0},0]
[14,null,null,null,null,null,null,null,null,null,null,null,null,null,null,null,null,null,"I",{"$f":"P16-C16","v":0},{"$f":"IF(K16=data!$A$26,P16-$E$1,\"-\")","v":"-"},1,{"$f":"IF(B16=data!$A$36,IF(K16=data!$A$26,1,0),0)","v":0},{"$f":"IF(B16=data!$A$36,IF(K16=data!$A$27,1,0),0)","v":0},{"$f":"IF(B16=data!$A$37,IF(K16=data!$A$26,1,0),0)","v":0},{"$f":"IF(B16=data!$A$37,IF(K16=data!$A$27,1,0),0)","v":0},{"$f":"IF(B16=data!$A$38,IF(K16=data!$A$26,1,0),0)","v":0},{"$f":"IF(B16=data!$A$38,IF(K16=data!$A$27,1,0),0)","v":0},{"$f":"IF(B18=data!$A$39,IF(K18=data!$A$26,1,0),0)","v":0},{"$f":"IF(B18=data!$A$39,IF(K18=data!$A$27,1,0),0)","v":0},0]
[15,null,null,null,null,null,null,null,null,null,null,null,null,null,null,null,null,null,"I",{"$f":"P17-C17","v":0},{"$f":"IF(K17=data!$A$26,P17-$E$1,\"-\")","v":"-"},1,{"$f":"IF(B17=data!$A$36,IF(K17=data!$A$26,1,0),0)","v":0},{"$f":"IF(B17=data!$A$36,IF(K17=data!$A$27,1,0),0)","v":0},{"$f":"IF(B17=data!$A$37,IF(K17=data!$A$26,1,0),0)","v":0},{"$f":"IF(B17=data!$A$37,IF(K17=data!$A$27,1,0),0)","v":0},{"$f":"IF(B17=data!$A$38,IF(K17=data!$A$26,1,0),0)","v":0},{"$f":"IF(B17=data!$A$38,IF(K17=data!$A$27,1,0),0)","v":0},{"$f":"IF(B19=data!$A$39,IF(K19=data!$A$26,1,0),0)","v":0},{"$f":"IF(B19=data!$A$39,IF(K19=data!$A$27,1,0),0)","v":0},0]
[16,null,null,null,null,null,null,null,null,null,null,null,null,null,null,null,null,null,"I",{"$f":"P18-C18","v":0},{"$f":"IF(K18=data!$A$26,P18-$E$1,\"-\")","v":"-"},1,{"$f":"IF(B18=data!$A$36,IF(K18=data!$A$26,1,0),0)","v":0},{"$f":"IF(B18=data!$A$36,IF(K18=data!$A$27,1,0),0)","v":0},{"$f":"IF(B18=data!$A$37,IF(K18=data!$A$26,1,0),0)","v":0},{"$f":"IF(B18=data!$A$37,IF(K18=data!$A$27,1,0),0)","v":0},{"$f":"IF(B18=data!$A$38,IF(K18=data!$A$26,1,0),0)","v":0},{"$f":"IF(B18=data!$A$38,IF(K18=data!$A$27,1,0),0)","v":0},{"$f":"IF(B20=data!$A$39,IF(K20=data!$A$26,1,0),0)","v":0},{"$f":"IF(B20=data!$A$39,IF(K20=data!$A$27,1,0),0)","v":0},0]
[17,null,null,null,null,null,null,null,null,null,null,null,null,null,null,null,null,null,"I",{"$f":"P19-C19","v":0},{"$f":"IF(K19=data!$A$26,P19-$E$1,\"-\")","v":"-"},1,{"$f":"IF(B19=data!$A$36,IF(K19=data!$A$26,1,0),0)","v":0},{"$f":"IF(B19=data!$A$36,IF(K19=data!$A$27,1,0),0)","v":0},{"$f":"IF(B19=data!$A$37,IF(K19=data!$A$26,1,0),0)","v":0},{"$f":"IF(B19=data!$A$37,IF(K19=data!$A$27,1,0),0)","v":0},{"$f":"IF(B19=data!$A$38,IF(K19=data!$A$26,1,0),0)","v":0},{"$f":"IF(B19=data!$A$38,IF(K19=data!$A$27,1,0),0)","v":0},{"$f":"IF(B21=data!$A$39,IF(K21=data!$A$26,1,0),0)","v":0},{"$f":"IF(B21=data!$A$39,IF(K21=data!$A$27,1,0),0)","v":0},0]
[18,null,null,null,null,null,null,null,null,null,null,null,null,null,null,null,null,null,"I",{"$f":"P20-C20","v":0},{"$f":"IF(K20=data!$A$26,P20-$E$1,\"-\")","v":"-"},1,{"$f":"IF(B20=data!$A$36,IF(K20=data!$A$26,1,0),0)","v":0},{"$f":"IF(B20=data!$A$36,IF(K20=data!$A$27,1,0),0)","v":0},{"$f":"IF(B20=data!$A$37,IF(K20=data!$A$26,1,0),0)","v":0},{"$f":"IF(B20=data!$A$37,IF(K20=data!$A$27,1,0),0)","v":0},{"$f":"IF(B20=data!$A$38,IF(K20=data!$A$26,1,0),0)","v":0},{"$f":"IF(B20=data!$A$38,IF(K20=data!$A$27,1,0),0)","v":0},{"$f":"IF(B22=data!$A$39,IF(K22=data!$A$26,1,0),0)","v":0},{"$f":"IF(B22=data!$A$39,IF(K22=data!$A$27,1,0),0)","v":0},0]
[19,null,null,null,null,null,null,null,null,null,null,null,null,null,null,null,null,null,"I",{"$f":"P21-C21","v":0},{"$f":"IF(K21=data!$A$26,P21-$E$1,\"-\")","v":"-"},1,{"$f":"IF(B21=data!$A$36,IF(K21=data!$A$26,1,0),0)","v":0},{"$f":"IF(B21=data!$A$36,IF(K21=data!$A$27,1,0),0)","v":0},{"$f":"IF(B21=data!$A$37,IF(K21=data!$A$26,1,0),0)","v":0},{"$f":"IF(B21=data!$A$37,IF(K21=data!$A$27,1,0),0)","v":0},{"$f":"IF(B21=data!$A$38,IF(K21=data!$A$26,1,0),0)","v":0},{"$f":"IF(B21=data!$A$38,IF(K21=data!$A$27,1,0),0)","v":0},{"$f":"IF(B23=data!$A$39,IF(K23=data!$A$26,1,0),0)","v":0},{"$f":"IF(B23=data!$A$39,IF(K23=data!$A$27,1,0),0)","v":0},0]
[20,null,null,null,null,null,null,null,null,null,null,null,null,null,null,null,null,null,"I",{"$f":"P22-C22","v":0},{"$f":"IF(K22=data!$A$26,P22-$E$1,\"-\")","v":"-"},1,{"$f":"IF(B22=data!$A$36,IF(K22=data!$A$26,1,0),0)","v":0},{"$f":"IF(B22=data!$A$36,IF(K22=data!$A$27,1,0),0)","v":0},{"$f":"IF(B22=data!$A$37,IF(K22=data!$A$26,1,0),0)","v":0},{"$f":"IF(B22=data!$A$37,IF(K22=data!$A$27,1,0),0)","v":0},{"$f":"IF(B22=data!$A$38,IF(K22=data!$A$26,1,0),0)","v":0},{"$f":"IF(B22=data!$A$38,IF(K22=data!$A$27,1,0),0)","v":0},{"$f":"IF(B24=data!$A$39,IF(K24=data!$A$26,1,0),0)","v":0},{"$f":"IF(B24=data!$A$39,IF(K24=data!$A$27,1,0),0)","v":0},0]
[21,null,null,null,null,null,null,null,null,null,null,null,null,null,null,null,null,null,"I",{"$f":"P23-C23","v":0},{"$f":"IF(K23=data!$A$26,P23-$E$1,\"-\")","v":"-"},1,{"$f":"IF(B23=data!$A$36,IF(K23=data!$A$26,1,0),0)","v":0},{"$f":"IF(B23=data!$A$36,IF(K23=data!$A$27,1,0),0)","v":0},{"$f":"IF(B23=data!$A$37,IF(K23=data!$A$26,1,0),0)","v":0},{"$f":"IF(B23=data!$A$37,IF(K23=data!$A$27,1,0),0)","v":0},{"$f":"IF(B23=data!$A$38,IF(K23=data!$A$26,1,0),0)","v":0},{"$f":"IF(B23=data!$A$38,IF(K23=data!$A$27,1,0),0)","v":0},{"$f":"IF(B25=data!$A$39,IF(K25=data!$A$26,1,0),0)","v":0},{"$f":"IF(B25=data!$A$39,IF(K25=data!$A$27,1,0),0)","v":0},0]
[22,null,null,null,null,null,null,null,null,null,null,null,null,null,null,null,null,null,"I",{"$f":"P24-C24","v":0},{"$f":"IF(K24=data!$A$26,P24-$E$1,\"-\")","v":"-"},1,{"$f":"IF(B24=data!$A$36,IF(K24=data!$A$26,1,0),0)","v":0},{"$f":"IF(B24=data!$A$36,IF(K24=data!$A$27,1,0),0)","v":0},{"$f":"IF(B24=data!$A$37,IF(K24=data!$A$26,1,0),0)","v":0},{"$f":"IF(B24=data!$A$37,IF(K24=data!$A$27,1,0),0)","v":0},{"$f":"IF(B24=data!$A$38,IF(K24=data!$A$26,1,0),0)","v":0},{"$f":"IF(B24=data!$A$38,IF(K24=data!$A$27,1,0),0)","v":0},{"$f":"IF(B26=data!$A$39,IF(K26=data!$A$26,1,0),0)","v":0},{"$f":"IF(B26=data!$A$39,IF(K26=data!$A$27,1,0),0)","v":0},0]
[23,null,null,null,null,null,null,null,null,null,null,null,null,null,null,null,null,null,"I",{"$f":"P25-C25","v":0},{"$f":"IF(K25=data!$A$26,P25-$E$1,\"-\")","v":"-"},1,{"$f":"IF(B25=data!$A$36,IF(K25=data!$A$26,1,0),0)","v":0},{"$f":"IF(B25=data!$A$36,IF(K25=data!$A$27,1,0),0)","v":0},{"$f":"IF(B25=data!$A$37,IF(K25=data!$A$26,1,0),0)","v":0},{"$f":"IF(B25=data!$A$37,IF(K25=data!$A$27,1,0),0)","v":0},{"$f":"IF(B25=data!$A$38,IF(K25=data!$A$26,1,0),0)","v":0},{"$f":"IF(B25=data!$A$38,IF(K25=data!$A$27,1,0),0)","v":0},{"$f":"IF(B27=data!$A$39,IF(K27=data!$A$26,1,0),0)","v":0},{"$f":"IF(B27=data!$A$39,IF(K27=data!$A$27,1,0),0)","v":0},0]
[24,null,null,null,null,null,null,null,null,null,null,null,null,null,null,null,null,null,"I",{"$f":"P26-C26","v":0},{"$f":"IF(K26=data!$A$26,P26-$E$1,\"-\")","v":"-"},1,{"$f":"IF(B26=data!$A$36,IF(K26=data!$A$26,1,0),0)","v":0},{"$f":"IF(B26=data!$A$36,IF(K26=data!$A$27,1,0),0)","v":0},{"$f":"IF(B26=data!$A$37,IF(K26=data!$A$26,1,0),0)","v":0},{"$f":"IF(B26=data!$A$37,IF(K26=data!$A$27,1,0),0)","v":0},{"$f":"IF(B26=data!$A$38,IF(K26=data!$A$26,1,0),0)","v":0},{"$f":"IF(B26=data!$A$38,IF(K26=data!$A$27,1,0),0)","v":0},{"$f":"IF(B28=data!$A$39,IF(K28=data!$A$26,1,0),0)","v":0},{"$f":"IF(B28=data!$A$39,IF(K28=data!$A$27,1,0),0)","v":0},0]
[25,null,null,null,null,null,null,null,null,null,null,null,null,null,null,null,null,null,"I",{"$f":"P27-C27","v":0},{"$f":"IF(K27=data!$A$26,P27-$E$1,\"-\")","v":"-"},1,{"$f":"IF(B27=data!$A$36,IF(K27=data!$A$26,1,0),0)","v":0},{"$f":"IF(B27=data!$A$36,IF(K27=data!$A$27,1,0),0)","v":0},{"$f":"IF(B27=data!$A$37,IF(K27=data!$A$26,1,0),0)","v":0},{"$f":"IF(B27=data!$A$37,IF(K27=data!$A$27,1,0),0)","v":0},{"$f":"IF(B27=data!$A$38,IF(K27=data!$A$26,1,0),0)","v":0},{"$f":"IF(B27=data!$A$38,IF(K27=data!$A$27,1,0),0)","v":0},{"$f":"IF(B29=data!$A$39,IF(K29=data!$A$26,1,0),0)","v":0},{"$f":"IF(B29=data!$A$39,IF(K29=data!$A$27,1,0),0)","v":0},0]
[26,null,null,null,null,null,null,null,null,null,null,null,null,null,null,null,null,null,"I",{"$f":"P28-C28","v":0},{"$f":"IF(K28=data!$A$26,P28-$E$1,\"-\")","v":"-"},1,{"$f":"IF(B28=data!$A$36,IF(K28=data!$A$26,1,0),0)","v":0},{"$f":"IF(B28=data!$A$36,IF(K28=data!$A$27,1,0),0)","v":0},{"$f":"IF(B28=data!$A$37,IF(K28=data!$A$26,1,0),0)","v":0},{"$f":"IF(B28=data!$A$37,IF(K28=data!$A$27,1,0),0)","v":0},{"$f":"IF(B28=data!$A$38,IF(K28=data!$A$26,1,0),0)","v":0},{"$f":"IF(B28=data!$A$38,IF(K28=data!$A$27,1,0),0)","v":0},{"$f":"IF(B30=data!$A$39,IF(K30=data!$A$26,1,0),0)","v":0},{"$f":"IF(B30=data!$A$39,IF(K30=data!$A$27,1,0),0)","v":0},0]
[27,null,null,null,null,null,null,null,null,null,null,null,null,null,null,null,null,null,"I",{"$f":"P29-C29","v":0},{"$f":"IF(K29=data!$A$26,P29-$E$1,\"-\")","v":"-"},1,{"$f":"IF(B29=data!$A$36,IF(K29=data!$A$26,1,0),0)","v":0},{"$f":"IF(B29=data!$A$36,IF(K29=data!$A$27,1,0),0)","v":0},{"$f":"IF(B29=data!$A$37,IF(K29=data!$A$26,1,0),0)","v":0},{"$f":"IF(B29=data!$A$37,IF(K29=data!$A$27,1,0),0)","v":0},{"$f":"IF(B29=data!$A$38,IF(K29=data!$A$26,1,0),0)","v":0},{"$f":"IF(B29=data!$A$38,IF(K29=data!$A$27,1,0),0)","v":0},{"$f":"IF(B31=data!$A$39,IF(K31=data!$A$26,1,0),0)","v":0},{"$f":"IF(B31=data!$A$39,IF(K31=data!$A$27,1,0),0)","v":0},0]
[28,null,null,null,null,null,null,null,null,null,null,null,null,null,null,null,null,null,"I",{"$f":"P30-C30","v":0},{"$f":"IF(K30=data!$A$26,P30-$E$1,\"-\")","v":"-"},1,{"$f":"IF(B30=data!$A$36,IF(K30=data!$A$26,1,0),0)","v":0},{"$f":"IF(B30=data!$A$36,IF(K30=data!$A$27,1,0),0)","v":0},{"$f":"IF(B30=data!$A$37,IF(K30=data!$A$26,1,0),0)","v":0},{"$f":"IF(B30=data!$A$37,IF(K30=data!$A$27,1,0),0)","v":0},{"$f":"IF(B30=data!$A$38,IF(K30=data!$A$26,1,0),0)","v":0},{"$f":"IF(B30=data!$A$38,IF(K30=data!$A$27,1,0),0)","v":0},{"$f":"IF(B32=data!$A$39,IF(K32=data!$A$26,1,0),0)","v":0},{"$f":"IF(B32=data!$A$39,IF(K32=data!$A$27,1,0),0)","v":0},0]
[29,null,null,null,null,null,null,null,null,null,null,null,null,null,null,null,null,null,"I",{"$f":"P31-C31","v":0},{"$f":"IF(K31=data!$A$26,P31-$E$1,\"-\")","v":"-"},1,{"$f":"IF(B31=data!$A$36,IF(K31=data!$A$26,1,0),0)","v":0},{"$f":"IF(B31=data!$A$36,IF(K31=data!$A$27,1,0),0)","v":0},{"$f":"IF(B31=data!$A$37,IF(K31=data!$A$26,1,0),0)","v":0},{"$f":"IF(B31=data!$A$37,IF(K31=data!$A$27,1,0),0)","v":0},{"$f":"IF(B31=data!$A$38,IF(K31=data!$A$26,1,0),0)","v":0},{"$f":"IF(B31=data!$A$38,IF(K31=data!$A$27,1,0),0)","v":0},{"$f":"IF(B33=data!$A$39,IF(K33=data!$A$26,1,0),0)","v":0},{"$f":"IF(B33=data!$A$39,IF(K33=data!$A$27,1,0),0)","v":0},0]
[30,null,null,null,null,null,null,null,null,null,null,null,null,null,null,null,null,null,"I",{"$f":"P32-C32","v":0},{"$f":"IF(K32=data!$A$26,P32-$E$1,\"-\")","v":"-"},1,{"$f":"IF(B32=data!$A$36,IF(K32=data!$A$26,1,0),0)","v":0},{"$f":"IF(B32=data!$A$36,IF(K32=data!$A$27,1,0),0)","v":0},{"$f":"IF(B32=data!$A$37,IF(K32=data!$A$26,1,0),0)","v":0},{"$f":"IF(B32=data!$A$37,IF(K32=data!$A$27,1,0),0)","v":0},{"$f":"IF(B32=data!$A$38,IF(K32=data!$A$26,1,0),0)","v":0},{"$f":"IF(B32=data!$A$38,IF(K32=data!$A$27,1,0),0)","v":0},{"$f":"IF(B34=data!$A$39,IF(K34=data!$A$26,1,0),0)","v":0},{"$f":"IF(B34=data!$A$39,IF(K34=data!$A$27,1,0),0)","v":0},0]
[31,null,null,null,null,null,null,null,null,null,null,null,null,null,null,null,null,null,"I",{"$f":"P33-C33","v":0},{"$f":"IF(K33=data!$A$26,P33-$E$1,\"-\")","v":"-"},1,{"$f":"IF(B33=data!$A$36,IF(K33=data!$A$26,1,0),0)","v":0},{"$f":"IF(B33=data!$A$36,IF(K33=data!$A$27,1,0),0)","v":0},{"$f":"IF(B33=data!$A$37,IF(K33=data!$A$26,1,0),0)","v":0},{"$f":"IF(B33=data!$A$37,IF(K33=data!$A$27,1,0),0)","v":0},{"$f":"IF(B33=data!$A$38,IF(K33=data!$A$26,1,0),0)","v":0},{"$f":"IF(B33=data!$A$38,IF(K33=data!$A$27,1,0),0)","v":0},{"$f":"IF(B35=data!$A$39,IF(K35=data!$A$26,1,0),0)","v":0},{"$f":"IF(B35=data!$A$39,IF(K35=data!$A$27,1,0),0)","v":0},0]
[32,null,null,null,null,null,null,null,null,null,null,null,null,null,null,null,null,null,"I",{"$f":"P34-C34","v":0},{"$f":"IF(K34=data!$A$26,P34-$E$1,\"-\")","v":"-"},1,{"$f":"IF(B34=data!$A$36,IF(K34=data!$A$26,1,0),0)","v":0},{"$f":"IF(B34=data!$A$36,IF(K34=data!$A$27,1,0),0)","v":0},{"$f":"IF(B34=data!$A$37,IF(K34=data!$A$26,1,0),0)","v":0},{"$f":"IF(B34=data!$A$37,IF(K34=data!$A$27,1,0),0)","v":0},{"$f":"IF(B34=data!$A$38,IF(K34=data!$A$26,1,0),0)","v":0},{"$f":"IF(B34=data!$A$38,IF(K34=data!$A$27,1,0),0)","v":0},{"$f":"IF(B36=data!$A$39,IF(K36=data!$A$26,1,0),0)","v":0},{"$f":"IF(B36=data!$A$39,IF(K36=data!$A$27,1,0),0)","v":0},0]
[33,null,null,null,null,null,null,null,null,null,null,null,null,null,null,null,null,null,"I",{"$f":"P35-C35","v":0},{"$f":"IF(K35=data!$A$26,P35-$E$1,\"-\")","v":"-"},1,{"$f":"IF(B35=data!$A$36,IF(K35=data!$A$26,1,0),0)","v":0},{"$f":"IF(B35=data!$A$36,IF(K35=data!$A$27,1,0),0)","v":0},{"$f":"IF(B35=data!$A$37,IF(K35=data!$A$26,1,0),0)","v":0},{"$f":"IF(B35=data!$A$37,IF(K35=data!$A$27,1,0),0)","v":0},{"$f":"IF(B35=data!$A$38,IF(K35=data!$A$26,1,0),0)","v":0},{"$f":"IF(B35=data!$A$38,IF(K35=data!$A$27,1,0),0)","v":0},{"$f":"IF(B37=data!$A$39,IF(K37=data!$A$26,1,0),0)","v":0},{"$f":"IF(B37=data!$A$39,IF(K37=data!$A$27,1,0),0)","v":0},{"$f":"IF(U35<0,1,0)","v":0}]
[34,null,null,null,null,null,null,null,null,null,null,null,null,null,null,null,null,null,"I",{"$f":"P36-C36","v":0},{"$f":"IF(K36=data!$A$26,P36-$E$1,\"-\")","v":"-"},1,{"$f":"IF(B36=data!$A$36,IF(K36=data!$A$26,1,0),0)","v":0},{"$f":"IF(B36=data!$A$36,IF(K36=data!$A$27,1,0),0)","v":0},{"$f":"IF(B36=data!$A$37,IF(K36=data!$A$26,1,0),0)","v":0},{"$f":"IF(B36=data!$A$37,IF(K36=data!$A$27,1,0),0)","v":0},{"$f":"IF(B36=data!$A$38,IF(K36=data!$A$26,1,0),0)","v":0},{"$f":"IF(B36=data!$A$38,IF(K36=data!$A$27,1,0),0)","v":0},{"$f":"IF(B38=data!$A$39,IF(K38=data!$A$26,1,0),0)","v":0},{"$f":"IF(B38=data!$A$39,IF(K38=data!$A$27,1,0),0)","v":0},0]
[35,null,null,null,null,null,null,null,null,null,null,null,null,null,null,null,null,null,"I",{"$f":"P37-C37","v":0},{"$f":"IF(K37=data!$A$26,P37-$E$1,\"-\")","v":"-"},1,{"$f":"IF(B37=data!$A$36,IF(K37=data!$A$26,1,0),0)","v":0},{"$f":"IF(B37=data!$A$36,IF(K37=data!$A$27,1,0),0)","v":0},{"$f":"IF(B37=data!$A$37,IF(K37=data!$A$26,1,0),0)","v":0},{"$f":"IF(B37=data!$A$37,IF(K37=data!$A$27,1,0),0)","v":0},{"$f":"IF(B37=data!$A$38,IF(K37=data!$A$26,1,0),0)","v":0},{"$f":"IF(B37=data!$A$38,IF(K37=data!$A$27,1,0),0)","v":0},{"$f":"IF(B39=data!$A$39,IF(K39=data!$A$26,1,0),0)","v":0},{"$f":"IF(B39=data!$A$39,IF(K39=data!$A$27,1,0),0)","v":0},0]
[36,null,null,null,null,null,null,null,null,null,null,null,null,null,null,null,null,null,"I",{"$f":"P38-C38","v":0},{"$f":"IF(K38=data!$A$26,P38-$E$1,\"-\")","v":"-"},1,{"$f":"IF(B38=data!$A$36,IF(K38=data!$A$26,1,0),0)","v":0},{"$f":"IF(B38=data!$A$36,IF(K38=data!$A$27,1,0),0)","v":0},{"$f":"IF(B38=data!$A$37,IF(K38=data!$A$26,1,0),0)","v":0},{"$f":"IF(B38=data!$A$37,IF(K38=data!$A$27,1,0),0)","v":0},{"$f":"IF(B38=data!$A$38,IF(K38=data!$A$26,1,0),0)","v":0},{"$f":"IF(B38=data!$A$38,IF(K38=data!$A$27,1,0),0)","v":0},{"$f":"IF(B40=data!$A$39,IF(K40=data!$A$26,1,0),0)","v":0},{"$f":"IF(B40=data!$A$39,IF(K40=data!$A$27,1,0),0)","v":0},0]
[37,null,null,null,null,null,null,null,null,null,null,null,null,null,null,null,null,null,"I",{"$f":"P39-C39","v":0},{"$f":"IF(K39=data!$A$26,P39-$E$1,\"-\")","v":"-"},1,{"$f":"IF(B39=data!$A$36,IF(K39=data!$A$26,1,0),0)","v":0},{"$f":"IF(B39=data!$A$36,IF(K39=data!$A$27,1,0),0)","v":0},{"$f":"IF(B39=data!$A$37,IF(K39=data!$A$26,1,0),0)","v":0},{"$f":"IF(B39=data!$A$37,IF(K39=data!$A$27,1,0),0)","v":0},{"$f":"IF(B39=data!$A$38,IF(K39=data!$A$26,1,0),0)","v":0},{"$f":"IF(B39=data!$A$38,IF(K39=data!$A$27,1,0),0)","v":0},{"$f":"IF(B41=data!$A$39,IF(K41=data!$A$26,1,0),0)","v":0},{"$f":"IF(B41=data!$A$39,IF(K41=data!$A$27,1,0),0)","v":0},0]
[38,null,null,null,null,null,null,null,null,null,null,null,null,null,null,null,null,null,"I",{"$f":"P40-C40","v":0},{"$f":"IF(K40=data!$A$26,P40-$E$1,\"-\")","v":"-"},1,{"$f":"IF(B40=data!$A$36,IF(K40=data!$A$26,1,0),0)","v":0},{"$f":"IF(B40=data!$A$36,IF(K40=data!$A$27,1,0),0)","v":0},{"$f":"IF(B40=data!$A$37,IF(K40=data!$A$26,1,0),0)","v":0},{"$f":"IF(B40=data!$A$37,IF(K40=data!$A$27,1,0),0)","v":0},{"$f":"IF(B40=data!$A$38,IF(K40=data!$A$26,1,0),0)","v":0},{"$f":"IF(B40=data!$A$38,IF(K40=data!$A$27,1,0),0)","v":0},{"$f":"IF(B42=data!$A$39,IF(K42=data!$A$26,1,0),0)","v":0},{"$f":"IF(B42=data!$A$39,IF(K42=data!$A$27,1,0),0)","v":0},0]
[39,null,null,null,null,null,null,null,null,null,null,null,null,null,null,null,null,null,"I",{"$f":"P41-C41","v":0},{"$f":"IF(K41=data!$A$26,P41-$E$1,\"-\")","v":"-"},1,{"$f":"IF(B41=data!$A$36,IF(K41=data!$A$26,1,0),0)","v":0},{"$f":"IF(B41=data!$A$36,IF(K41=data!$A$27,1,0),0)","v":0},{"$f":"IF(B41=data!$A$37,IF(K41=data!$A$26,1,0),0)","v":0},{"$f":"IF(B41=data!$A$37,IF(K41=data!$A$27,1,0),0)","v":0},{"$f":"IF(B41=data!$A$38,IF(K41=data!$A$26,1,0),0)","v":0},{"$f":"IF(B41=data!$A$38,IF(K41=data!$A$27,1,0),0)","v":0},{"$f":"IF(B43=data!$A$39,IF(K43=data!$A$26,1,0),0)","v":0},{"$f":"IF(B43=data!$A$39,IF(K43=data!$A$27,1,0),0)","v":0},0]
[40,null,null,null,null,null,null,null,null,null,null,null,null,null,null,null,null,null,"I",{"$f":"P42-C42","v":0},{"$f":"IF(K42=data!$A$26,P42-$E$1,\"-\")","v":"-"},1,{"$f":"IF(B42=data!$A$36,IF(K42=data!$A$26,1,0),0)","v":0},{"$f":"IF(B42=data!$A$36,IF(K42=data!$A$27,1,0),0)","v":0},{"$f":"IF(B42=data!$A$37,IF(K42=data!$A$26,1,0),0)","v":0},{"$f":"IF(B42=data!$A$37,IF(K42=data!$A$27,1,0),0)","v":0},{"$f":"IF(B42=data!$A$38,IF(K42=data!$A$26,1,0),0)","v":0},{"$f":"IF(B42=data!$A$38,IF(K42=data!$A$27,1,0),0)","v":0},{"$f":"IF(B44=data!$A$39,IF(K44=data!$A$26,1,0),0)","v":0},{"$f":"IF(B44=data!$A$39,IF(K44=data!$A$27,1,0),0)","v":0},0]
[41,null,null,null,null,null,null,null,null,null,null,null,null,null,null,null,null,null,"I",{"$f":"P43-C43","v":0},{"$f":"IF(K43=data!$A$26,P43-$E$1,\"-\")","v":"-"},1,{"$f":"IF(B43=data!$A$36,IF(K43=data!$A$26,1,0),0)","v":0},{"$f":"IF(B43=data!$A$36,IF(K43=data!$A$27,1,0),0)","v":0},{"$f":"IF(B43=data!$A$37,IF(K43=data!$A$26,1,0),0)","v":0},{"$f":"IF(B43=data!$A$37,IF(K43=data!$A$27,1,0),0)","v":0},{"$f":"IF(B43=data!$A$38,IF(K43=data!$A$26,1,0),0)","v":0},{"$f":"IF(B43=data!$A$38,IF(K43=data!$A$27,1,0),0)","v":0},{"$f":"IF(B45=data!$A$39,IF(K45=data!$A$26,1,0),0)","v":0},{"$f":"IF(B45=data!$A$39,IF(K45=data!$A$27,1,0),0)","v":0},0]
[42,null,null,null,null,null,null,null,null,null,null,null,null,null,null,null,null,null,"I",{"$f":"P44-C44","v":0},{"$f":"IF(K44=data!$A$26,P44-$E$1,\"-\")","v":"-"},1,{"$f":"IF(B44=data!$A$36,IF(K44=data!$A$26,1,0),0)","v":0},{"$f":"IF(B44=data!$A$36,IF(K44=data!$A$27,1,0),0)","v":0},{"$f":"IF(B44=data!$A$37,IF(K44=data!$A$26,1,0),0)","v":0},{"$f":"IF(B44=data!$A$37,IF(K44=data!$A$27,1,0),0)","v":0},{"$f":"IF(B44=data!$A$38,IF(K44=data!$A$26,1,0),0)","v":0},{"$f":"IF(B44=data!$A$38,IF(K44=data!$A$27,1,0),0)","v":0},{"$f":"IF(B46=data!$A$39,IF(K46=data!$A$26,1,0),0)","v":0},{"$f":"IF(B46=data!$A$39,IF(K46=data!$A$27,1,0),0)","v":0},0]
[43,null,null,null,null,null,null,null,null,null,null,null,null,null,null,null,null,null,"I",{"$f":"P45-C45","v":0},{"$f":"IF(K45=data!$A$26,P45-$E$1,\"-\")","v":"-"},1,{"$f":"IF(B45=data!$A$36,IF(K45=data!$A$26,1,0),0)","v":0},{"$f":"IF(B45=data!$A$36,IF(K45=data!$A$27,1,0),0)","v":0},{"$f":"IF(B45=data!$A$37,IF(K45=data!$A$26,1,0),0)","v":0},{"$f":"IF(B45=data!$A$37,IF(K45=data!$A$27,1,0),0)","v":0},{"$f":"IF(B45=data!$A$38,IF(K45=data!$A$26,1,0),0)","v":0},{"$f":"IF(B45=data!$A$38,IF(K45=data!$A$27,1,0),0)","v":0},{"$f":"IF(B47=data!$A$39,IF(K47=data!$A$26,1,0),0)","v":0},{"$f":"IF(B47=data!$A$39,IF(K47=data!$A$27,1,0),0)","v":0},0]
[44,null,null,null,null,null,null,null,null,null,null,null,null,null,null,null,null,null,"I",{"$f":"P46-C46","v":0},{"$f":"IF(K46=data!$A$26,P46-$E$1,\"-\")","v":"-"},1,{"$f":"IF(B46=data!$A$36,IF(K46=data!$A$26,1,0),0)","v":0},{"$f":"IF(B46=data!$A$36,IF(K46=data!$A$27,1,0),0)","v":0},{"$f":"IF(B46=data!$A$37,IF(K46=data!$A$26,1,0),0)","v":0},{"$f":"IF(B46=data!$A$37,IF(K46=data!$A$27,1,0),0)","v":0},{"$f":"IF(B46=data!$A$38,IF(K46=data!$A$26,1,0),0)","v":0},{"$f":"IF(B46=data!$A$38,IF(K46=data!$A$27,1,0),0)","v":0},{"$f":"IF(B48=data!$A$39,IF(K48=data!$A$26,1,0),0)","v":0},{"$f":"IF(B48=data!$A$39,IF(K48=data!$A$27,1,0),0)","v":0},0]
[45,null,null,null,null,null,null,null,null,null,null,null,null,null,null,null,null,null,"I",{"$f":"P47-C47","v":0},{"$f":"IF(K47=data!$A$26,P47-$E$1,\"-\")","v":"-"},1,{"$f":"IF(B47=data!$A$36,IF(K47=data!$A$26,1,0),0)","v":0},{"$f":"IF(B47=data!$A$36,IF(K47=data!$A$27,1,0),0)","v":0},{"$f":"IF(B47=data!$A$37,IF(K47=data!$A$26,1,0),0)","v":0},{"$f":"IF(B47=data!$A$37,IF(K47=data!$A$27,1,0),0)","v":0},{"$f":"IF(B47=data!$A$38,IF(K47=data!$A$26,1,0),0)","v":0},{"$f":"IF(B47=data!$A$38,IF(K47=data!$A$27,1,0),0)","v":0},{"$f":"IF(B49=data!$A$39,IF(K49=data!$A$26,1,0),0)","v":0},{"$f":"IF(B49=data!$A$39,IF(K49=data!$A$27,1,0),0)","v":0},0]
[46,null,null,null,null,null,null,null,null,null,null,null,null,null,null,null,null,null,"I",{"$f":"P48-C48","v":0},{"$f":"IF(K48=data!$A$26,P48-$E$1,\"-\")","v":"-"},1,{"$f":"IF(B48=data!$A$36,IF(K48=data!$A$26,1,0),0)","v":0},{"$f":"IF(B48=data!$A$36,IF(K48=data!$A$27,1,0),0)","v":0},{"$f":"IF(B48=data!$A$37,IF(K48=data!$A$26,1,0),0)","v":0},{"$f":"IF(B48=data!$A$37,IF(K48=data!$A$27,1,0),0)","v":0},{"$f":"IF(B48=data!$A$38,IF(K48=data!$A$26,1,0),0)","v":0},{"$f":"IF(B48=data!$A$38,IF(K48=data!$A$27,1,0),0)","v":0},{"$f":"IF(B50=data!$A$39,IF(K50=data!$A$26,1,0),0)","v":0},{"$f":"IF(B50=data!$A$39,IF(K50=data!$A$27,1,0),0)","v":0},0]
[47,null,null,null,null,null,null,null,null,null,null,null,null,null,null,null,null,null,"I",{"$f":"P49-C49","v":0},{"$f":"IF(K49=data!$A$26,P49-$E$1,\"-\")","v":"-"},1,{"$f":"IF(B49=data!$A$36,IF(K49=data!$A$26,1,0),0)","v":0},{"$f":"IF(B49=data!$A$36,IF(K49=data!$A$27,1,0),0)","v":0},{"$f":"IF(B49=data!$A$37,IF(K49=data!$A$26,1,0),0)","v":0},{"$f":"IF(B49=data!$A$37,IF(K49=data!$A$27,1,0),0)","v":0},{"$f":"IF(B49=data!$A$38,IF(K49=data!$A$26,1,0),0)","v":0},{"$f":"IF(B49=data!$A$38,IF(K49=data!$A$27,1,0),0)","v":0},{"$f":"IF(B51=data!$A$39,IF(K51=data!$A$26,1,0),0)","v":0},{"$f":"IF(B51=data!$A$39,IF(K51=data!$A$27,1,0),0)","v":0},0]
[48,null,null,null,null,null,null,null,null,null,null,null,null,null,null,null,null,null,"I",{"$f":"P50-C50","v":0},{"$f":"IF(K50=data!$A$26,P50-$E$1,\"-\")","v":"-"},1,{"$f":"IF(B50=data!$A$36,IF(K50=data!$A$26,1,0),0)","v":0},{"$f":"IF(B50=data!$A$36,IF(K50=data!$A$27,1,0),0)","v":0},{"$f":"IF(B50=data!$A$37,IF(K50=data!$A$26,1,0),0)","v":0},{"$f":"IF(B50=data!$A$37,IF(K50=data!$A$27,1,0),0)","v":0},{"$f":"IF(B50=data!$A$38,IF(K50=data!$A$26,1,0),0)","v":0},{"$f":"IF(B50=data!$A$38,IF(K50=data!$A$27,1,0),0)","v":0},{"$f":"IF(B52=data!$A$39,IF(K52=data!$A$26,1,0),0)","v":0},{"$f":"IF(B52=data!$A$39,IF(K52=data!$A$27,1,0),0)","v":0},0]
[49,null,null,null,null,null,null,null,null,null,null,null,null,null,null,null,null,null,"I",{"$f":"P51-C51","v":0},{"$f":"IF(K51=data!$A$26,P51-$E$1,\"-\")","v":"-"},1,{"$f":"IF(B51=data!$A$36,IF(K51=data!$A$26,1,0),0)","v":0},{"$f":"IF(B51=data!$A$36,IF(K51=data!$A$27,1,0),0)","v":0},{"$f":"IF(B51=data!$A$37,IF(K51=data!$A$26,1,0),0)","v":0},{"$f":"IF(B51=data!$A$37,IF(K51=data!$A$27,1,0),0)","v":0},{"$f":"IF(B51=data!$A$38,IF(K51=data!$A$26,1,0),0)","v":0},{"$f":"IF(B51=data!$A$38,IF(K51=data!$A$27,1,0),0)","v":0},{"$f":"IF(B53=data!$A$39,IF(K53=data!$A$26,1,0),0)","v":0},{"$f":"IF(B53=data!$A$39,IF(K53=data!$A$27,1,0),0)","v":0},0]
[50,null,null,null,null,null,null,null,null,null,null,null,null,null,null,null,null,null,"I",{"$f":"P52-C52","v":0},{"$f":"IF(K52=data!$A$26,P52-$E$1,\"-\")","v":"-"},1,{"$f":"IF(B52=data!$A$36,IF(K52=data!$A$26,1,0),0)","v":0},{"$f":"IF(B52=data!$A$36,IF(K52=data!$A$27,1,0),0)","v":0},{"$f":"IF(B52=data!$A$37,IF(K52=data!$A$26,1,0),0)","v":0},{"$f":"IF(B52=data!$A$37,IF(K52=data!$A$27,1,0),0)","v":0},{"$f":"IF(B52=data!$A$38,IF(K52=data!$A$26,1,0),0)","v":0},{"$f":"IF(B52=data!$A$38,IF(K52=data!$A$27,1,0),0)","v":0},{"$f":"IF(B54=data!$A$39,IF(K54=data!$A$26,1,0),0)","v":0},{"$f":"IF(B54=data!$A$39,IF(K54=data!$A$27,1,0),0)","v":0},0]
[51,null,null,null,null,null,null,null,null,null,null,null,null,null,null,null,null,null,"I",{"$f":"P53-C53","v":0},{"$f":"IF(K53=data!$A$26,P53-$E$1,\"-\")","v":"-"},1,{"$f":"IF(B53=data!$A$36,IF(K53=data!$A$26,1,0),0)","v":0},{"$f":"IF(B53=data!$A$36,IF(K53=data!$A$27,1,0),0)","v":0},{"$f":"IF(B53=data!$A$37,IF(K53=data!$A$26,1,0),0)","v":0},{"$f":"IF(B53=data!$A$37,IF(K53=data!$A$27,1,0),0)","v":0},{"$f":"IF(B53=data!$A$38,IF(K53=data!$A$26,1,0),0)","v":0},{"$f":"IF(B53=data!$A$38,IF(K53=data!$A$27,1,0),0)","v":0},{"$f":"IF(B55=data!$A$39,IF(K55=data!$A$26,1,0),0)","v":0},{"$f":"IF(B55=data!$A$39,IF(K55=data!$A$27,1,0),0)","v":0},0]
[52,null,null,null,null,null,null,null,null,null,null,null,null,null,null,null,null,null,"I",{"$f":"P54-C54","v":0},{"$f":"IF(K54=data!$A$26,P54-$E$1,\"-\")","v":"-"},1,{"$f":"IF(B54=data!$A$36,IF(K54=data!$A$26,1,0),0)","v":0},{"$f":"IF(B54=data!$A$36,IF(K54=data!$A$27,1,0),0)","v":0},{"$f":"IF(B54=data!$A$37,IF(K54=data!$A$26,1,0),0)","v":0},{"$f":"IF(B54=data!$A$37,IF(K54=data!$A$27,1,0),0)","v":0},{"$f":"IF(B54=data!$A$38,IF(K54=data!$A$26,1,0),0)","v":0},{"$f":"IF(B54=data!$A$38,IF(K54=data!$A$27,1,0),0)","v":0},{"$f":"IF(B56=data!$A$39,IF(K56=data!$A$26,1,0),0)","v":0},{"$f":"IF(B56=data!$A$39,IF(K56=data!$A$27,1,0),0)","v":0},0]
[53,null,null,null,null,null,null,null,null,null,null,null,null,null,null,null,null,null,"I",{"$f":"P55-C55","v":0},{"$f":"IF(K55=data!$A$26,P55-$E$1,\"-\")","v":"-"},1,{"$f":"IF(B55=data!$A$36,IF(K55=data!$A$26,1,0),0)","v":0},{"$f":"IF(B55=data!$A$36,IF(K55=data!$A$27,1,0),0)","v":0},{"$f":"IF(B55=data!$A$37,IF(K55=data!$A$26,1,0),0)","v":0},{"$f":"IF(B55=data!$A$37,IF(K55=data!$A$27,1,0),0)","v":0},{"$f":"IF(B55=data!$A$38,IF(K55=data!$A$26,1,0),0)","v":0},{"$f":"IF(B55=data!$A$38,IF(K55=data!$A$27,1,0),0)","v":0},{"$f":"IF(B57=data!$A$39,IF(K57=data!$A$26,1,0),0)","v":0},{"$f":"IF(B57=data!$A$39,IF(K57=data!$A$27,1,0),0)","v":0},0]
[54,null,null,null,null,null,null,null,null,null,null,null,null,null,null,null,null,null,"I",{"$f":"P56-C56","v":0},{"$f":"IF(K56=data!$A$26,P56-$E$1,\"-\")","v":"-"},1,{"$f":"IF(B56=data!$A$36,IF(K56=data!$A$26,1,0),0)","v":0},{"$f":"IF(B56=data!$A$36,IF(K56=data!$A$27,1,0),0)","v":0},{"$f":"IF(B56=data!$A$37,IF(K56=data!$A$26,1,0),0)","v":0},{"$f":"IF(B56=data!$A$37,IF(K56=data!$A$27,1,0),0)","v":0},{"$f":"IF(B56=data!$A$38,IF(K56=data!$A$26,1,0),0)","v":0},{"$f":"IF(B56=data!$A$38,IF(K56=data!$A$27,1,0),0)","v":0},{"$f":"IF(B58=data!$A$39,IF(K58=data!$A$26,1,0),0)","v":0},{"$f":"IF(B58=data!$A$39,IF(K58=data!$A$27,1,0),0)","v":0},0]
[55,null,null,null,null,null,null,null,null,null,null,null,null,null,null,null,null,null,"I",{"$f":"P57-C57","v":0},{"$f":"IF(K57=data!$A$26,P57-$E$1,\"-\")","v":"-"},1,{"$f":"IF(B57=data!$A$36,IF(K57=data!$A$26,1,0),0)","v":0},{"$f":"IF(B57=data!$A$36,IF(K57=data!$A$27,1,0),0)","v":0},{"$f":"IF(B57=data!$A$37,IF(K57=data!$A$26,1,0),0)","v":0},{"$f":"IF(B57=data!$A$37,IF(K57=data!$A$27,1,0),0)","v":0},{"$f":"IF(B57=data!$A$38,IF(K57=data!$A$26,1,0),0)","v":0},{"$f":"IF(B57=data!$A$38,IF(K57=data!$A$27,1,0),0)","v":0},{"$f":"IF(B59=data!$A$39,IF(K59=data!$A$26,1,0),0)","v":0},{"$f":"IF(B59=data!$A$39,IF(K59=data!$A$27,1,0),0)","v":0},0]
[56,null,null,null,null,null,null,null,null,null,null,null,null,null,null,null,null,null,"I",{"$f":"P58-C58","v":0},{"$f":"IF(K58=data!$A$26,P58-$E$1,\"-\")","v":"-"},1,{"$f":"IF(B58=data!$A$36,IF(K58=data!$A$26,1,0),0)","v":0},{"$f":"IF(B58=data!$A$36,IF(K58=data!$A$27,1,0),0)","v":0},{"$f":"IF(B58=data!$A$37,IF(K58=data!$A$26,1,0),0)","v":0},{"$f":"IF(B58=data!$A$37,IF(K58=data!$A$27,1,0),0)","v":0},{"$f":"IF(B58=data!$A$38,IF(K58=data!$A$26,1,0),0)","v":0},{"$f":"IF(B58=data!$A$38,IF(K58=data!$A$27,1,0),0)","v":0},{"$f":"IF(B60=data!$A$39,IF(K60=data!$A$26,1,0),0)","v":0},{"$f":"IF(B60=data!$A$39,IF(K60=data!$A$27,1,0),0)","v":0},0]
[57,null,null,null,null,null,null,null,null,null,null,null,null,null,null,null,null,null,"I",{"$f":"P59-C59","v":0},{"$f":"IF(K59=data!$A$26,P59-$E$1,\"-\")","v":"-"},1,{"$f":"IF(B59=data!$A$36,IF(K59=data!$A$26,1,0),0)","v":0},{"$f":"IF(B59=data!$A$36,IF(K59=data!$A$27,1,0),0)","v":0},{"$f":"IF(B59=data!$A$37,IF(K59=data!$A$26,1,0),0)","v":0},{"$f":"IF(B59=data!$A$37,IF(K59=data!$A$27,1,0),0)","v":0},{"$f":"IF(B59=data!$A$38,IF(K59=data!$A$26,1,0),0)","v":0},{"$f":"IF(B59=data!$A$38,IF(K59=data!$A$27,1,0),0)","v":0},{"$f":"IF(B61=data!$A$39,IF(K61=data!$A$26,1,0),0)","v":0},{"$f":"IF(B61=data!$A$39,IF(K61=data!$A$27,1,0),0)","v":0},0]
[58,null,null,null,null,null,null,null,null,null,null,null,null,null,null,null,null,null,"I",{"$f":"P60-C60","v":0},{"$f":"IF(K60=data!$A$26,P60-$E$1,\"-\")","v":"-"},1,{"$f":"IF(B60=data!$A$36,IF(K60=data!$A$26,1,0),0)","v":0},{"$f":"IF(B60=data!$A$36,IF(K60=data!$A$27,1,0),0)","v":0},{"$f":"IF(B60=data!$A$37,IF(K60=data!$A$26,1,0),0)","v":0},{"$f":"IF(B60=data!$A$37,IF(K60=data!$A$27,1,0),0)","v":0},{"$f":"IF(B60=data!$A$38,IF(K60=data!$A$26,1,0),0)","v":0},{"$f":"IF(B60=data!$A$38,IF(K60=data!$A$27,1,0),0)","v":0},{"$f":"IF(B62=data!$A$39,IF(K62=data!$A$26,1,0),0)","v":0},{"$f":"IF(B62=data!$A$39,IF(K62=data!$A$27,1,0),0)","v":0},0]
[59,null,null,null,null,null,null,null,null,null,null,null,null,null,null,null,null,null,"I",{"$f":"P61-C61","v":0},{"$f":"IF(K61=data!$A$26,P61-$E$1,\"-\")","v":"-"},1,{"$f":"IF(B61=data!$A$36,IF(K61=data!$A$26,1,0),0)","v":0},{"$f":"IF(B61=data!$A$36,IF(K61=data!$A$27,1,0),0)","v":0},{"$f":"IF(B61=data!$A$37,IF(K61=data!$A$26,1,0),0)","v":0},{"$f":"IF(B61=data!$A$37,IF(K61=data!$A$27,1,0),0)","v":0},{"$f":"IF(B61=data!$A$38,IF(K61=data!$A$26,1,0),0)","v":0},{"$f":"IF(B61=data!$A$38,IF(K61=data!$A$27,1,0),0)","v":0},{"$f":"IF(B63=data!$A$39,IF(K63=data!$A$26,1,0),0)","v":0},{"$f":"IF(B63=data!$A$39,IF(K63=data!$A$27,1,0),0)","v":0},0]
[60,null,null,null,null,null,null,null,null,null,null,null,null,null,null,null,null,null,"I",{"$f":"P62-C62","v":0},{"$f":"IF(K62=data!$A$26,P62-$E$1,\"-\")","v":"-"},1,{"$f":"IF(B62=data!$A$36,IF(K62=data!$A$26,1,0),0)","v":0},{"$f":"IF(B62=data!$A$36,IF(K62=data!$A$27,1,0),0)","v":0},{"$f":"IF(B62=data!$A$37,IF(K62=data!$A$26,1,0),0)","v":0},{"$f":"IF(B62=data!$A$37,IF(K62=data!$A$27,1,0),0)","v":0},{"$f":"IF(B62=data!$A$38,IF(K62=data!$A$26,1,0),0)","v":0},{"$f":"IF(B62=data!$A$38,IF(K62=data!$A$27,1,0),0)","v":0},{"$f":"IF(B64=data!$A$39,IF(K64=data!$A$26,1,0),0)","v":0},{"$f":"IF(B64=data!$A$39,IF(K64=data!$A$27,1,0),0)","v":0},0]
[61,null,null,null,null,null,null,null,null,null,null,null,null,null,null,null,null,null,"I",{"$f":"P63-C63","v":0},{"$f":"IF(K63=data!$A$26,P63-$E$1,\"-\")","v":"-"},1,{"$f":"IF(B63=data!$A$36,IF(K63=data!$A$26,1,0),0)","v":0},{"$f":"IF(B63=data!$A$36,IF(K63=data!$A$27,1,0),0)","v":0},{"$f":"IF(B63=data!$A$37,IF(K63=data!$A$26,1,0),0)","v":0},{"$f":"IF(B63=data!$A$37,IF(K63=data!$A$27,1,0),0)","v":0},{"$f":"IF(B63=data!$A$38,IF(K63=data!$A$26,1,0),0)","v":0},{"$f":"IF(B63=data!$A$38,IF(K63=data!$A$27,1,0),0)","v":0},{"$f":"IF(B65=data!$A$39,IF(K65=data!$A$26,1,0),0)","v":0},{"$f":"IF(B65=data!$A$39,IF(K65=data!$A$27,1,0),0)","v":0},0]
[62,null,null,null,null,null,null,null,null,null,null,null,null,null,null,null,null,null,"I",{"$f":"P64-C64","v":0},{"$f":"IF(K64=data!$A$26,P64-$E$1,\"-\")","v":"-"},1,{"$f":"IF(B64=data!$A$36,IF(K64=data!$A$26,1,0),0)","v":0},{"$f":"IF(B64=data!$A$36,IF(K64=data!$A$27,1,0),0)","v":0},{"$f":"IF(B64=data!$A$37,IF(K64=data!$A$26,1,0),0)","v":0},{"$f":"IF(B64=data!$A$37,IF(K64=data!$A$27,1,0),0)","v":0},{"$f":"IF(B64=data!$A$38,IF(K64=data!$A$26,1,0),0)","v":0},{"$f":"IF(B64=data!$A$38,IF(K64=data!$A$27,1,0),0)","v":0},{"$f":"IF(B66=data!$A$39,IF(K66=data!$A$26,1,0),0)","v":0},{"$f":"IF(B66=data!$A$39,IF(K66=data!$A$27,1,0),0)","v":0},0]
[63,null,null,null,null,null,null,null,null,null,null,null,null,null,null,null,null,null,"I",{"$f":"P65-C65","v":0},{"$f":"IF(K65=data!$A$26,P65-$E$1,\"-\")","v":"-"},1,{"$f":"IF(B65=data!$A$36,IF(K65=data!$A$26,1,0),0)","v":0},{"$f":"IF(B65=data!$A$36,IF(K65=data!$A$27,1,0),0)","v":0},{"$f":"IF(B65=data!$A$37,IF(K65=data!$A$26,1,0),0)","v":0},{"$f":"IF(B65=data!$A$37,IF(K65=data!$A$27,1,0),0)","v":0},{"$f":"IF(B65=data!$A$38,IF(K65=data!$A$26,1,0),0)","v":0},{"$f":"IF(B65=data!$A$38,IF(K65=data!$A$27,1,0),0)","v":0},{"$f":"IF(B67=data!$A$39,IF(K67=data!$A$26,1,0),0)","v":0},{"$f":"IF(B67=data!$A$39,IF(K67=data!$A$27,1,0),0)","v":0},0]
[64,null,null,null,null,null,null,null,null,null,null,null,null,null,null,null,null,null,"I",{"$f":"P66-C66","v":0},{"$f":"IF(K66=data!$A$26,P66-$E$1,\"-\")","v":"-"},1,{"$f":"IF(B66=data!$A$36,IF(K66=data!$A$26,1,0),0)","v":0},{"$f":"IF(B66=data!$A$36,IF(K66=data!$A$27,1,0),0)","v":0},{"$f":"IF(B66=data!$A$37,IF(K66=data!$A$26,1,0),0)","v":0},{"$f":"IF(B66=data!$A$37,IF(K66=data!$A$27,1,0),0)","v":0},{"$f":"IF(B66=data!$A$38,IF(K66=data!$A$26,1,0),0)","v":0},{"$f":"IF(B66=data!$A$38,IF(K66=data!$A$27,1,0),0)","v":0},{"$f":"IF(B68=data!$A$39,IF(K68=data!$A$26,1,0),0)","v":0},{"$f":"IF(B68=data!$A$39,IF(K68=data!$A$27,1,0),0)","v":0},0]
[65,null,null,null,null,null,null,null,null,null,null,null,null,null,null,null,null,null,"I",{"$f":"P67-C67","v":0},{"$f":"IF(K67=data!$A$26,P67-$E$1,\"-\")","v":"-"},1,{"$f":"IF(B67=data!$A$36,IF(K67=data!$A$26,1,0),0)","v":0},{"$f":"IF(B67=data!$A$36,IF(K67=data!$A$27,1,0),0)","v":0},{"$f":"IF(B67=data!$A$37,IF(K67=data!$A$26,1,0),0)","v":0},{"$f":"IF(B67=data!$A$37,IF(K67=data!$A$27,1,0),0)","v":0},{"$f":"IF(B67=data!$A$38,IF(K67=data!$A$26,1,0),0)","v":0},{"$f":"IF(B67=data!$A$38,IF(K67=data!$A$27,1,0),0)","v":0},{"$f":"IF(B69=data!$A$39,IF(K69=data!$A$26,1,0),0)","v":0},{"$f":"IF(B69=data!$A$39,IF(K69=data!$A$27,1,0),0)","v":0},{"$f":"IF(U67<0,1,0)","v":0}]
[66,null,null,null,null,null,null,null,null,null,null,null,null,null,null,null,null,null,"I",{"$f":"P68-C68","v":0},{"$f":"IF(K68=data!$A$26,P68-$E$1,\"-\")","v":"-"},1,{"$f":"IF(B68=data!$A$36,IF(K68=data!$A$26,1,0),0)","v":0},{"$f":"IF(B68=data!$A$36,IF(K68=data!$A$27,1,0),0)","v":0},{"$f":"IF(B68=data!$A$37,IF(K68=data!$A$26,1,0),0)","v":0},{"$f":"IF(B68=data!$A$37,IF(K68=data!$A$27,1,0),0)","v":0},{"$f":"IF(B68=data!$A$38,IF(K68=data!$A$26,1,0),0)","v":0},{"$f":"IF(B68=data!$A$38,IF(K68=data!$A$27,1,0),0)","v":0},{"$f":"IF(B70=data!$A$39,IF(K70=data!$A$26,1,0),0)","v":0},{"$f":"IF(B70=data!$A$39,IF(K70=data!$A$27,1,0),0)","v":0},0]
[67,null,null,null,null,null,null,null,null,null,null,null,null,null,null,null,null,null,"I",{"$f":"P69-C69","v":0},{"$f":"IF(K69=data!$A$26,P69-$E$1,\"-\")","v":"-"},1,{"$f":"IF(B69=data!$A$36,IF(K69=data!$A$26,1,0),0)","v":0},{"$f":"IF(B69=data!$A$36,IF(K69=data!$A$27,1,0),0)","v":0},{"$f":"IF(B69=data!$A$37,IF(K69=data!$A$26,1,0),0)","v":0},{"$f":"IF(B69=data!$A$37,IF(K69=data!$A$27,1,0),0)","v":0},{"$f":"IF(B69=data!$A$38,IF(K69=data!$A$26,1,0),0)","v":0},{"$f":"IF(B69=data!$A$38,IF(K69=data!$A$27,1,0),0)","v":0},{"$f":"IF(B71=data!$A$39,IF(K71=data!$A$26,1,0),0)","v":0},{"$f":"IF(B71=data!$A$39,IF(K71=data!$A$27,1,0),0)","v":0},0]
[68,null,null,null,null,null,null,null,null,null,null,null,null,null,null,null,null,null,"I",{"$f":"P70-C70","v":0},{"$f":"IF(K70=data!$A$26,P70-$E$1,\"-\")","v":"-"},1,{"$f":"IF(B70=data!$A$36,IF(K70=data!$A$26,1,0),0)","v":0},{"$f":"IF(B70=data!$A$36,IF(K70=data!$A$27,1,0),0)","v":0},{"$f":"IF(B70=data!$A$37,IF(K70=data!$A$26,1,0),0)","v":0},{"$f":"IF(B70=data!$A$37,IF(K70=data!$A$27,1,0),0)","v":0},{"$f":"IF(B70=data!$A$38,IF(K70=data!$A$26,1,0),0)","v":0},{"$f":"IF(B70=data!$A$38,IF(K70=data!$A$27,1,0),0)","v":0},{"$f":"IF(B72=data!$A$39,IF(K72=data!$A$26,1,0),0)","v":0},{"$f":"IF(B72=data!$A$39,IF(K72=data!$A$27,1,0),0)","v":0},0]
[69,null,null,null,null,null,null,null,null,null,null,null,null,null,null,null,null,null,"I",{"$f":"P71-C71","v":0},{"$f":"IF(K71=data!$A$26,P71-$E$1,\"-\")","v":"-"},1,{"$f":"IF(B71=data!$A$36,IF(K71=data!$A$26,1,0),0)","v":0},{"$f":"IF(B71=data!$A$36,IF(K71=data!$A$27,1,0),0)","v":0},{"$f":"IF(B71=data!$A$37,IF(K71=data!$A$26,1,0),0)","v":0},{"$f":"IF(B71=data!$A$37,IF(K71=data!$A$27,1,0),0)","v":0},{"$f":"IF(B71=data!$A$38,IF(K71=data!$A$26,1,0),0)","v":0},{"$f":"IF(B71=data!$A$38,IF(K71=data!$A$27,1,0),0)","v":0},{"$f":"IF(B73=data!$A$39,IF(K73=data!$A$26,1,0),0)","v":0},{"$f":"IF(B73=data!$A$39,IF(K73=data!$A$27,1,0),0)","v":0},0]
[70,null,null,null,null,null,null,null,null,null,null,null,null,null,null,null,null,null,"I",{"$f":"P72-C72","v":0},{"$f":"IF(K72=data!$A$26,P72-$E$1,\"-\")","v":"-"},1,{"$f":"IF(B72=data!$A$36,IF(K72=data!$A$26,1,0),0)","v":0},{"$f":"IF(B72=data!$A$36,IF(K72=data!$A$27,1,0),0)","v":0},{"$f":"IF(B72=data!$A$37,IF(K72=data!$A$26,1,0),0)","v":0},{"$f":"IF(B72=data!$A$37,IF(K72=data!$A$27,1,0),0)","v":0},{"$f":"IF(B72=data!$A$38,IF(K72=data!$A$26,1,0),0)","v":0},{"$f":"IF(B72=data!$A$38,IF(K72=data!$A$27,1,0),0)","v":0},{"$f":"IF(B74=data!$A$39,IF(K74=data!$A$26,1,0),0)","v":0},{"$f":"IF(B74=data!$A$39,IF(K74=data!$A$27,1,0),0)","v":0},0]
[71,null,null,null,null,null,null,null,null,null,null,null,null,null,null,null,null,null,"I",{"$f":"P73-C73","v":0},{"$f":"IF(K73=data!$A$26,P73-$E$1,\"-\")","v":"-"},1,{"$f":"IF(B73=data!$A$36,IF(K73=data!$A$26,1,0),0)","v":0},{"$f":"IF(B73=data!$A$36,IF(K73=data!$A$27,1,0),0)","v":0},{"$f":"IF(B73=data!$A$37,IF(K73=data!$A$26,1,0),0)","v":0},{"$f":"IF(B73=data!$A$37,IF(K73=data!$A$27,1,0),0)","v":0},{"$f":"IF(B73=data!$A$38,IF(K73=data!$A$26,1,0),0)","v":0},{"$f":"IF(B73=data!$A$38,IF(K73=data!$A$27,1,0),0)","v":0},{"$f":"IF(B75=data!$A$39,IF(K75=data!$A$26,1,0),0)","v":0},{"$f":"IF(B75=data!$A$39,IF(K75=data!$A$27,1,0),0)","v":0},0]
[72,null,null,null,null,null,null,null,null,null,null,null,null,null,null,null,null,null,"I",{"$f":"P74-C74","v":0},{"$f":"IF(K74=data!$A$26,P74-$E$1,\"-\")","v":"-"},1,{"$f":"IF(B74=data!$A$36,IF(K74=data!$A$26,1,0),0)","v":0},{"$f":"IF(B74=data!$A$36,IF(K74=data!$A$27,1,0),0)","v":0},{"$f":"IF(B74=data!$A$37,IF(K74=data!$A$26,1,0),0)","v":0},{"$f":"IF(B74=data!$A$37,IF(K74=data!$A$27,1,0),0)","v":0},{"$f":"IF(B74=data!$A$38,IF(K74=data!$A$26,1,0),0)","v":0},{"$f":"IF(B74=data!$A$38,IF(K74=data!$A$27,1,0),0)","v":0},{"$f":"IF(B76=data!$A$39,IF(K76=data!$A$26,1,0),0)","v":0},{"$f":"IF(B76=data!$A$39,IF(K76=data!$A$27,1,0),0)","v":0},0]
[73,null,null,null,null,null,null,null,null,null,null,null,null,null,null,null,null,null,"I",{"$f":"P75-C75","v":0},{"$f":"IF(K75=data!$A$26,P75-$E$1,\"-\")","v":"-"},1,{"$f":"IF(B75=data!$A$36,IF(K75=data!$A$26,1,0),0)","v":0},{"$f":"IF(B75=data!$A$36,IF(K75=data!$A$27,1,0),0)","v":0},{"$f":"IF(B75=data!$A$37,IF(K75=data!$A$26,1,0),0)","v":0},{"$f":"IF(B75=data!$A$37,IF(K75=data!$A$27,1,0),0)","v":0},{"$f":"IF(B75=data!$A$38,IF(K75=data!$A$26,1,0),0)","v":0},{"$f":"IF(B75=data!$A$38,IF(K75=data!$A$27,1,0),0)","v":0},{"$f":"IF(B77=data!$A$39,IF(K77=data!$A$26,1,0),0)","v":0},{"$f":"IF(B77=data!$A$39,IF(K77=data!$A$27,1,0),0)","v":0},0]
[74,null,null,null,null,null,null,null,null,null,null,null,null,null,null,null,null,null,"I",{"$f":"P76-C76","v":0},{"$f":"IF(K76=data!$A$26,P76-$E$1,\"-\")","v":"-"},1,{"$f":"IF(B76=data!$A$36,IF(K76=data!$A$26,1,0),0)","v":0},{"$f":"IF(B76=data!$A$36,IF(K76=data!$A$27,1,0),0)","v":0},{"$f":"IF(B76=data!$A$37,IF(K76=data!$A$26,1,0),0)","v":0},{"$f":"IF(B76=data!$A$37,IF(K76=data!$A$27,1,0),0)","v":0},{"$f":"IF(B76=data!$A$38,IF(K76=data!$A$26,1,0),0)","v":0},{"$f":"IF(B76=data!$A$38,IF(K76=data!$A$27,1,0),0)","v":0},{"$f":"IF(B78=data!$A$39,IF(K78=data!$A$26,1,0),0)","v":0},{"$f":"IF(B78=data!$A$39,IF(K78=data!$A$27,1,0),0)","v":0},0]
[75,null,null,null,null,null,null,null,null,null,null,null,null,null,null,null,null,null,"I",{"$f":"P77-C77","v":0},{"$f":"IF(K77=data!$A$26,P77-$E$1,\"-\")","v":"-"},1,{"$f":"IF(B77=data!$A$36,IF(K77=data!$A$26,1,0),0)","v":0},{"$f":"IF(B77=data!$A$36,IF(K77=data!$A$27,1,0),0)","v":0},{"$f":"IF(B77=data!$A$37,IF(K77=data!$A$26,1,0),0)","v":0},{"$f":"IF(B77=data!$A$37,IF(K77=data!$A$27,1,0),0)","v":0},{"$f":"IF(B77=data!$A$38,IF(K77=data!$A$26,1,0),0)","v":0},{"$f":"IF(B77=data!$A$38,IF(K77=data!$A$27,1,0),0)","v":0},{"$f":"IF(B79=data!$A$39,IF(K79=data!$A$26,1,0),0)","v":0},{"$f":"IF(B79=data!$A$39,IF(K79=data!$A$27,1,0),0)","v":0},0]
[76,null,null,null,null,null,null,null,null,null,null,null,null,null,null,null,null,null,"I",{"$f":"P78-C78","v":0},{"$f":"IF(K78=data!$A$26,P78-$E$1,\"-\")","v":"-"},1,{"$f":"IF(B78=data!$A$36,IF(K78=data!$A$26,1,0),0)","v":0},{"$f":"IF(B78=data!$A$36,IF(K78=data!$A$27,1,0),0)","v":0},{"$f":"IF(B78=data!$A$37,IF(K78=data!$A$26,1,0),0)","v":0},{"$f":"IF(B78=data!$A$37,IF(K78=data!$A$27,1,0),0)","v":0},{"$f":"IF(B78=data!$A$38,IF(K78=data!$A$26,1,0),0)","v":0},{"$f":"IF(B78=data!$A$38,IF(K78=data!$A$27,1,0),0)","v":0},{"$f":"IF(B80=data!$A$39,IF(K80=data!$A$26,1,0),0)","v":0},{"$f":"IF(B80=data!$A$39,IF(K80=data!$A$27,1,0),0)","v":0},0]
[77,null,null,null,null,null,null,null,null,null,null,null,null,null,null,null,null,null,"I",{"$f":"P79-C79","v":0},{"$f":"IF(K79=data!$A$26,P79-$E$1,\"-\")","v":"-"},1,{"$f":"IF(B79=data!$A$36,IF(K79=data!$A$26,1,0),0)","v":0},{"$f":"IF(B79=data!$A$36,IF(K79=data!$A$27,1,0),0)","v":0},{"$f":"IF(B79=data!$A$37,IF(K79=data!$A$26,1,0),0)","v":0},{"$f":"IF(B79=data!$A$37,IF(K79=data!$A$27,1,0),0)","v":0},{"$f":"IF(B79=data!$A$38,IF(K79=data!$A$26,1,0),0)","v":0},{"$f":"IF(B79=data!$A$38,IF(K79=data!$A$27,1,0),0)","v":0},{"$f":"IF(B81=data!$A$39,IF(K81=data!$A$26,1,0),0)","v":0},{"$f":"IF(B81=data!$A$39,IF(K81=data!$A$27,1,0),0)","v":0},0]
[78,null,null,null,null,null,null,null,null,null,null,null,null,null,null,null,null,null,"I",{"$f":"P80-C80","v":0},{"$f":"IF(K80=data!$A$26,P80-$E$1,\"-\")","v":"-"},1,{"$f":"IF(B80=data!$A$36,IF(K80=data!$A$26,1,0),0)","v":0},{"$f":"IF(B80=data!$A$36,IF(K80=data!$A$27,1,0),0)","v":0},{"$f":"IF(B80=data!$A$37,IF(K80=data!$A$26,1,0),0)","v":0},{"$f":"IF(B80=data!$A$37,IF(K80=data!$A$27,1,0),0)","v":0},{"$f":"IF(B80=data!$A$38,IF(K80=data!$A$26,1,0),0)","v":0},{"$f":"IF(B80=data!$A$38,IF(K80=data!$A$27,1,0),0)","v":0},{"$f":"IF(B82=data!$A$39,IF(K82=data!$A$26,1,0),0)","v":0},{"$f":"IF(B82=data!$A$39,IF(K82=data!$A$27,1,0),0)","v":0},0]
[79,null,null,null,null,null,null,null,null,null,null,null,null,null,null,null,null,null,"I",{"$f":"P81-C81","v":0},{"$f":"IF(K81=data!$A$26,P81-$E$1,\"-\")","v":"-"},1,{"$f":"IF(B81=data!$A$36,IF(K81=data!$A$26,1,0),0)","v":0},{"$f":"IF(B81=data!$A$36,IF(K81=data!$A$27,1,0),0)","v":0},{"$f":"IF(B81=data!$A$37,IF(K81=data!$A$26,1,0),0)","v":0},{"$f":"IF(B81=data!$A$37,IF(K81=data!$A$27,1,0),0)","v":0},{"$f":"IF(B81=data!$A$38,IF(K81=data!$A$26,1,0),0)","v":0},{"$f":"IF(B81=data!$A$38,IF(K81=data!$A$27,1,0),0)","v":0},{"$f":"IF(B83=data!$A$39,IF(K83=data!$A$26,1,0),0)","v":0},{"$f":"IF(B83=data!$A$39,IF(K83=data!$A$27,1,0),0)","v":0},0]
[80,null,null,null,null,null,null,null,null,null,null,null,null,null,null,null,null,null,"I",{"$f":"P82-C82","v":0},{"$f":"IF(K82=data!$A$26,P82-$E$1,\"-\")","v":"-"},1,{"$f":"IF(B82=data!$A$36,IF(K82=data!$A$26,1,0),0)","v":0},{"$f":"IF(B82=data!$A$36,IF(K82=data!$A$27,1,0),0)","v":0},{"$f":"IF(B82=data!$A$37,IF(K82=data!$A$26,1,0),0)","v":0},{"$f":"IF(B82=data!$A$37,IF(K82=data!$A$27,1,0),0)","v":0},{"$f":"IF(B82=data!$A$38,IF(K82=data!$A$26,1,0),0)","v":0},{"$f":"IF(B82=data!$A$38,IF(K82=data!$A$27,1,0),0)","v":0},{"$f":"IF(B84=data!$A$39,IF(K84=data!$A$26,1,0),0)","v":0},{"$f":"IF(B84=data!$A$39,IF(K84=data!$A$27,1,0),0)","v":0},0]
[81,null,null,null,null,null,null,null,null,null,null,null,null,null,null,null,null,null,"I",{"$f":"P83-C83","v":0},{"$f":"IF(K83=data!$A$26,P83-$E$1,\"-\")","v":"-"},1,{"$f":"IF(B83=data!$A$36,IF(K83=data!$A$26,1,0),0)","v":0},{"$f":"IF(B83=data!$A$36,IF(K83=data!$A$27,1,0),0)","v":0},{"$f":"IF(B83=data!$A$37,IF(K83=data!$A$26,1,0),0)","v":0},{"$f":"IF(B83=data!$A$37,IF(K83=data!$A$27,1,0),0)","v":0},{"$f":"IF(B83=data!$A$38,IF(K83=data!$A$26,1,0),0)","v":0},{"$f":"IF(B83=data!$A$38,IF(K83=data!$A$27,1,0),0)","v":0},{"$f":"IF(B85=data!$A$39,IF(K85=data!$A$26,1,0),0)","v":0},{"$f":"IF(B85=data!$A$39,IF(K85=data!$A$27,1,0),0)","v":0},0]
[82,null,null,null,null,null,null,null,null,null,null,null,null,null,null,null,null,null,"I",{"$f":"P84-C84","v":0},{"$f":"IF(K84=data!$A$26,P84-$E$1,\"-\")","v":"-"},1,{"$f":"IF(B84=data!$A$36,IF(K84=data!$A$26,1,0),0)","v":0},{"$f":"IF(B84=data!$A$36,IF(K84=data!$A$27,1,0),0)","v":0},{"$f":"IF(B84=data!$A$37,IF(K84=data!$A$26,1,0),0)","v":0},{"$f":"IF(B84=data!$A$37,IF(K84=data!$A$27,1,0),0)","v":0},{"$f":"IF(B84=data!$A$38,IF(K84=data!$A$26,1,0),0)","v":0},{"$f":"IF(B84=data!$A$38,IF(K84=data!$A$27,1,0),0)","v":0},{"$f":"IF(B86=data!$A$39,IF(K86=data!$A$26,1,0),0)","v":0},{"$f":"IF(B86=data!$A$39,IF(K86=data!$A$27,1,0),0)","v":0},0]
[83,null,null,null,null,null,null,null,null,null,null,null,null,null,null,null,null,null,"I",{"$f":"P85-C85","v":0},{"$f":"IF(K85=data!$A$26,P85-$E$1,\"-\")","v":"-"},1,{"$f":"IF(B85=data!$A$36,IF(K85=data!$A$26,1,0),0)","v":0},{"$f":"IF(B85=data!$A$36,IF(K85=data!$A$27,1,0),0)","v":0},{"$f":"IF(B85=data!$A$37,IF(K85=data!$A$26,1,0),0)","v":0},{"$f":"IF(B85=data!$A$37,IF(K85=data!$A$27,1,0),0)","v":0},{"$f":"IF(B85=data!$A$38,IF(K85=data!$A$26,1,0),0)","v":0},{"$f":"IF(B85=data!$A$38,IF(K85=data!$A$27,1,0),0)","v":0},{"$f":"IF(B87=data!$A$39,IF(K87=data!$A$26,1,0),0)","v":0},{"$f":"IF(B87=data!$A$39,IF(K87=data!$A$27,1,0),0)","v":0},0]
[84,null,null,null,null,null,null,null,null,null,null,null,null,null,null,null,null,null,"I",{"$f":"P86-C86","v":0},{"$f":"IF(K86=data!$A$26,P86-$E$1,\"-\")","v":"-"},1,{"$f":"IF(B86=data!$A$36,IF(K86=data!$A$26,1,0),0)","v":0},{"$f":"IF(B86=data!$A$36,IF(K86=data!$A$27,1,0),0)","v":0},{"$f":"IF(B86=data!$A$37,IF(K86=data!$A$26,1,0),0)","v":0},{"$f":"IF(B86=data!$A$37,IF(K86=data!$A$27,1,0),0)","v":0},{"$f":"IF(B86=data!$A$38,IF(K86=data!$A$26,1,0),0)","v":0},{"$f":"IF(B86=data!$A$38,IF(K86=data!$A$27,1,0),0)","v":0},{"$f":"IF(B88=data!$A$39,IF(K88=data!$A$26,1,0),0)","v":0},{"$f":"IF(B88=data!$A$39,IF(K88=data!$A$27,1,0),0)","v":0},0]
[85,null,null,null,null,null,null,null,null,null,null,null,null,null,null,null,null,null,"I",{"$f":"P87-C87","v":0},{"$f":"IF(K87=data!$A$26,P87-$E$1,\"-\")","v":"-"},1,{"$f":"IF(B87=data!$A$36,IF(K87=data!$A$26,1,0),0)","v":0},{"$f":"IF(B87=data!$A$36,IF(K87=data!$A$27,1,0),0)","v":0},{"$f":"IF(B87=data!$A$37,IF(K87=data!$A$26,1,0),0)","v":0},{"$f":"IF(B87=data!$A$37,IF(K87=data!$A$27,1,0),0)","v":0},{"$f":"IF(B87=data!$A$38,IF(K87=data!$A$26,1,0),0)","v":0},{"$f":"IF(B87=data!$A$38,IF(K87=data!$A$27,1,0),0)","v":0},{"$f":"IF(B89=data!$A$39,IF(K89=data!$A$26,1,0),0)","v":0},{"$f":"IF(B89=data!$A$39,IF(K89=data!$A$27,1,0),0)","v":0},0]
[86,null,null,null,null,null,null,null,null,null,null,null,null,null,null,null,null,null,"I",{"$f":"P88-C88","v":0},{"$f":"IF(K88=data!$A$26,P88-$E$1,\"-\")","v":"-"},1,{"$f":"IF(B88=data!$A$36,IF(K88=data!$A$26,1,0),0)","v":0},{"$f":"IF(B88=data!$A$36,IF(K88=data!$A$27,1,0),0)","v":0},{"$f":"IF(B88=data!$A$37,IF(K88=data!$A$26,1,0),0)","v":0},{"$f":"IF(B88=data!$A$37,IF(K88=data!$A$27,1,0),0)","v":0},{"$f":"IF(B88=data!$A$38,IF(K88=data!$A$26,1,0),0)","v":0},{"$f":"IF(B88=data!$A$38,IF(K88=data!$A$27,1,0),0)","v":0},{"$f":"IF(B90=data!$A$39,IF(K90=data!$A$26,1,0),0)","v":0},{"$f":"IF(B90=data!$A$39,IF(K90=data!$A$27,1,0),0)","v":0},0]
[87,null,null,null,null,null,null,null,null,null,null,null,null,null,null,null,null,null,"I",{"$f":"P89-C89","v":0},{"$f":"IF(K89=data!$A$26,P89-$E$1,\"-\")","v":"-"},1,{"$f":"IF(B89=data!$A$36,IF(K89=data!$A$26,1,0),0)","v":0},{"$f":"IF(B89=data!$A$36,IF(K89=data!$A$27,1,0),0)","v":0},{"$f":"IF(B89=data!$A$37,IF(K89=data!$A$26,1,0),0)","v":0},{"$f":"IF(B89=data!$A$37,IF(K89=data!$A$27,1,0),0)","v":0},{"$f":"IF(B89=data!$A$38,IF(K89=data!$A$26,1,0),0)","v":0},{"$f":"IF(B89=data!$A$38,IF(K89=data!$A$27,1,0),0)","v":0},{"$f":"IF(B91=data!$A$39,IF(K91=data!$A$26,1,0),0)","v":0},{"$f":"IF(B91=data!$A$39,IF(K91=data!$A$27,1,0),0)","v":0},0]
[88,null,null,null,null,null,null,null,null,null,null,null,null,null,null,null,null,null,"I",{"$f":"P90-C90","v":0},{"$f":"IF(K90=data!$A$26,P90-$E$1,\"-\")","v":"-"},1,{"$f":"IF(B90=data!$A$36,IF(K90=data!$A$26,1,0),0)","v":0},{"$f":"IF(B90=data!$A$36,IF(K90=data!$A$27,1,0),0)","v":0},{"$f":"IF(B90=data!$A$37,IF(K90=data!$A$26,1,0),0)","v":0},{"$f":"IF(B90=data!$A$37,IF(K90=data!$A$27,1,0),0)","v":0},{"$f":"IF(B90=data!$A$38,IF(K90=data!$A$26,1,0),0)","v":0},{"$f":"IF(B90=data!$A$38,IF(K90=data!$A$27,1,0),0)","v":0},{"$f":"IF(B92=data!$A$39,IF(K92=data!$A$26,1,0),0)","v":0},{"$f":"IF(B92=data!$A$39,IF(K92=data!$A$27,1,0),0)","v":0},0]
[89,null,null,null,null,null,null,null,null,null,null,null,null,null,null,null,null,null,"I",{"$f":"P91-C91","v":0},{"$f":"IF(K91=data!$A$26,P91-$E$1,\"-\")","v":"-"},1,{"$f":"IF(B91=data!$A$36,IF(K91=data!$A$26,1,0),0)","v":0},{"$f":"IF(B91=data!$A$36,IF(K91=data!$A$27,1,0),0)","v":0},{"$f":"IF(B91=data!$A$37,IF(K91=data!$A$26,1,0),0)","v":0},{"$f":"IF(B91=data!$A$37,IF(K91=data!$A$27,1,0),0)","v":0},{"$f":"IF(B91=data!$A$38,IF(K91=data!$A$26,1,0),0)","v":0},{"$f":"IF(B91=data!$A$38,IF(K91=data!$A$27,1,0),0)","v":0},{"$f":"IF(B93=data!$A$39,IF(K93=data!$A$26,1,0),0)","v":0},{"$f":"IF(B93=data!$A$39,IF(K93=data!$A$27,1,0),0)","v":0},0]
[90,null,null,null,null,null,null,null,null,null,null,null,null,null,null,null,null,null,"I",{"$f":"P92-C92","v":0},{"$f":"IF(K92=data!$A$26,P92-$E$1,\"-\")","v":"-"},1,{"$f":"IF(B92=data!$A$36,IF(K92=data!$A$26,1,0),0)","v":0},{"$f":"IF(B92=data!$A$36,IF(K92=data!$A$27,1,0),0)","v":0},{"$f":"IF(B92=data!$A$37,IF(K92=data!$A$26,1,0),0)","v":0},{"$f":"IF(B92=data!$A$37,IF(K92=data!$A$27,1,0),0)","v":0},{"$f":"IF(B92=data!$A$38,IF(K92=data!$A$26,1,0),0)","v":0},{"$f":"IF(B92=data!$A$38,IF(K92=data!$A$27,1,0),0)","v":0},{"$f":"IF(B94=data!$A$39,IF(K94=data!$A$26,1,0),0)","v":0},{"$f":"IF(B94=data!$A$39,IF(K94=data!$A$27,1,0),0)","v":0},0]
[91,null,null,null,null,null,null,null,null,null,null,null,null,null,null,null,null,null,"I",{"$f":"P93-C93","v":0},{"$f":"IF(K93=data!$A$26,P93-$E$1,\"-\")","v":"-"},1,{"$f":"IF(B93=data!$A$36,IF(K93=data!$A$26,1,0),0)","v":0},{"$f":"IF(B93=data!$A$36,IF(K93=data!$A$27,1,0),0)","v":0},{"$f":"IF(B93=data!$A$37,IF(K93=data!$A$26,1,0),0)","v":0},{"$f":"IF(B93=data!$A$37,IF(K93=data!$A$27,1,0),0)","v":0},{"$f":"IF(B93=data!$A$38,IF(K93=data!$A$26,1,0),0)","v":0},{"$f":"IF(B93=data!$A$38,IF(K93=data!$A$27,1,0),0)","v":0},{"$f":"IF(B95=data!$A$39,IF(K95=data!$A$26,1,0),0)","v":0},{"$f":"IF(B95=data!$A$39,IF(K95=data!$A$27,1,0),0)","v":0},0]
[92,null,null,null,null,null,null,null,null,null,null,null,null,null,null,null,null,null,"I",{"$f":"P94-C94","v":0},{"$f":"IF(K94=data!$A$26,P94-$E$1,\"-\")","v":"-"},1,{"$f":"IF(B94=data!$A$36,IF(K94=data!$A$26,1,0),0)","v":0},{"$f":"IF(B94=data!$A$36,IF(K94=data!$A$27,1,0),0)","v":0},{"$f":"IF(B94=data!$A$37,IF(K94=data!$A$26,1,0),0)","v":0},{"$f":"IF(B94=data!$A$37,IF(K94=data!$A$27,1,0),0)","v":0},{"$f":"IF(B94=data!$A$38,IF(K94=data!$A$26,1,0),0)","v":0},{"$f":"IF(B94=data!$A$38,IF(K94=data!$A$27,1,0),0)","v":0},{"$f":"IF(B96=data!$A$39,IF(K96=data!$A$26,1,0),0)","v":0},{"$f":"IF(B96=data!$A$39,IF(K96=data!$A$27,1,0),0)","v":0},0]
[93,null,null,null,null,null,null,null,null,null,null,null,null,null,null,null,null,null,"I",{"$f":"P95-C95","v":0},{"$f":"IF(K95=data!$A$26,P95-$E$1,\"-\")","v":"-"},1,{"$f":"IF(B95=data!$A$36,IF(K95=data!$A$26,1,0),0)","v":0},{"$f":"IF(B95=data!$A$36,IF(K95=data!$A$27,1,0),0)","v":0},{"$f":"IF(B95=data!$A$37,IF(K95=data!$A$26,1,0),0)","v":0},{"$f":"IF(B95=data!$A$37,IF(K95=data!$A$27,1,0),0)","v":0},{"$f":"IF(B95=data!$A$38,IF(K95=data!$A$26,1,0),0)","v":0},{"$f":"IF(B95=data!$A$38,IF(K95=data!$A$27,1,0),0)","v":0},{"$f":"IF(B97=data!$A$39,IF(K97=data!$A$26,1,0),0)","v":0},{"$f":"IF(B97=data!$A$39,IF(K97=data!$A$27,1,0),0)","v":0},0]
[94,null,null,null,null,null,null,null,null,null,null,null,null,null,null,null,null,null,"I",{"$f":"P96-C96","v":0},{"$f":"IF(K96=data!$A$26,P96-$E$1,\"-\")","v":"-"},1,{"$f":"IF(B96=data!$A$36,IF(K96=data!$A$26,1,0),0)","v":0},{"$f":"IF(B96=data!$A$36,IF(K96=data!$A$27,1,0),0)","v":0},{"$f":"IF(B96=data!$A$37,IF(K96=data!$A$26,1,0),0)","v":0},{"$f":"IF(B96=data!$A$37,IF(K96=data!$A$27,1,0),0)","v":0},{"$f":"IF(B96=data!$A$38,IF(K96=data!$A$26,1,0),0)","v":0},{"$f":"IF(B96=data!$A$38,IF(K96=data!$A$27,1,0),0)","v":0},{"$f":"IF(B98=data!$A$39,IF(K98=data!$A$26,1,0),0)","v":0},{"$f":"IF(B98=data!$A$39,IF(K98=data!$A$27,1,0),0)","v":0},0]
[95,null,null,null,null,null,null,null,null,null,null,null,null,null,null,null,null,null,"I",{"$f":"P97-C97","v":0},{"$f":"IF(K97=data!$A$26,P97-$E$1,\"-\")","v":"-"},1,{"$f":"IF(B97=data!$A$36,IF(K97=data!$A$26,1,0),0)","v":0},{"$f":"IF(B97=data!$A$36,IF(K97=data!$A$27,1,0),0)","v":0},{"$f":"IF(B97=data!$A$37,IF(K97=data!$A$26,1,0),0)","v":0},{"$f":"IF(B97=data!$A$37,IF(K97=data!$A$27,1,0),0)","v":0},{"$f":"IF(B97=data!$A$38,IF(K97=data!$A$26,1,0),0)","v":0},{"$f":"IF(B97=data!$A$38,IF(K97=data!$A$27,1,0),0)","v":0},{"$f":"IF(B99=data!$A$39,IF(K99=data!$A$26,1,0),0)","v":0},{"$f":"IF(B99=data!$A$39,IF(K99=data!$A$27,1,0),0)","v":0},0]
[96,null,null,null,null,null,null,null,null,null,null,null,null,null,null,null,null,null,"I",{"$f":"P98-C98","v":0},{"$f":"IF(K98=data!$A$26,P98-$E$1,\"-\")","v":"-"},1,{"$f":"IF(B98=data!$A$36,IF(K98=data!$A$26,1,0),0)","v":0},{"$f":"IF(B98=data!$A$36,IF(K98=data!$A$27,1,0),0)","v":0},{"$f":"IF(B98=data!$A$37,IF(K98=data!$A$26,1,0),0)","v":0},{"$f":"IF(B98=data!$A$37,IF(K98=data!$A$27,1,0),0)","v":0},{"$f":"IF(B98=data!$A$38,IF(K98=data!$A$26,1,0),0)","v":0},{"$f":"IF(B98=data!$A$38,IF(K98=data!$A$27,1,0),0)","v":0},{"$f":"IF(B100=data!$A$39,IF(K100=data!$A$26,1,0),0)","v":0},{"$f":"IF(B100=data!$A$39,IF(K100=data!$A$27,1,0),0)","v":0},0]
[97,null,null,null,null,null,null,null,null,null,null,null,null,null,null,null,null,null,"I",{"$f":"P99-C99","v":0},{"$f":"IF(K99=data!$A$26,P99-$E$1,\"-\")","v":"-"},1,{"$f":"IF(B99=data!$A$36,IF(K99=data!$A$26,1,0),0)","v":0},{"$f":"IF(B99=data!$A$36,IF(K99=data!$A$27,1,0),0)","v":0},{"$f":"IF(B99=data!$A$37,IF(K99=data!$A$26,1,0),0)","v":0},{"$f":"IF(B99=data!$A$37,IF(K99=data!$A$27,1,0),0)","v":0},{"$f":"IF(B99=data!$A$38,IF(K99=data!$A$26,1,0),0)","v":0},{"$f":"IF(B99=data!$A$38,IF(K99=data!$A$27,1,0),0)","v":0},{"$f":"IF(B141=data!$A$39,IF(K141=data!$A$26,1,0),0)","v":0},{"$f":"IF(B141=data!$A$39,IF(K141=data!$A$27,1,0),0)","v":0},{"$f":"IF(U99<0,1,0)","v":0}]
[98,null,null,null,null,null,null,null,null,null,null,null,null,null,null,null,null,null,"I",{"$f":"P100-C100","v":0},{"$f":"IF(K100=data!$A$26,P100-$E$1,\"-\")","v":"-"},1,{"$f":"IF(B100=data!$A$36,IF(K100=data!$A$26,1,0),0)","v":0},{"$f":"IF(B100=data!$A$36,IF(K100=data!$A$27,1,0),0)","v":0},{"$f":"IF(B100=data!$A$37,IF(K100=data!$A$26,1,0),0)","v":0},{"$f":"IF(B100=data!$A$37,IF(K100=data!$A$27,1,0),0)","v":0},{"$f":"IF(B100=data!$A$38,IF(K100=data!$A$26,1,0),0)","v":0},{"$f":"IF(B100=data!$A$38,IF(K100=data!$A$27,1,0),0)","v":0},{"$f":"IF(B142=data!$A$39,IF(K142=data!$A$26,1,0),0)","v":0},{"$f":"IF(B142=data!$A$39,IF(K142=data!$A$27,1,0),0)","v":0},0]
[99,null,null,null,null,null,null,null,null,null,null,null,null,null,null,null,null,null,"I",{"$f":"P101-C101","v":0},{"$f":"IF(K101=data!$A$26,P101-$E$1,\"-\")","v":"-"},1,{"$f":"IF(B101=data!$A$36,IF(K101=data!$A$26,1,0),0)","v":0},{"$f":"IF(B101=data!$A$36,IF(K101=data!$A$27,1,0),0)","v":0},{"$f":"IF(B101=data!$A$37,IF(K101=data!$A$26,1,0),0)","v":0},{"$f":"IF(B101=data!$A$37,IF(K101=data!$A$27,1,0),0)","v":0},{"$f":"IF(B101=data!$A$38,IF(K101=data!$A$26,1,0),0)","v":0},{"$f":"IF(B101=data!$A$38,IF(K101=data!$A$27,1,0),0)","v":0},{"$f":"IF(B143=data!$A$39,IF(K143=data!$A$26,1,0),0)","v":0},{"$f":"IF(B143=data!$A$39,IF(K143=data!$A$27,1,0),0)","v":0},0]
[100,null,null,null,null,null,null,null,null,null,null,null,null,null,null,null,null,null,"I",{"$f":"P102-C102","v":0},{"$f":"IF(K102=data!$A$26,P102-$E$1,\"-\")","v":"-"},1,{"$f":"IF(B102=data!$A$36,IF(K102=data!$A$26,1,0),0)","v":0},{"$f":"IF(B102=data!$A$36,IF(K102=data!$A$27,1,0),0)","v":0},{"$f":"IF(B102=data!$A$37,IF(K102=data!$A$26,1,0),0)","v":0},{"$f":"IF(B102=data!$A$37,IF(K102=data!$A$27,1,0),0)","v":0},{"$f":"IF(B102=data!$A$38,IF(K102=data!$A$26,1,0),0)","v":0},{"$f":"IF(B102=data!$A$38,IF(K102=data!$A$27,1,0),0)","v":0},{"$f":"IF(B144=data!$A$39,IF(K144=data!$A$26,1,0),0)","v":0},{"$f":"IF(B144=data!$A$39,IF(K144=data!$A$27,1,0),0)","v":0},0]
[101,null,null,null,null,null,null,null,null,null,null,null,null,null,null,null,null,null,"I",{"$f":"P103-C103","v":0},{"$f":"IF(K103=data!$A$26,P103-$E$1,\"-\")","v":"-"},1,{"$f":"IF(B103=data!$A$36,IF(K103=data!$A$26,1,0),0)","v":0},{"$f":"IF(B103=data!$A$36,IF(K103=data!$A$27,1,0),0)","v":0},{"$f":"IF(B103=data!$A$37,IF(K103=data!$A$26,1,0),0)","v":0},{"$f":"IF(B103=data!$A$37,IF(K103=data!$A$27,1,0),0)","v":0},{"$f":"IF(B103=data!$A$38,IF(K103=data!$A$26,1,0),0)","v":0},{"$f":"IF(B103=data!$A$38,IF(K103=data!$A$27,1,0),0)","v":0},{"$f":"IF(B145=data!$A$39,IF(K145=data!$A$26,1,0),0)","v":0},{"$f":"IF(B145=data!$A$39,IF(K145=data!$A$27,1,0),0)","v":0},0]
[102,null,null,null,null,null,null,null,null,null,null,null,null,null,null,null,null,null,"I",{"$f":"P104-C104","v":0},{"$f":"IF(K104=data!$A$26,P104-$E$1,\"-\")","v":"-"},1,{"$f":"IF(B104=data!$A$36,IF(K104=data!$A$26,1,0),0)","v":0},{"$f":"IF(B104=data!$A$36,IF(K104=data!$A$27,1,0),0)","v":0},{"$f":"IF(B104=data!$A$37,IF(K104=data!$A$26,1,0),0)","v":0},{"$f":"IF(B104=data!$A$37,IF(K104=data!$A$27,1,0),0)","v":0},{"$f":"IF(B104=data!$A$38,IF(K104=data!$A$26,1,0),0)","v":0},{"$f":"IF(B104=data!$A$38,IF(K104=data!$A$27,1,0),0)","v":0},{"$f":"IF(B146=data!$A$39,IF(K146=data!$A$26,1,0),0)","v":0},{"$f":"IF(B146=data!$A$39,IF(K146=data!$A$27,1,0),0)","v":0},0]
[103,null,null,null,null,null,null,null,null,null,null,null,null,null,null,null,null,null,"I",{"$f":"P105-C105","v":0},{"$f":"IF(K105=data!$A$26,P105-$E$1,\"-\")","v":"-"},1,{"$f":"IF(B105=data!$A$36,IF(K105=data!$A$26,1,0),0)","v":0},{"$f":"IF(B105=data!$A$36,IF(K105=data!$A$27,1,0),0)","v":0},{"$f":"IF(B105=data!$A$37,IF(K105=data!$A$26,1,0),0)","v":0},{"$f":"IF(B105=data!$A$37,IF(K105=data!$A$27,1,0),0)","v":0},{"$f":"IF(B105=data!$A$38,IF(K105=data!$A$26,1,0),0)","v":0},{"$f":"IF(B105=data!$A$38,IF(K105=data!$A$27,1,0),0)","v":0},{"$f":"IF(B147=data!$A$39,IF(K147=data!$A$26,1,0),0)","v":0},{"$f":"IF(B147=data!$A$39,IF(K147=data!$A$27,1,0),0)","v":0},0]
[104,null,null,null,null,null,null,null,null,null,null,null,null,null,null,null,null,null,"I",{"$f":"P106-C106","v":0},{"$f":"IF(K106=data!$A$26,P106-$E$1,\"-\")","v":"-"},1,{"$f":"IF(B106=data!$A$36,IF(K106=data!$A$26,1,0),0)","v":0},{"$f":"IF(B106=data!$A$36,IF(K106=data!$A$27,1,0),0)","v":0},{"$f":"IF(B106=data!$A$37,IF(K106=data!$A$26,1,0),0)","v":0},{"$f":"IF(B106=data!$A$37,IF(K106=data!$A$27,1,0),0)","v":0},{"$f":"IF(B106=data!$A$38,IF(K106=data!$A$26,1,0),0)","v":0},{"$f":"IF(B106=data!$A$38,IF(K106=data!$A$27,1,0),0)","v":0},{"$f":"IF(B148=data!$A$39,IF(K148=data!$A$26,1,0),0)","v":0},{"$f":"IF(B148=data!$A$39,IF(K148=data!$A$27,1,0),0)","v":0},0]
[105,null,null,null,null,null,null,null,null,null,null,null,null,null,null,null,null,null,"I",{"$f":"P107-C107","v":0},{"$f":"IF(K107=data!$A$26,P107-$E$1,\"-\")","v":"-"},1,{"$f":"IF(B107=data!$A$36,IF(K107=data!$A$26,1,0),0)","v":0},{"$f":"IF(B107=data!$A$36,IF(K107=data!$A$27,1,0),0)","v":0},{"$f":"IF(B107=data!$A$37,IF(K107=data!$A$26,1,0),0)","v":0},{"$f":"IF(B107=data!$A$37,IF(K107=data!$A$27,1,0),0)","v":0},{"$f":"IF(B107=data!$A$38,IF(K107=data!$A$26,1,0),0)","v":0},{"$f":"IF(B107=data!$A$38,IF(K107=data!$A$27,1,0),0)","v":0},{"$f":"IF(B149=data!$A$39,IF(K149=data!$A$26,1,0),0)","v":0},{"$f":"IF(B149=data!$A$39,IF(K149=data!$A$27,1,0),0)","v":0},0]
[106,null,null,null,null,null,null,null,null,null,null,null,null,null,null,null,null,null,"I",{"$f":"P108-C108","v":0},{"$f":"IF(K108=data!$A$26,P108-$E$1,\"-\")","v":"-"},1,{"$f":"IF(B108=data!$A$36,IF(K108=data!$A$26,1,0),0)","v":0},{"$f":"IF(B108=data!$A$36,IF(K108=data!$A$27,1,0),0)","v":0},{"$f":"IF(B108=data!$A$37,IF(K108=data!$A$26,1,0),0)","v":0},{"$f":"IF(B108=data!$A$37,IF(K108=data!$A$27,1,0),0)","v":0},{"$f":"IF(B108=data!$A$38,IF(K108=data!$A$26,1,0),0)","v":0},{"$f":"IF(B108=data!$A$38,IF(K108=data!$A$27,1,0),0)","v":0},{"$f":"IF(B150=data!$A$39,IF(K150=data!$A$26,1,0),0)","v":0},{"$f":"IF(B150=data!$A$39,IF(K150=data!$A$27,1,0),0)","v":0},0]
[107,null,null,null,null,null,null,null,null,null,null,null,null,null,null,null,null,null,"I",{"$f":"P109-C109","v":0},{"$f":"IF(K109=data!$A$26,P109-$E$1,\"-\")","v":"-"},1,{"$f":"IF(B109=data!$A$36,IF(K109=data!$A$26,1,0),0)","v":0},{"$f":"IF(B109=data!$A$36,IF(K109=data!$A$27,1,0),0)","v":0},{"$f":"IF(B109=data!$A$37,IF(K109=data!$A$26,1,0),0)","v":0},{"$f":"IF(B109=data!$A$37,IF(K109=data!$A$27,1,0),0)","v":0},{"$f":"IF(B109=data!$A$38,IF(K109=data!$A$26,1,0),0)","v":0},{"$f":"IF(B109=data!$A$38,IF(K109=data!$A$27,1,0),0)","v":0},{"$f":"IF(B151=data!$A$39,IF(K151=data!$A$26,1,0),0)","v":0},{"$f":"IF(B151=data!$A$39,IF(K151=data!$A$27,1,0),0)","v":0},0]
[108,null,null,null,null,null,null,null,null,null,null,null,null,null,null,null,null,null,"I",{"$f":"P110-C110","v":0},{"$f":"IF(K110=data!$A$26,P110-$E$1,\"-\")","v":"-"},1,{"$f":"IF(B110=data!$A$36,IF(K110=data!$A$26,1,0),0)","v":0},{"$f":"IF(B110=data!$A$36,IF(K110=data!$A$27,1,0),0)","v":0},{"$f":"IF(B110=data!$A$37,IF(K110=data!$A$26,1,0),0)","v":0},{"$f":"IF(B110=data!$A$37,IF(K110=data!$A$27,1,0),0)","v":0},{"$f":"IF(B110=data!$A$38,IF(K110=data!$A$26,1,0),0)","v":0},{"$f":"IF(B110=data!$A$38,IF(K110=data!$A$27,1,0),0)","v":0},{"$f":"IF(B152=data!$A$39,IF(K152=data!$A$26,1,0),0)","v":0},{"$f":"IF(B152=data!$A$39,IF(K152=data!$A$27,1,0),0)","v":0},0]
[109,null,null,null,null,null,null,null,null,null,null,null,null,null,null,null,null,null,"I",{"$f":"P111-C111","v":0},{"$f":"IF(K111=data!$A$26,P111-$E$1,\"-\")","v":"-"},1,{"$f":"IF(B111=data!$A$36,IF(K111=data!$A$26,1,0),0)","v":0},{"$f":"IF(B111=data!$A$36,IF(K111=data!$A$27,1,0),0)","v":0},{"$f":"IF(B111=data!$A$37,IF(K111=data!$A$26,1,0),0)","v":0},{"$f":"IF(B111=data!$A$37,IF(K111=data!$A$27,1,0),0)","v":0},{"$f":"IF(B111=data!$A$38,IF(K111=data!$A$26,1,0),0)","v":0},{"$f":"IF(B111=data!$A$38,IF(K111=data!$A$27,1,0),0)","v":0},{"$f":"IF(B153=data!$A$39,IF(K153=data!$A$26,1,0),0)","v":0},{"$f":"IF(B153=data!$A$39,IF(K153=data!$A$27,1,0),0)","v":0},0]
[110,null,null,null,null,null,null,null,null,null,null,null,null,null,null,null,null,null,"I",{"$f":"P112-C112","v":0},{"$f":"IF(K112=data!$A$26,P112-$E$1,\"-\")","v":"-"},1,{"$f":"IF(B112=data!$A$36,IF(K112=data!$A$26,1,0),0)","v":0},{"$f":"IF(B112=data!$A$36,IF(K112=data!$A$27,1,0),0)","v":0},{"$f":"IF(B112=data!$A$37,IF(K112=data!$A$26,1,0),0)","v":0},{"$f":"IF(B112=data!$A$37,IF(K112=data!$A$27,1,0),0)","v":0},{"$f":"IF(B112=data!$A$38,IF(K112=data!$A$26,1,0),0)","v":0},{"$f":"IF(B112=data!$A$38,IF(K112=data!$A$27,1,0),0)","v":0},{"$f":"IF(B154=data!$A$39,IF(K154=data!$A$26,1,0),0)","v":0},{"$f":"IF(B154=data!$A$39,IF(K154=data!$A$27,1,0),0)","v":0},0]
[111,null,null,null,null,null,null,null,null,null,null,null,null,null,null,null,null,null,"I",{"$f":"P113-C113","v":0},{"$f":"IF(K113=data!$A$26,P113-$E$1,\"-\")","v":"-"},1,{"$f":"IF(B113=data!$A$36,IF(K113=data!$A$26,1,0),0)","v":0},{"$f":"IF(B113=data!$A$36,IF(K113=data!$A$27,1,0),0)","v":0},{"$f":"IF(B113=data!$A$37,IF(K113=data!$A$26,1,0),0)","v":0},{"$f":"IF(B113=data!$A$37,IF(K113=data!$A$27,1,0),0)","v":0},{"$f":"IF(B113=data!$A$38,IF(K113=data!$A$26,1,0),0)","v":0},{"$f":"IF(B113=data!$A$38,IF(K113=data!$A$27,1,0),0)","v":0},{"$f":"IF(B155=data!$A$39,IF(K155=data!$A$26,1,0),0)","v":0},{"$f":"IF(B155=data!$A$39,IF(K155=data!$A$27,1,0),0)","v":0},0]
[112,null,null,null,null,null,null,null,null,null,null,null,null,null,null,null,null,null,"I",{"$f":"P114-C114","v":0},{"$f":"IF(K114=data!$A$26,P114-$E$1,\"-\")","v":"-"},1,{"$f":"IF(B114=data!$A$36,IF(K114=data!$A$26,1,0),0)","v":0},{"$f":"IF(B114=data!$A$36,IF(K114=data!$A$27,1,0),0)","v":0},{"$f":"IF(B114=data!$A$37,IF(K114=data!$A$26,1,0),0)","v":0},{"$f":"IF(B114=data!$A$37,IF(K114=data!$A$27,1,0),0)","v":0},{"$f":"IF(B114=data!$A$38,IF(K114=data!$A$26,1,0),0)","v":0},{"$f":"IF(B114=data!$A$38,IF(K114=data!$A$27,1,0),0)","v":0},{"$f":"IF(B156=data!$A$39,IF(K156=data!$A$26,1,0),0)","v":0},{"$f":"IF(B156=data!$A$39,IF(K156=data!$A$27,1,0),0)","v":0},0]
[113,null,null,null,null,null,null,null,null,null,null,null,null,null,null,null,null,null,"I",{"$f":"P115-C115","v":0},{"$f":"IF(K115=data!$A$26,P115-$E$1,\"-\")","v":"-"},1,{"$f":"IF(B115=data!$A$36,IF(K115=data!$A$26,1,0),0)","v":0},{"$f":"IF(B115=data!$A$36,IF(K115=data!$A$27,1,0),0)","v":0},{"$f":"IF(B115=data!$A$37,IF(K115=data!$A$26,1,0),0)","v":0},{"$f":"IF(B115=data!$A$37,IF(K115=data!$A$27,1,0),0)","v":0},{"$f":"IF(B115=data!$A$38,IF(K115=data!$A$26,1,0),0)","v":0},{"$f":"IF(B115=data!$A$38,IF(K115=data!$A$27,1,0),0)","v":0},{"$f":"IF(B157=data!$A$39,IF(K157=data!$A$26,1,0),0)","v":0},{"$f":"IF(B157=data!$A$39,IF(K157=data!$A$27,1,0),0)","v":0},0]
[114,null,null,null,null,null,null,null,null,null,null,null,null,null,null,null,null,null,"I",{"$f":"P116-C116","v":0},{"$f":"IF(K116=data!$A$26,P116-$E$1,\"-\")","v":"-"},1,{"$f":"IF(B116=data!$A$36,IF(K116=data!$A$26,1,0),0)","v":0},{"$f":"IF(B116=data!$A$36,IF(K116=data!$A$27,1,0),0)","v":0},{"$f":"IF(B116=data!$A$37,IF(K116=data!$A$26,1,0),0)","v":0},{"$f":"IF(B116=data!$A$37,IF(K116=data!$A$27,1,0),0)","v":0},{"$f":"IF(B116=data!$A$38,IF(K116=data!$A$26,1,0),0)","v":0},{"$f":"IF(B116=data!$A$38,IF(K116=data!$A$27,1,0),0)","v":0},{"$f":"IF(B158=data!$A$39,IF(K158=data!$A$26,1,0),0)","v":0},{"$f":"IF(B158=data!$A$39,IF(K158=data!$A$27,1,0),0)","v":0},0]
[115,null,null,null,null,null,null,null,null,null,null,null,null,null,null,null,null,null,"I",{"$f":"P117-C117","v":0},{"$f":"IF(K117=data!$A$26,P117-$E$1,\"-\")","v":"-"},1,{"$f":"IF(B117=data!$A$36,IF(K117=data!$A$26,1,0),0)","v":0},{"$f":"IF(B117=data!$A$36,IF(K117=data!$A$27,1,0),0)","v":0},{"$f":"IF(B117=data!$A$37,IF(K117=data!$A$26,1,0),0)","v":0},{"$f":"IF(B117=data!$A$37,IF(K117=data!$A$27,1,0),0)","v":0},{"$f":"IF(B117=data!$A$38,IF(K117=data!$A$26,1,0),0)","v":0},{"$f":"IF(B117=data!$A$38,IF(K117=data!$A$27,1,0),0)","v":0},{"$f":"IF(B159=data!$A$39,IF(K159=data!$A$26,1,0),0)","v":0},{"$f":"IF(B159=data!$A$39,IF(K159=data!$A$27,1,0),0)","v":0},0]
[116,null,null,null,null,null,null,null,null,null,null,null,null,null,null,null,null,null,"I",{"$f":"P118-C118","v":0},{"$f":"IF(K118=data!$A$26,P118-$E$1,\"-\")","v":"-"},1,{"$f":"IF(B118=data!$A$36,IF(K118=data!$A$26,1,0),0)","v":0},{"$f":"IF(B118=data!$A$36,IF(K118=data!$A$27,1,0),0)","v":0},{"$f":"IF(B118=data!$A$37,IF(K118=data!$A$26,1,0),0)","v":0},{"$f":"IF(B118=data!$A$37,IF(K118=data!$A$27,1,0),0)","v":0},{"$f":"IF(B118=data!$A$38,IF(K118=data!$A$26,1,0),0)","v":0},{"$f":"IF(B118=data!$A$38,IF(K118=data!$A$27,1,0),0)","v":0},{"$f":"IF(B160=data!$A$39,IF(K160=data!$A$26,1,0),0)","v":0},{"$f":"IF(B160=data!$A$39,IF(K160=data!$A$27,1,0),0)","v":0},0]
[117,null,null,null,null,null,null,null,null,null,null,null,null,null,null,null,null,null,"I",{"$f":"P119-C119","v":0},{"$f":"IF(K119=data!$A$26,P119-$E$1,\"-\")","v":"-"},1,{"$f":"IF(B119=data!$A$36,IF(K119=data!$A$26,1,0),0)","v":0},{"$f":"IF(B119=data!$A$36,IF(K119=data!$A$27,1,0),0)","v":0},{"$f":"IF(B119=data!$A$37,IF(K119=data!$A$26,1,0),0)","v":0},{"$f":"IF(B119=data!$A$37,IF(K119=data!$A$27,1,0),0)","v":0},{"$f":"IF(B119=data!$A$38,IF(K119=data!$A$26,1,0),0)","v":0},{"$f":"IF(B119=data!$A$38,IF(K119=data!$A$27,1,0),0)","v":0},{"$f":"IF(B161=data!$A$39,IF(K161=data!$A$26,1,0),0)","v":0},{"$f":"IF(B161=data!$A$39,IF(K161=data!$A$27,1,0),0)","v":0},0]
[118,null,null,null,null,null,null,null,null,null,null,null,null,null,null,null,null,null,"I",{"$f":"P120-C120","v":0},{"$f":"IF(K120=data!$A$26,P120-$E$1,\"-\")","v":"-"},1,{"$f":"IF(B120=data!$A$36,IF(K120=data!$A$26,1,0),0)","v":0},{"$f":"IF(B120=data!$A$36,IF(K120=data!$A$27,1,0),0)","v":0},{"$f":"IF(B120=data!$A$37,IF(K120=data!$A$26,1,0),0)","v":0},{"$f":"IF(B120=data!$A$37,IF(K120=data!$A$27,1,0),0)","v":0},{"$f":"IF(B120=data!$A$38,IF(K120=data!$A$26,1,0),0)","v":0},{"$f":"IF(B120=data!$A$38,IF(K120=data!$A$27,1,0),0)","v":0},{"$f":"IF(B162=data!$A$39,IF(K162=data!$A$26,1,0),0)","v":0},{"$f":"IF(B162=data!$A$39,IF(K162=data!$A$27,1,0),0)","v":0},0]
[119,null,null,null,null,null,null,null,null,null,null,null,null,null,null,null,null,null,"I",{"$f":"P121-C121","v":0},{"$f":"IF(K121=data!$A$26,P121-$E$1,\"-\")","v":"-"},1,{"$f":"IF(B121=data!$A$36,IF(K121=data!$A$26,1,0),0)","v":0},{"$f":"IF(B121=data!$A$36,IF(K121=data!$A$27,1,0),0)","v":0},{"$f":"IF(B121=data!$A$37,IF(K121=data!$A$26,1,0),0)","v":0},{"$f":"IF(B121=data!$A$37,IF(K121=data!$A$27,1,0),0)","v":0},{"$f":"IF(B121=data!$A$38,IF(K121=data!$A$26,1,0),0)","v":0},{"$f":"IF(B121=data!$A$38,IF(K121=data!$A$27,1,0),0)","v":0},{"$f":"IF(B163=data!$A$39,IF(K163=data!$A$26,1,0),0)","v":0},{"$f":"IF(B163=data!$A$39,IF(K163=data!$A$27,1,0),0)","v":0},0]
[120,null,null,null,null,null,null,null,null,null,null,null,null,null,null,null,null,null,"I",{"$f":"P122-C122","v":0},{"$f":"IF(K122=data!$A$26,P122-$E$1,\"-\")","v":"-"},1,{"$f":"IF(B122=data!$A$36,IF(K122=data!$A$26,1,0),0)","v":0},{"$f":"IF(B122=data!$A$36,IF(K122=data!$A$27,1,0),0)","v":0},{"$f":"IF(B122=data!$A$37,IF(K122=data!$A$26,1,0),0)","v":0},{"$f":"IF(B122=data!$A$37,IF(K122=data!$A$27,1,0),0)","v":0},{"$f":"IF(B122=data!$A$38,IF(K122=data!$A$26,1,0),0)","v":0},{"$f":"IF(B122=data!$A$38,IF(K122=data!$A$27,1,0),0)","v":0},{"$f":"IF(B164=data!$A$39,IF(K164=data!$A$26,1,0),0)","v":0},{"$f":"IF(B164=data!$A$39,IF(K164=data!$A$27,1,0),0)","v":0},0]
[121,null,null,null,null,null,null,null,null,null,null,null,null,null,null,null,null,null,"I",{"$f":"P123-C123","v":0},{"$f":"IF(K123=data!$A$26,P123-$E$1,\"-\")","v":"-"},1,{"$f":"IF(B123=data!$A$36,IF(K123=data!$A$26,1,0),0)","v":0},{"$f":"IF(B123=data!$A$36,IF(K123=data!$A$27,1,0),0)","v":0},{"$f":"IF(B123=data!$A$37,IF(K123=data!$A$26,1,0),0)","v":0},{"$f":"IF(B123=data!$A$37,IF(K123=data!$A$27,1,0),0)","v":0},{"$f":"IF(B123=data!$A$38,IF(K123=data!$A$26,1,0),0)","v":0},{"$f":"IF(B123=data!$A$38,IF(K123=data!$A$27,1,0),0)","v":0},{"$f":"IF(B165=data!$A$39,IF(K165=data!$A$26,1,0),0)","v":0},{"$f":"IF(B165=data!$A$39,IF(K165=data!$A$27,1,0),0)","v":0},0]
[122,null,null,null,null,null,null,null,null,null,null,null,null,null,null,null,null,null,"I",{"$f":"P124-C124","v":0},{"$f":"IF(K124=data!$A$26,P124-$E$1,\"-\")","v":"-"},1,{"$f":"IF(B124=data!$A$36,IF(K124=data!$A$26,1,0),0)","v":0},{"$f":"IF(B124=data!$A$36,IF(K124=data!$A$27,1,0),0)","v":0},{"$f":"IF(B124=data!$A$37,IF(K124=data!$A$26,1,0),0)","v":0},{"$f":"IF(B124=data!$A$37,IF(K124=data!$A$27,1,0),0)","v":0},{"$f":"IF(B124=data!$A$38,IF(K124=data!$A$26,1,0),0)","v":0},{"$f":"IF(B124=data!$A$38,IF(K124=data!$A$27,1,0),0)","v":0},{"$f":"IF(B166=data!$A$39,IF(K166=data!$A$26,1,0),0)","v":0},{"$f":"IF(B166=data!$A$39,IF(K166=data!$A$27,1,0),0)","v":0},0]
[123,null,null,null,null,null,null,null,null,null,null,null,null,null,null,null,null,null,"I",{"$f":"P125-C125","v":0},{"$f":"IF(K125=data!$A$26,P125-$E$1,\"-\")","v":"-"},1,{"$f":"IF(B125=data!$A$36,IF(K125=data!$A$26,1,0),0)","v":0},{"$f":"IF(B125=data!$A$36,IF(K125=data!$A$27,1,0),0)","v":0},{"$f":"IF(B125=data!$A$37,IF(K125=data!$A$26,1,0),0)","v":0},{"$f":"IF(B125=data!$A$37,IF(K125=data!$A$27,1,0),0)","v":0},{"$f":"IF(B125=data!$A$38,IF(K125=data!$A$26,1,0),0)","v":0},{"$f":"IF(B125=data!$A$38,IF(K125=data!$A$27,1,0),0)","v":0},{"$f":"IF(B167=data!$A$39,IF(K167=data!$A$26,1,0),0)","v":0},{"$f":"IF(B167=data!$A$39,IF(K167=data!$A$27,1,0),0)","v":0},0]
[124,null,null,null,null,null,null,null,null,null,null,null,null,null,null,null,null,null,"I",{"$f":"P126-C126","v":0},{"$f":"IF(K126=data!$A$26,P126-$E$1,\"-\")","v":"-"},1,{"$f":"IF(B126=data!$A$36,IF(K126=data!$A$26,1,0),0)","v":0},{"$f":"IF(B126=data!$A$36,IF(K126=data!$A$27,1,0),0)","v":0},{"$f":"IF(B126=data!$A$37,IF(K126=data!$A$26,1,0),0)","v":0},{"$f":"IF(B126=data!$A$37,IF(K126=data!$A$27,1,0),0)","v":0},{"$f":"IF(B126=data!$A$38,IF(K126=data!$A$26,1,0),0)","v":0},{"$f":"IF(B126=data!$A$38,IF(K126=data!$A$27,1,0),0)","v":0},{"$f":"IF(B168=data!$A$39,IF(K168=data!$A$26,1,0),0)","v":0},{"$f":"IF(B168=data!$A$39,IF(K168=data!$A$27,1,0),0)","v":0},0]
[125,null,null,null,null,null,null,null,null,null,null,null,null,null,null,null,null,null,"I",{"$f":"P127-C127","v":0},{"$f":"IF(K127=data!$A$26,P127-$E$1,\"-\")","v":"-"},1,{"$f":"IF(B127=data!$A$36,IF(K127=data!$A$26,1,0),0)","v":0},{"$f":"IF(B127=data!$A$36,IF(K127=data!$A$27,1,0),0)","v":0},{"$f":"IF(B127=data!$A$37,IF(K127=data!$A$26,1,0),0)","v":0},{"$f":"IF(B127=data!$A$37,IF(K127=data!$A$27,1,0),0)","v":0},{"$f":"IF(B127=data!$A$38,IF(K127=data!$A$26,1,0),0)","v":0},{"$f":"IF(B127=data!$A$38,IF(K127=data!$A$27,1,0),0)","v":0},{"$f":"IF(B169=data!$A$39,IF(K169=data!$A$26,1,0),0)","v":0},{"$f":"IF(B169=data!$A$39,IF(K169=data!$A$27,1,0),0)","v":0},0]
[126,null,null,null,null,null,null,null,null,null,null,null,null,null,null,null,null,null,"I",{"$f":"P128-C128","v":0},{"$f":"IF(K128=data!$A$26,P128-$E$1,\"-\")","v":"-"},1,{"$f":"IF(B128=data!$A$36,IF(K128=data!$A$26,1,0),0)","v":0},{"$f":"IF(B128=data!$A$36,IF(K128=data!$A$27,1,0),0)","v":0},{"$f":"IF(B128=data!$A$37,IF(K128=data!$A$26,1,0),0)","v":0},{"$f":"IF(B128=data!$A$37,IF(K128=data!$A$27,1,0),0)","v":0},{"$f":"IF(B128=data!$A$38,IF(K128=data!$A$26,1,0),0)","v":0},{"$f":"IF(B128=data!$A$38,IF(K128=data!$A$27,1,0),0)","v":0},{"$f":"IF(B170=data!$A$39,IF(K170=data!$A$26,1,0),0)","v":0},{"$f":"IF(B170=data!$A$39,IF(K170=data!$A$27,1,0),0)","v":0},0]
[127,null,null,null,null,null,null,null,null,null,null,null,null,null,null,null,null,null,"I",{"$f":"P129-C129","v":0},{"$f":"IF(K129=data!$A$26,P129-$E$1,\"-\")","v":"-"},1,{"$f":"IF(B129=data!$A$36,IF(K129=data!$A$26,1,0),0)","v":0},{"$f":"IF(B129=data!$A$36,IF(K129=data!$A$27,1,0),0)","v":0},{"$f":"IF(B129=data!$A$37,IF(K129=data!$A$26,1,0),0)","v":0},{"$f":"IF(B129=data!$A$37,IF(K129=data!$A$27,1,0),0)","v":0},{"$f":"IF(B129=data!$A$38,IF(K129=data!$A$26,1,0),0)","v":0},{"$f":"IF(B129=data!$A$38,IF(K129=data!$A$27,1,0),0)","v":0},{"$f":"IF(B171=data!$A$39,IF(K171=data!$A$26,1,0),0)","v":0},{"$f":"IF(B171=data!$A$39,IF(K171=data!$A$27,1,0),0)","v":0},0]
[128,null,null,null,null,null,null,null,null,null,null,null,null,null,null,null,null,null,"I",{"$f":"P130-C130","v":0},{"$f":"IF(K130=data!$A$26,P130-$E$1,\"-\")","v":"-"},1,{"$f":"IF(B130=data!$A$36,IF(K130=data!$A$26,1,0),0)","v":0},{"$f":"IF(B130=data!$A$36,IF(K130=data!$A$27,1,0),0)","v":0},{"$f":"IF(B130=data!$A$37,IF(K130=data!$A$26,1,0),0)","v":0},{"$f":"IF(B130=data!$A$37,IF(K130=data!$A$27,1,0),0)","v":0},{"$f":"IF(B130=data!$A$38,IF(K130=data!$A$26,1,0),0)","v":0},{"$f":"IF(B130=data!$A$38,IF(K130=data!$A$27,1,0),0)","v":0},{"$f":"IF(B172=data!$A$39,IF(K172=data!$A$26,1,0),0)","v":0},{"$f":"IF(B172=data!$A$39,IF(K172=data!$A$27,1,0),0)","v":0},0]
[129,null,null,null,null,null,null,null,null,null,null,null,null,null,null,null,null,null,"I",{"$f":"P131-C131","v":0},{"$f":"IF(K131=data!$A$26,P131-$E$1,\"-\")","v":"-"},1,{"$f":"IF(B131=data!$A$36,IF(K131=data!$A$26,1,0),0)","v":0},{"$f":"IF(B131=data!$A$36,IF(K131=data!$A$27,1,0),0)","v":0},{"$f":"IF(B131=data!$A$37,IF(K131=data!$A$26,1,0),0)","v":0},{"$f":"IF(B131=data!$A$37,IF(K131=data!$A$27,1,0),0)","v":0},{"$f":"IF(B131=data!$A$38,IF(K131=data!$A$26,1,0),0)","v":0},{"$f":"IF(B131=data!$A$38,IF(K131=data!$A$27,1,0),0)","v":0},{"$f":"IF(B173=data!$A$39,IF(K173=data!$A$26,1,0),0)","v":0},{"$f":"IF(B173=data!$A$39,IF(K173=data!$A$27,1,0),0)","v":0},{"$f":"IF(U131<0,1,0)","v":0}]
[130,null,null,null,null,null,null,null,null,null,null,null,null,null,null,null,null,null,"I",{"$f":"P132-C132","v":0},{"$f":"IF(K132=data!$A$26,P132-$E$1,\"-\")","v":"-"},1,{"$f":"IF(B132=data!$A$36,IF(K132=data!$A$26,1,0),0)","v":0},{"$f":"IF(B132=data!$A$36,IF(K132=data!$A$27,1,0),0)","v":0},{"$f":"IF(B132=data!$A$37,IF(K132=data!$A$26,1,0),0)","v":0},{"$f":"IF(B132=data!$A$37,IF(K132=data!$A$27,1,0),0)","v":0},{"$f":"IF(B132=data!$A$38,IF(K132=data!$A$26,1,0),0)","v":0},{"$f":"IF(B132=data!$A$38,IF(K132=data!$A$27,1,0),0)","v":0},{"$f":"IF(B174=data!$A$39,IF(K174=data!$A$26,1,0),0)","v":0},{"$f":"IF(B174=data!$A$39,IF(K174=data!$A$27,1,0),0)","v":0},0]
[131,null,null,null,null,null,null,null,null,null,null,null,null,null,null,null,null,null,"I",{"$f":"P133-C133","v":0},{"$f":"IF(K133=data!$A$26,P133-$E$1,\"-\")","v":"-"},1,{"$f":"IF(B133=data!$A$36,IF(K133=data!$A$26,1,0),0)","v":0},{"$f":"IF(B133=data!$A$36,IF(K133=data!$A$27,1,0),0)","v":0},{"$f":"IF(B133=data!$A$37,IF(K133=data!$A$26,1,0),0)","v":0},{"$f":"IF(B133=data!$A$37,IF(K133=data!$A$27,1,0),0)","v":0},{"$f":"IF(B133=data!$A$38,IF(K133=data!$A$26,1,0),0)","v":0},{"$f":"IF(B133=data!$A$38,IF(K133=data!$A$27,1,0),0)","v":0},{"$f":"IF(B175=data!$A$39,IF(K175=data!$A$26,1,0),0)","v":0},{"$f":"IF(B175=data!$A$39,IF(K175=data!$A$27,1,0),0)","v":0},0]
[132,null,null,null,null,null,null,null,null,null,null,null,null,null,null,null,null,null,"I",{"$f":"P134-C134","v":0},{"$f":"IF(K134=data!$A$26,P134-$E$1,\"-\")","v":"-"},1,{"$f":"IF(B134=data!$A$36,IF(K134=data!$A$26,1,0),0)","v":0},{"$f":"IF(B134=data!$A$36,IF(K134=data!$A$27,1,0),0)","v":0},{"$f":"IF(B134=data!$A$37,IF(K134=data!$A$26,1,0),0)","v":0},{"$f":"IF(B134=data!$A$37,IF(K134=data!$A$27,1,0),0)","v":0},{"$f":"IF(B134=data!$A$38,IF(K134=data!$A$26,1,0),0)","v":0},{"$f":"IF(B134=data!$A$38,IF(K134=data!$A$27,1,0),0)","v":0},{"$f":"IF(B176=data!$A$39,IF(K176=data!$A$26,1,0),0)","v":0},{"$f":"IF(B176=data!$A$39,IF(K176=data!$A$27,1,0),0)","v":0},0]
[133,null,null,null,null,null,null,null,null,null,null,null,null,null,null,null,null,null,"I",{"$f":"P135-C135","v":0},{"$f":"IF(K135=data!$A$26,P135-$E$1,\"-\")","v":"-"},1,{"$f":"IF(B135=data!$A$36,IF(K135=data!$A$26,1,0),0)","v":0},{"$f":"IF(B135=data!$A$36,IF(K135=data!$A$27,1,0),0)","v":0},{"$f":"IF(B135=data!$A$37,IF(K135=data!$A$26,1,0),0)","v":0},{"$f":"IF(B135=data!$A$37,IF(K135=data!$A$27,1,0),0)","v":0},{"$f":"IF(B135=data!$A$38,IF(K135=data!$A$26,1,0),0)","v":0},{"$f":"IF(B135=data!$A$38,IF(K135=data!$A$27,1,0),0)","v":0},{"$f":"IF(B177=data!$A$39,IF(K177=data!$A$26,1,0),0)","v":0},{"$f":"IF(B177=data!$A$39,IF(K177=data!$A$27,1,0),0)","v":0},0]
[134,null,null,null,null,null,null,null,null,null,null,null,null,null,null,null,null,null,"I",{"$f":"P136-C136","v":0},{"$f":"IF(K136=data!$A$26,P136-$E$1,\"-\")","v":"-"},1,{"$f":"IF(B136=data!$A$36,IF(K136=data!$A$26,1,0),0)","v":0},{"$f":"IF(B136=data!$A$36,IF(K136=data!$A$27,1,0),0)","v":0},{"$f":"IF(B136=data!$A$37,IF(K136=data!$A$26,1,0),0)","v":0},{"$f":"IF(B136=data!$A$37,IF(K136=data!$A$27,1,0),0)","v":0},{"$f":"IF(B136=data!$A$38,IF(K136=data!$A$26,1,0),0)","v":0},{"$f":"IF(B136=data!$A$38,IF(K136=data!$A$27,1,0),0)","v":0},{"$f":"IF(B178=data!$A$39,IF(K178=data!$A$26,1,0),0)","v":0},{"$f":"IF(B178=data!$A$39,IF(K178=data!$A$27,1,0),0)","v":0},0]
[135,null,null,null,null,null,null,null,null,null,null,null,null,null,null,null,null,null,"I",{"$f":"P137-C137","v":0},{"$f":"IF(K137=data!$A$26,P137-$E$1,\"-\")","v":"-"},1,{"$f":"IF(B137=data!$A$36,IF(K137=data!$A$26,1,0),0)","v":0},{"$f":"IF(B137=data!$A$36,IF(K137=data!$A$27,1,0),0)","v":0},{"$f":"IF(B137=data!$A$37,IF(K137=data!$A$26,1,0),0)","v":0},{"$f":"IF(B137=data!$A$37,IF(K137=data!$A$27,1,0),0)","v":0},{"$f":"IF(B137=data!$A$38,IF(K137=data!$A$26,1,0),0)","v":0},{"$f":"IF(B137=data!$A$38,IF(K137=data!$A$27,1,0),0)","v":0},{"$f":"IF(B179=data!$A$39,IF(K179=data!$A$26,1,0),0)","v":0},{"$f":"IF(B179=data!$A$39,IF(K179=data!$A$27,1,0),0)","v":0},0]
[136,null,null,null,null,null,null,null,null,null,null,null,null,null,null,null,null,null,"I",{"$f":"P138-C138","v":0},{"$f":"IF(K138=data!$A$26,P138-$E$1,\"-\")","v":"-"},1,{"$f":"IF(B138=data!$A$36,IF(K138=data!$A$26,1,0),0)","v":0},{"$f":"IF(B138=data!$A$36,IF(K138=data!$A$27,1,0),0)","v":0},{"$f":"IF(B138=data!$A$37,IF(K138=data!$A$26,1,0),0)","v":0},{"$f":"IF(B138=data!$A$37,IF(K138=data!$A$27,1,0),0)","v":0},{"$f":"IF(B138=data!$A$38,IF(K138=data!$A$26,1,0),0)","v":0},{"$f":"IF(B138=data!$A$38,IF(K138=data!$A$27,1,0),0)","v":0},{"$f":"IF(B180=data!$A$39,IF(K180=data!$A$26,1,0),0)","v":0},{"$f":"IF(B180=data!$A$39,IF(K180=data!$A$27,1,0),0)","v":0},0]
[137,null,null,null,null,null,null,null,null,null,null,null,null,null,null,null,null,null,"I",{"$f":"P139-C139","v":0},{"$f":"IF(K139=data!$A$26,P139-$E$1,\"-\")","v":"-"},1,{"$f":"IF(B139=data!$A$36,IF(K139=data!$A$26,1,0),0)","v":0},{"$f":"IF(B139=data!$A$36,IF(K139=data!$A$27,1,0),0)","v":0},{"$f":"IF(B139=data!$A$37,IF(K139=data!$A$26,1,0),0)","v":0},{"$f":"IF(B139=data!$A$37,IF(K139=data!$A$27,1,0),0)","v":0},{"$f":"IF(B139=data!$A$38,IF(K139=data!$A$26,1,0),0)","v":0},{"$f":"IF(B139=data!$A$38,IF(K139=data!$A$27,1,0),0)","v":0},{"$f":"IF(B181=data!$A$39,IF(K181=data!$A$26,1,0),0)","v":0},{"$f":"IF(B181=data!$A$39,IF(K181=data!$A$27,1,0),0)","v":0},0]
[138,null,null,null,null,null,null,null,null,null,null,null,null,null,null,null,null,null,"I",{"$f":"P140-C140","v":0},{"$f":"IF(K140=data!$A$26,P140-$E$1,\"-\")","v":"-"},1,{"$f":"IF(B140=data!$A$36,IF(K140=data!$A$26,1,0),0)","v":0},{"$f":"IF(B140=data!$A$36,IF(K140=data!$A$27,1,0),0)","v":0},{"$f":"IF(B140=data!$A$37,IF(K140=data!$A$26,1,0),0)","v":0},{"$f":"IF(B140=data!$A$37,IF(K140=data!$A$27,1,0),0)","v":0},{"$f":"IF(B140=data!$A$38,IF(K140=data!$A$26,1,0),0)","v":0},{"$f":"IF(B140=data!$A$38,IF(K140=data!$A$27,1,0),0)","v":0},{"$f":"IF(B182=data!$A$39,IF(K182=data!$A$26,1,0),0)","v":0},{"$f":"IF(B182=data!$A$39,IF(K182=data!$A$27,1,0),0)","v":0},0]
[139,null,null,null,null,null,null,null,null,null,null,null,null,null,null,null,null,null,"I",{"$f":"P141-C141","v":0},{"$f":"IF(K141=data!$A$26,P141-$E$1,\"-\")","v":"-"},1,{"$f":"IF(B141=data!$A$36,IF(K141=data!$A$26,1,0),0)","v":0},{"$f":"IF(B141=data!$A$36,IF(K141=data!$A$27,1,0),0)","v":0},{"$f":"IF(B141=data!$A$37,IF(K141=data!$A$26,1,0),0)","v":0},{"$f":"IF(B141=data!$A$37,IF(K141=data!$A$27,1,0),0)","v":0},{"$f":"IF(B141=data!$A$38,IF(K141=data!$A$26,1,0),0)","v":0},{"$f":"IF(B141=data!$A$38,IF(K141=data!$A$27,1,0),0)","v":0},{"$f":"IF(B183=data!$A$39,IF(K183=data!$A$26,1,0),0)","v":0},{"$f":"IF(B183=data!$A$39,IF(K183=data!$A$27,1,0),0)","v":0},0]
[140,null,null,null,null,null,null,null,null,null,null,null,null,null,null,null,null,null,"I",{"$f":"P142-C142","v":0},{"$f":"IF(K142=data!$A$26,P142-$E$1,\"-\")","v":"-"},1,{"$f":"IF(B142=data!$A$36,IF(K142=data!$A$26,1,0),0)","v":0},{"$f":"IF(B142=data!$A$36,IF(K142=data!$A$27,1,0),0)","v":0},{"$f":"IF(B142=data!$A$37,IF(K142=data!$A$26,1,0),0)","v":0},{"$f":"IF(B142=data!$A$37,IF(K142=data!$A$27,1,0),0)","v":0},{"$f":"IF(B142=data!$A$38,IF(K142=data!$A$26,1,0),0)","v":0},{"$f":"IF(B142=data!$A$38,IF(K142=data!$A$27,1,0),0)","v":0},{"$f":"IF(B184=data!$A$39,IF(K184=data!$A$26,1,0),0)","v":0},{"$f":"IF(B184=data!$A$39,IF(K184=data!$A$27,1,0),0)","v":0},0]
[141,null,null,null,null,null,null,null,null,null,null,null,null,null,null,null,null,null,"I",{"$f":"P143-C143","v":0},{"$f":"IF(K143=data!$A$26,P143-$E$1,\"-\")","v":"-"},1,{"$f":"IF(B143=data!$A$36,IF(K143=data!$A$26,1,0),0)","v":0},{"$f":"IF(B143=data!$A$36,IF(K143=data!$A$27,1,0),0)","v":0},{"$f":"IF(B143=data!$A$37,IF(K143=data!$A$26,1,0),0)","v":0},{"$f":"IF(B143=data!$A$37,IF(K143=data!$A$27,1,0),0)","v":0},{"$f":"IF(B143=data!$A$38,IF(K143=data!$A$26,1,0),0)","v":0},{"$f":"IF(B143=data!$A$38,IF(K143=data!$A$27,1,0),0)","v":0},{"$f":"IF(B185=data!$A$39,IF(K185=data!$A$26,1,0),0)","v":0},{"$f":"IF(B185=data!$A$39,IF(K185=data!$A$27,1,0),0)","v":0},{"$f":"IF(U143<0,1,0)","v":0}]
[142,null,null,null,null,null,null,null,null,null,null,null,null,null,null,null,null,null,"I",{"$f":"P144-C144","v":0},{"$f":"IF(K144=data!$A$26,P144-$E$1,\"-\")","v":"-"},1,{"$f":"IF(B144=data!$A$36,IF(K144=data!$A$26,1,0),0)","v":0},{"$f":"IF(B144=data!$A$36,IF(K144=data!$A$27,1,0),0)","v":0},{"$f":"IF(B144=data!$A$37,IF(K144=data!$A$26,1,0),0)","v":0},{"$f":"IF(B144=data!$A$37,IF(K144=data!$A$27,1,0),0)","v":0},{"$f":"IF(B144=data!$A$38,IF(K144=data!$A$26,1,0),0)","v":0},{"$f":"IF(B144=data!$A$38,IF(K144=data!$A$27,1,0),0)","v":0},{"$f":"IF(B186=data!$A$39,IF(K186=data!$A$26,1,0),0)","v":0},{"$f":"IF(B186=data!$A$39,IF(K186=data!$A$27,1,0),0)","v":0},0]
[143,null,null,null,null,null,null,null,null,null,null,null,null,null,null,null,null,null,"I",{"$f":"P145-C145","v":0},{"$f":"IF(K145=data!$A$26,P145-$E$1,\"-\")","v":"-"},1,{"$f":"IF(B145=data!$A$36,IF(K145=data!$A$26,1,0),0)","v":0},{"$f":"IF(B145=data!$A$36,IF(K145=data!$A$27,1,0),0)","v":0},{"$f":"IF(B145=data!$A$37,IF(K145=data!$A$26,1,0),0)","v":0},{"$f":"IF(B145=data!$A$37,IF(K145=data!$A$27,1,0),0)","v":0},{"$f":"IF(B145=data!$A$38,IF(K145=data!$A$26,1,0),0)","v":0},{"$f":"IF(B145=data!$A$38,IF(K145=data!$A$27,1,0),0)","v":0},{"$f":"IF(B187=data!$A$39,IF(K187=data!$A$26,1,0),0)","v":0},{"$f":"IF(B187=data!$A$39,IF(K187=data!$A$27,1,0),0)","v":0},0]
[144,null,null,null,null,null,null,null,null,null,null,null,null,null,null,null,null,null,"I",{"$f":"P146-C146","v":0},{"$f":"IF(K146=data!$A$26,P146-$E$1,\"-\")","v":"-"},1,{"$f":"IF(B146=data!$A$36,IF(K146=data!$A$26,1,0),0)","v":0},{"$f":"IF(B146=data!$A$36,IF(K146=data!$A$27,1,0),0)","v":0},{"$f":"IF(B146=data!$A$37,IF(K146=data!$A$26,1,0),0)","v":0},{"$f":"IF(B146=data!$A$37,IF(K146=data!$A$27,1,0),0)","v":0},{"$f":"IF(B146=data!$A$38,IF(K146=data!$A$26,1,0),0)","v":0},{"$f":"IF(B146=data!$A$38,IF(K146=data!$A$27,1,0),0)","v":0},{"$f":"IF(B188=data!$A$39,IF(K188=data!$A$26,1,0),0)","v":0},{"$f":"IF(B188=data!$A$39,IF(K188=data!$A$27,1,0),0)","v":0},0]
[145,null,null,null,null,null,null,null,null,null,null,null,null,null,null,null,null,null,"I",{"$f":"P147-C147","v":0},{"$f":"IF(K147=data!$A$26,P147-$E$1,\"-\")","v":"-"},1,{"$f":"IF(B147=data!$A$36,IF(K147=data!$A$26,1,0),0)","v":0},{"$f":"IF(B147=data!$A$36,IF(K147=data!$A$27,1,0),0)","v":0},{"$f":"IF(B147=data!$A$37,IF(K147=data!$A$26,1,0),0)","v":0},{"$f":"IF(B147=data!$A$37,IF(K147=data!$A$27,1,0),0)","v":0},{"$f":"IF(B147=data!$A$38,IF(K147=data!$A$26,1,0),0)","v":0},{"$f":"IF(B147=data!$A$38,IF(K147=data!$A$27,1,0),0)","v":0},{"$f":"IF(B189=data!$A$39,IF(K189=data!$A$26,1,0),0)","v":0},{"$f":"IF(B189=data!$A$39,IF(K189=data!$A$27,1,0),0)","v":0},0]
[146,null,null,null,null,null,null,null,null,null,null,null,null,null,null,null,null,null,"I",{"$f":"P148-C148","v":0},{"$f":"IF(K148=data!$A$26,P148-$E$1,\"-\")","v":"-"},1,{"$f":"IF(B148=data!$A$36,IF(K148=data!$A$26,1,0),0)","v":0},{"$f":"IF(B148=data!$A$36,IF(K148=data!$A$27,1,0),0)","v":0},{"$f":"IF(B148=data!$A$37,IF(K148=data!$A$26,1,0),0)","v":0},{"$f":"IF(B148=data!$A$37,IF(K148=data!$A$27,1,0),0)","v":0},{"$f":"IF(B148=data!$A$38,IF(K148=data!$A$26,1,0),0)","v":0},{"$f":"IF(B148=data!$A$38,IF(K148=data!$A$27,1,0),0)","v":0},{"$f":"IF(B190=data!$A$39,IF(K190=data!$A$26,1,0),0)","v":0},{"$f":"IF(B190=data!$A$39,IF(K190=data!$A$27,1,0),0)","v":0},0]
[147,null,null,null,null,null,null,null,null,null,null,null,null,null,null,null,null,null,"I",{"$f":"P149-C149","v":0},{"$f":"IF(K149=data!$A$26,P149-$E$1,\"-\")","v":"-"},1,{"$f":"IF(B149=data!$A$36,IF(K149=data!$A$26,1,0),0)","v":0},{"$f":"IF(B149=data!$A$36,IF(K149=data!$A$27,1,0),0)","v":0},{"$f":"IF(B149=data!$A$37,IF(K149=data!$A$26,1,0),0)","v":0},{"$f":"IF(B149=data!$A$37,IF(K149=data!$A$27,1,0),0)","v":0},{"$f":"IF(B149=data!$A$38,IF(K149=data!$A$26,1,0),0)","v":0},{"$f":"IF(B149=data!$A$38,IF(K149=data!$A$27,1,0),0)","v":0},{"$f":"IF(B191=data!$A$39,IF(K191=data!$A$26,1,0),0)","v":0},{"$f":"IF(B191=data!$A$39,IF(K191=data!$A$27,1,0),0)","v":0},0]
[148,null,null,null,null,null,null,null,null,null,null,null,null,null,null,null,null,null,"I",{"$f":"P150-C150","v":0},{"$f":"IF(K150=data!$A$26,P150-$E$1,\"-\")","v":"-"},1,{"$f":"IF(B150=data!$A$36,IF(K150=data!$A$26,1,0),0)","v":0},{"$f":"IF(B150=data!$A$36,IF(K150=data!$A$27,1,0),0)","v":0},{"$f":"IF(B150=data!$A$37,IF(K150=data!$A$26,1,0),0)","v":0},{"$f":"IF(B150=data!$A$37,IF(K150=data!$A$27,1,0),0)","v":0},{"$f":"IF(B150=data!$A$38,IF(K150=data!$A$26,1,0),0)","v":0},{"$f":"IF(B150=data!$A$38,IF(K150=data!$A$27,1,0),0)","v":0},{"$f":"IF(B192=data!$A$39,IF(K192=data!$A$26,1,0),0)","v":0},{"$f":"IF(B192=data!$A$39,IF(K192=data!$A$27,1,0),0)","v":0},0]
[149,null,null,null,null,null,null,null,null,null,null,null,null,null,null,null,null,null,"I",{"$f":"P151-C151","v":0},{"$f":"IF(K151=data!$A$26,P151-$E$1,\"-\")","v":"-"},1,{"$f":"IF(B151=data!$A$36,IF(K151=data!$A$26,1,0),0)","v":0},{"$f":"IF(B151=data!$A$36,IF(K151=data!$A$27,1,0),0)","v":0},{"$f":"IF(B151=data!$A$37,IF(K151=data!$A$26,1,0),0)","v":0},{"$f":"IF(B151=data!$A$37,IF(K151=data!$A$27,1,0),0)","v":0},{"$f":"IF(B151=data!$A$38,IF(K151=data!$A$26,1,0),0)","v":0},{"$f":"IF(B151=data!$A$38,IF(K151=data!$A$27,1,0),0)","v":0},{"$f":"IF(B193=data!$A$39,IF(K193=data!$A$26,1,0),0)","v":0},{"$f":"IF(B193=data!$A$39,IF(K193=data!$A$27,1,0),0)","v":0},0]
[150,null,null,null,null,null,null,null,null,null,null,null,null,null,null,null,null,null,"I",{"$f":"P152-C152","v":0},{"$f":"IF(K152=data!$A$26,P152-$E$1,\"-\")","v":"-"},1,{"$f":"IF(B152=data!$A$36,IF(K152=data!$A$26,1,0),0)","v":0},{"$f":"IF(B152=data!$A$36,IF(K152=data!$A$27,1,0),0)","v":0},{"$f":"IF(B152=data!$A$37,IF(K152=data!$A$26,1,0),0)","v":0},{"$f":"IF(B152=data!$A$37,IF(K152=data!$A$27,1,0),0)","v":0},{"$f":"IF(B152=data!$A$38,IF(K152=data!$A$26,1,0),0)","v":0},{"$f":"IF(B152=data!$A$38,IF(K152=data!$A$27,1,0),0)","v":0},{"$f":"IF(B194=data!$A$39,IF(K194=data!$A$26,1,0),0)","v":0},{"$f":"IF(B194=data!$A$39,IF(K194=data!$A$27,1,0),0)","v":0},0]
[151,null,null,null,null,null,null,null,null,null,null,null,null,null,null,null,null,null,"I",{"$f":"P153-C153","v":0},{"$f":"IF(K153=data!$A$26,P153-$E$1,\"-\")","v":"-"},1,{"$f":"IF(B153=data!$A$36,IF(K153=data!$A$26,1,0),0)","v":0},{"$f":"IF(B153=data!$A$36,IF(K153=data!$A$27,1,0),0)","v":0},{"$f":"IF(B153=data!$A$37,IF(K153=data!$A$26,1,0),0)","v":0},{"$f":"IF(B153=data!$A$37,IF(K153=data!$A$27,1,0),0)","v":0},{"$f":"IF(B153=data!$A$38,IF(K153=data!$A$26,1,0),0)","v":0},{"$f":"IF(B153=data!$A$38,IF(K153=data!$A$27,1,0),0)","v":0},{"$f":"IF(B195=data!$A$39,IF(K195=data!$A$26,1,0),0)","v":0},{"$f":"IF(B195=data!$A$39,IF(K195=data!$A$27,1,0),0)","v":0},0]
[152,null,null,null,null,null,null,null,null,null,null,null,null,null,null,null,null,null,"I",{"$f":"P154-C154","v":0},{"$f":"IF(K154=data!$A$26,P154-$E$1,\"-\")","v":"-"},1,{"$f":"IF(B154=data!$A$36,IF(K154=data!$A$26,1,0),0)","v":0},{"$f":"IF(B154=data!$A$36,IF(K154=data!$A$27,1,0),0)","v":0},{"$f":"IF(B154=data!$A$37,IF(K154=data!$A$26,1,0),0)","v":0},{"$f":"IF(B154=data!$A$37,IF(K154=data!$A$27,1,0),0)","v":0},{"$f":"IF(B154=data!$A$38,IF(K154=data!$A$26,1,0),0)","v":0},{"$f":"IF(B154=data!$A$38,IF(K154=data!$A$27,1,0),0)","v":0},{"$f":"IF(B196=data!$A$39,IF(K196=data!$A$26,1,0),0)","v":0},{"$f":"IF(B196=data!$A$39,IF(K196=data!$A$27,1,0),0)","v":0},0]
[153,null,null,null,null,null,null,null,null,null,null,null,null,null,null,null,null,null,"I",{"$f":"P155-C155","v":0},{"$f":"IF(K155=data!$A$26,P155-$E$1,\"-\")","v":"-"},1,{"$f":"IF(B155=data!$A$36,IF(K155=data!$A$26,1,0),0)","v":0},{"$f":"IF(B155=data!$A$36,IF(K155=data!$A$27,1,0),0)","v":0},{"$f":"IF(B155=data!$A$37,IF(K155=data!$A$26,1,0),0)","v":0},{"$f":"IF(B155=data!$A$37,IF(K155=data!$A$27,1,0),0)","v":0},{"$f":"IF(B155=data!$A$38,IF(K155=data!$A$26,1,0),0)","v":0},{"$f":"IF(B155=data!$A$38,IF(K155=data!$A$27,1,0),0)","v":0},{"$f":"IF(B197=data!$A$39,IF(K197=data!$A$26,1,0),0)","v":0},{"$f":"IF(B197=data!$A$39,IF(K197=data!$A$27,1,0),0)","v":0},0]
[154,null,null,null,null,null,null,null,null,null,null,null,null,null,null,null,null,null,"I",{"$f":"P156-C156","v":0},{"$f":"IF(K156=data!$A$26,P156-$E$1,\"-\")","v":"-"},1,{"$f":"IF(B156=data!$A$36,IF(K156=data!$A$26,1,0),0)","v":0},{"$f":"IF(B156=data!$A$36,IF(K156=data!$A$27,1,0),0)","v":0},{"$f":"IF(B156=data!$A$37,IF(K156=data!$A$26,1,0),0)","v":0},{"$f":"IF(B156=data!$A$37,IF(K156=data!$A$27,1,0),0)","v":0},{"$f":"IF(B156=data!$A$38,IF(K156=data!$A$26,1,0),0)","v":0},{"$f":"IF(B156=data!$A$38,IF(K156=data!$A$27,1,0),0)","v":0},{"$f":"IF(B198=data!$A$39,IF(K198=data!$A$26,1,0),0)","v":0},{"$f":"IF(B198=data!$A$39,IF(K198=data!$A$27,1,0),0)","v":0},0]
[155,null,null,null,null,null,null,null,null,null,null,null,null,null,null,null,null,null,"I",{"$f":"P157-C157","v":0},{"$f":"IF(K157=data!$A$26,P157-$E$1,\"-\")","v":"-"},1,{"$f":"IF(B157=data!$A$36,IF(K157=data!$A$26,1,0),0)","v":0},{"$f":"IF(B157=data!$A$36,IF(K157=data!$A$27,1,0),0)","v":0},{"$f":"IF(B157=data!$A$37,IF(K157=data!$A$26,1,0),0)","v":0},{"$f":"IF(B157=data!$A$37,IF(K157=data!$A$27,1,0),0)","v":0},{"$f":"IF(B157=data!$A$38,IF(K157=data!$A$26,1,0),0)","v":0},{"$f":"IF(B157=data!$A$38,IF(K157=data!$A$27,1,0),0)","v":0},{"$f":"IF(B199=data!$A$39,IF(K199=data!$A$26,1,0),0)","v":0},{"$f":"IF(B199=data!$A$39,IF(K199=data!$A$27,1,0),0)","v":0},0]
[156,null,null,null,null,null,null,null,null,null,null,null,null,null,null,null,null,null,"I",{"$f":"P158-C158","v":0},{"$f":"IF(K158=data!$A$26,P158-$E$1,\"-\")","v":"-"},1,{"$f":"IF(B158=data!$A$36,IF(K158=data!$A$26,1,0),0)","v":0},{"$f":"IF(B158=data!$A$36,IF(K158=data!$A$27,1,0),0)","v":0},{"$f":"IF(B158=data!$A$37,IF(K158=data!$A$26,1,0),0)","v":0},{"$f":"IF(B158=data!$A$37,IF(K158=data!$A$27,1,0),0)","v":0},{"$f":"IF(B158=data!$A$38,IF(K158=data!$A$26,1,0),0)","v":0},{"$f":"IF(B158=data!$A$38,IF(K158=data!$A$27,1,0),0)","v":0},{"$f":"IF(B200=data!$A$39,IF(K200=data!$A$26,1,0),0)","v":0},{"$f":"IF(B200=data!$A$39,IF(K200=data!$A$27,1,0),0)","v":0},0]
[157,null,null,null,null,null,null,null,null,null,null,null,null,null,null,null,null,null,"I",{"$f":"P159-C159","v":0},{"$f":"IF(K159=data!$A$26,P159-$E$1,\"-\")","v":"-"},1,{"$f":"IF(B159=data!$A$36,IF(K159=data!$A$26,1,0),0)","v":0},{"$f":"IF(B159=data!$A$36,IF(K159=data!$A$27,1,0),0)","v":0},{"$f":"IF(B159=data!$A$37,IF(K159=data!$A$26,1,0),0)","v":0},{"$f":"IF(B159=data!$A$37,IF(K159=data!$A$27,1,0),0)","v":0},{"$f":"IF(B159=data!$A$38,IF(K159=data!$A$26,1,0),0)","v":0},{"$f":"IF(B159=data!$A$38,IF(K159=data!$A$27,1,0),0)","v":0},{"$f":"IF(B201=data!$A$39,IF(K201=data!$A$26,1,0),0)","v":0},{"$f":"IF(B201=data!$A$39,IF(K201=data!$A$27,1,0),0)","v":0},0]
[158,null,null,null,null,null,null,null,null,null,null,null,null,null,null,null,null,null,"I",{"$f":"P160-C160","v":0},{"$f":"IF(K160=data!$A$26,P160-$E$1,\"-\")","v":"-"},1,{"$f":"IF(B160=data!$A$36,IF(K160=data!$A$26,1,0),0)","v":0},{"$f":"IF(B160=data!$A$36,IF(K160=data!$A$27,1,0),0)","v":0},{"$f":"IF(B160=data!$A$37,IF(K160=data!$A$26,1,0),0)","v":0},{"$f":"IF(B160=data!$A$37,IF(K160=data!$A$27,1,0),0)","v":0},{"$f":"IF(B160=data!$A$38,IF(K160=data!$A$26,1,0),0)","v":0},{"$f":"IF(B160=data!$A$38,IF(K160=data!$A$27,1,0),0)","v":0},{"$f":"IF(B202=data!$A$39,IF(K202=data!$A$26,1,0),0)","v":0},{"$f":"IF(B202=data!$A$39,IF(K202=data!$A$27,1,0),0)","v":0},0]
[159,null,null,null,null,null,null,null,null,null,null,null,null,null,null,null,null,null,"I",{"$f":"P161-C161","v":0},{"$f":"IF(K161=data!$A$26,P161-$E$1,\"-\")","v":"-"},1,{"$f":"IF(B161=data!$A$36,IF(K161=data!$A$26,1,0),0)","v":0},{"$f":"IF(B161=data!$A$36,IF(K161=data!$A$27,1,0),0)","v":0},{"$f":"IF(B161=data!$A$37,IF(K161=data!$A$26,1,0),0)","v":0},{"$f":"IF(B161=data!$A$37,IF(K161=data!$A$27,1,0),0)","v":0},{"$f":"IF(B161=data!$A$38,IF(K161=data!$A$26,1,0),0)","v":0},{"$f":"IF(B161=data!$A$38,IF(K161=data!$A$27,1,0),0)","v":0},{"$f":"IF(B203=data!$A$39,IF(K203=data!$A$26,1,0),0)","v":0},{"$f":"IF(B203=data!$A$39,IF(K203=data!$A$27,1,0),0)","v":0},0]
[160,null,null,null,null,null,null,null,null,null,null,null,null,null,null,null,null,null,"I",{"$f":"P162-C162","v":0},{"$f":"IF(K162=data!$A$26,P162-$E$1,\"-\")","v":"-"},1,{"$f":"IF(B162=data!$A$36,IF(K162=data!$A$26,1,0),0)","v":0},{"$f":"IF(B162=data!$A$36,IF(K162=data!$A$27,1,0),0)","v":0},{"$f":"IF(B162=data!$A$37,IF(K162=data!$A$26,1,0),0)","v":0},{"$f":"IF(B162=data!$A$37,IF(K162=data!$A$27,1,0),0)","v":0},{"$f":"IF(B162=data!$A$38,IF(K162=data!$A$26,1,0),0)","v":0},{"$f":"IF(B162=data!$A$38,IF(K162=data!$A$27,1,0),0)","v":0},{"$f":"IF(B204=data!$A$39,IF(K204=data!$A$26,1,0),0)","v":0},{"$f":"IF(B204=data!$A$39,IF(K204=data!$A$27,1,0),0)","v":0},0]
[161,null,null,null,null,null,null,null,null,null,null,null,null,null,null,null,null,null,"I",{"$f":"P163-C163","v":0},{"$f":"IF(K163=data!$A$26,P163-$E$1,\"-\")","v":"-"},1,{"$f":"IF(B163=data!$A$36,IF(K163=data!$A$26,1,0),0)","v":0},{"$f":"IF(B163=data!$A$36,IF(K163=data!$A$27,1,0),0)","v":0},{"$f":"IF(B163=data!$A$37,IF(K163=data!$A$26,1,0),0)","v":0},{"$f":"IF(B163=data!$A$37,IF(K163=data!$A$27,1,0),0)","v":0},{"$f":"IF(B163=data!$A$38,IF(K163=data!$A$26,1,0),0)","v":0},{"$f":"IF(B163=data!$A$38,IF(K163=data!$A$27,1,0),0)","v":0},{"$f":"IF(B205=data!$A$39,IF(K205=data!$A$26,1,0),0)","v":0},{"$f":"IF(B205=data!$A$39,IF(K205=data!$A$27,1,0),0)","v":0},0]
[162,null,null,null,null,null,null,null,null,null,null,null,null,null,null,null,null,null,"I",{"$f":"P164-C164","v":0},{"$f":"IF(K164=data!$A$26,P164-$E$1,\"-\")","v":"-"},1,{"$f":"IF(B164=data!$A$36,IF(K164=data!$A$26,1,0),0)","v":0},{"$f":"IF(B164=data!$A$36,IF(K164=data!$A$27,1,0),0)","v":0},{"$f":"IF(B164=data!$A$37,IF(K164=data!$A$26,1,0),0)","v":0},{"$f":"IF(B164=data!$A$37,IF(K164=data!$A$27,1,0),0)","v":0},{"$f":"IF(B164=data!$A$38,IF(K164=data!$A$26,1,0),0)","v":0},{"$f":"IF(B164=data!$A$38,IF(K164=data!$A$27,1,0),0)","v":0},{"$f":"IF(B206=data!$A$39,IF(K206=data!$A$26,1,0),0)","v":0},{"$f":"IF(B206=data!$A$39,IF(K206=data!$A$27,1,0),0)","v":0},0]
[163,null,null,null,null,null,null,null,null,null,null,null,null,null,null,null,null,null,"I",{"$f":"P165-C165","v":0},{"$f":"IF(K165=data!$A$26,P165-$E$1,\"-\")","v":"-"},1,{"$f":"IF(B165=data!$A$36,IF(K165=data!$A$26,1,0),0)","v":0},{"$f":"IF(B165=data!$A$36,IF(K165=data!$A$27,1,0),0)","v":0},{"$f":"IF(B165=data!$A$37,IF(K165=data!$A$26,1,0),0)","v":0},{"$f":"IF(B165=data!$A$37,IF(K165=data!$A$27,1,0),0)","v":0},{"$f":"IF(B165=data!$A$38,IF(K165=data!$A$26,1,0),0)","v":0},{"$f":"IF(B165=data!$A$38,IF(K165=data!$A$27,1,0),0)","v":0},{"$f":"IF(B207=data!$A$39,IF(K207=data!$A$26,1,0),0)","v":0},{"$f":"IF(B207=data!$A$39,IF(K207=data!$A$27,1,0),0)","v":0},0]
[164,null,null,null,null,null,null,null,null,null,null,null,null,null,null,null,null,null,"I",{"$f":"P166-C166","v":0},{"$f":"IF(K166=data!$A$26,P166-$E$1,\"-\")","v":"-"},1,{"$f":"IF(B166=data!$A$36,IF(K166=data!$A$26,1,0),0)","v":0},{"$f":"IF(B166=data!$A$36,IF(K166=data!$A$27,1,0),0)","v":0},{"$f":"IF(B166=data!$A$37,IF(K166=data!$A$26,1,0),0)","v":0},{"$f":"IF(B166=data!$A$37,IF(K166=data!$A$27,1,0),0)","v":0},{"$f":"IF(B166=data!$A$38,IF(K166=data!$A$26,1,0),0)","v":0},{"$f":"IF(B166=data!$A$38,IF(K166=data!$A$27,1,0),0)","v":0},{"$f":"IF(B208=data!$A$39,IF(K208=data!$A$26,1,0),0)","v":0},{"$f":"IF(B208=data!$A$39,IF(K208=data!$A$27,1,0),0)","v":0},0]
[165,null,null,null,null,null,null,null,null,null,null,null,null,null,null,null,null,null,"I",{"$f":"P167-C167","v":0},{"$f":"IF(K167=data!$A$26,P167-$E$1,\"-\")","v":"-"},1,{"$f":"IF(B167=data!$A$36,IF(K167=data!$A$26,1,0),0)","v":0},{"$f":"IF(B167=data!$A$36,IF(K167=data!$A$27,1,0),0)","v":0},{"$f":"IF(B167=data!$A$37,IF(K167=data!$A$26,1,0),0)","v":0},{"$f":"IF(B167=data!$A$37,IF(K167=data!$A$27,1,0),0)","v":0},{"$f":"IF(B167=data!$A$38,IF(K167=data!$A$26,1,0),0)","v":0},{"$f":"IF(B167=data!$A$38,IF(K167=data!$A$27,1,0),0)","v":0},{"$f":"IF(B209=data!$A$39,IF(K209=data!$A$26,1,0),0)","v":0},{"$f":"IF(B209=data!$A$39,IF(K209=data!$A$27,1,0),0)","v":0},0]
[166,null,null,null,null,null,null,null,null,null,null,null,null,null,null,null,null,null,"I",{"$f":"P168-C168","v":0},{"$f":"IF(K168=data!$A$26,P168-$E$1,\"-\")","v":"-"},1,{"$f":"IF(B168=data!$A$36,IF(K168=data!$A$26,1,0),0)","v":0},{"$f":"IF(B168=data!$A$36,IF(K168=data!$A$27,1,0),0)","v":0},{"$f":"IF(B168=data!$A$37,IF(K168=data!$A$26,1,0),0)","v":0},{"$f":"IF(B168=data!$A$37,IF(K168=data!$A$27,1,0),0)","v":0},{"$f":"IF(B168=data!$A$38,IF(K168=data!$A$26,1,0),0)","v":0},{"$f":"IF(B168=data!$A$38,IF(K168=data!$A$27,1,0),0)","v":0},{"$f":"IF(B210=data!$A$39,IF(K210=data!$A$26,1,0),0)","v":0},{"$f":"IF(B210=data!$A$39,IF(K210=data!$A$27,1,0),0)","v":0},0]
[167,null,null,null,null,null,null,null,null,null,null,null,null,null,null,null,null,null,"I",{"$f":"P169-C169","v":0},{"$f":"IF(K169=data!$A$26,P169-$E$1,\"-\")","v":"-"},1,{"$f":"IF(B169=data!$A$36,IF(K169=data!$A$26,1,0),0)","v":0},{"$f":"IF(B169=data!$A$36,IF(K169=data!$A$27,1,0),0)","v":0},{"$f":"IF(B169=data!$A$37,IF(K169=data!$A$26,1,0),0)","v":0},{"$f":"IF(B169=data!$A$37,IF(K169=data!$A$27,1,0),0)","v":0},{"$f":"IF(B169=data!$A$38,IF(K169=data!$A$26,1,0),0)","v":0},{"$f":"IF(B169=data!$A$38,IF(K169=data!$A$27,1,0),0)","v":0},{"$f":"IF(B211=data!$A$39,IF(K211=data!$A$26,1,0),0)","v":0},{"$f":"IF(B211=data!$A$39,IF(K211=data!$A$27,1,0),0)","v":0},0]
[168,null,null,null,null,null,null,null,null,null,null,null,null,null,null,null,null,null,"I",{"$f":"P170-C170","v":0},{"$f":"IF(K170=data!$A$26,P170-$E$1,\"-\")","v":"-"},1,{"$f":"IF(B170=data!$A$36,IF(K170=data!$A$26,1,0),0)","v":0},{"$f":"IF(B170=data!$A$36,IF(K170=data!$A$27,1,0),0)","v":0},{"$f":"IF(B170=data!$A$37,IF(K170=data!$A$26,1,0),0)","v":0},{"$f":"IF(B170=data!$A$37,IF(K170=data!$A$27,1,0),0)","v":0},{"$f":"IF(B170=data!$A$38,IF(K170=data!$A$26,1,0),0)","v":0},{"$f":"IF(B170=data!$A$38,IF(K170=data!$A$27,1,0),0)","v":0},{"$f":"IF(B212=data!$A$39,IF(K212=data!$A$26,1,0),0)","v":0},{"$f":"IF(B212=data!$A$39,IF(K212=data!$A$27,1,0),0)","v":0},0]
[169,null,null,null,null,null,null,null,null,null,null,null,null,null,null,null,null,null,"I",{"$f":"P171-C171","v":0},{"$f":"IF(K171=data!$A$26,P171-$E$1,\"-\")","v":"-"},1,{"$f":"IF(B171=data!$A$36,IF(K171=data!$A$26,1,0),0)","v":0},{"$f":"IF(B171=data!$A$36,IF(K171=data!$A$27,1,0),0)","v":0},{"$f":"IF(B171=data!$A$37,IF(K171=data!$A$26,1,0),0)","v":0},{"$f":"IF(B171=data!$A$37,IF(K171=data!$A$27,1,0),0)","v":0},{"$f":"IF(B171=data!$A$38,IF(K171=data!$A$26,1,0),0)","v":0},{"$f":"IF(B171=data!$A$38,IF(K171=data!$A$27,1,0),0)","v":0},{"$f":"IF(B213=data!$A$39,IF(K213=data!$A$26,1,0),0)","v":0},{"$f":"IF(B213=data!$A$39,IF(K213=data!$A$27,1,0),0)","v":0},0]
[170,null,null,null,null,null,null,null,null,null,null,null,null,null,null,null,null,null,"I",{"$f":"P172-C172","v":0},{"$f":"IF(K172=data!$A$26,P172-$E$1,\"-\")","v":"-"},1,{"$f":"IF(B172=data!$A$36,IF(K172=data!$A$26,1,0),0)","v":0},{"$f":"IF(B172=data!$A$36,IF(K172=data!$A$27,1,0),0)","v":0},{"$f":"IF(B172=data!$A$37,IF(K172=data!$A$26,1,0),0)","v":0},{"$f":"IF(B172=data!$A$37,IF(K172=data!$A$27,1,0),0)","v":0},{"$f":"IF(B172=data!$A$38,IF(K172=data!$A$26,1,0),0)","v":0},{"$f":"IF(B172=data!$A$38,IF(K172=data!$A$27,1,0),0)","v":0},{"$f":"IF(B214=data!$A$39,IF(K214=data!$A$26,1,0),0)","v":0},{"$f":"IF(B214=data!$A$39,IF(K214=data!$A$27,1,0),0)","v":0},0]
[171,null,null,null,null,null,null,null,null,null,null,null,null,null,null,null,null,null,"I",{"$f":"P173-C173","v":0},{"$f":"IF(K173=data!$A$26,P173-$E$1,\"-\")","v":"-"},1,{"$f":"IF(B173=data!$A$36,IF(K173=data!$A$26,1,0),0)","v":0},{"$f":"IF(B173=data!$A$36,IF(K173=data!$A$27,1,0),0)","v":0},{"$f":"IF(B173=data!$A$37,IF(K173=data!$A$26,1,0),0)","v":0},{"$f":"IF(B173=data!$A$37,IF(K173=data!$A$27,1,0),0)","v":0},{"$f":"IF(B173=data!$A$38,IF(K173=data!$A$26,1,0),0)","v":0},{"$f":"IF(B173=data!$A$38,IF(K173=data!$A$27,1,0),0)","v":0},{"$f":"IF(B215=data!$A$39,IF(K215=data!$A$26,1,0),0)","v":0},{"$f":"IF(B215=data!$A$39,IF(K215=data!$A$27,1,0),0)","v":0},0]
[172,null,null,null,null,null,null,null,null,null,null,null,null,null,null,null,null,null,"I",{"$f":"P174-C174","v":0},{"$f":"IF(K174=data!$A$26,P174-$E$1,\"-\")","v":"-"},1,{"$f":"IF(B174=data!$A$36,IF(K174=data!$A$26,1,0),0)","v":0},{"$f":"IF(B174=data!$A$36,IF(K174=data!$A$27,1,0),0)","v":0},{"$f":"IF(B174=data!$A$37,IF(K174=data!$A$26,1,0),0)","v":0},{"$f":"IF(B174=data!$A$37,IF(K174=data!$A$27,1,0),0)","v":0},{"$f":"IF(B174=data!$A$38,IF(K174=data!$A$26,1,0),0)","v":0},{"$f":"IF(B174=data!$A$38,IF(K174=data!$A$27,1,0),0)","v":0},{"$f":"IF(B216=data!$A$39,IF(K216=data!$A$26,1,0),0)","v":0},{"$f":"IF(B216=data!$A$39,IF(K216=data!$A$27,1,0),0)","v":0},0]
[173,null,null,null,null,null,null,null,null,null,null,null,null,null,null,null,null,null,"I",{"$f":"P175-C175","v":0},{"$f":"IF(K175=data!$A$26,P175-$E$1,\"-\")","v":"-"},1,{"$f":"IF(B175=data!$A$36,IF(K175=data!$A$26,1,0),0)","v":0},{"$f":"IF(B175=data!$A$36,IF(K175=data!$A$27,1,0),0)","v":0},{"$f":"IF(B175=data!$A$37,IF(K175=data!$A$26,1,0),0)","v":0},{"$f":"IF(B175=data!$A$37,IF(K175=data!$A$27,1,0),0)","v":0},{"$f":"IF(B175=data!$A$38,IF(K175=data!$A$26,1,0),0)","v":0},{"$f":"IF(B175=data!$A$38,IF(K175=data!$A$27,1,0),0)","v":0},{"$f":"IF(B217=data!$A$39,IF(K217=data!$A$26,1,0),0)","v":0},{"$f":"IF(B217=data!$A$39,IF(K217=data!$A$27,1,0),0)","v":0},0]
[174,null,null,null,null,null,null,null,null,null,null,null,null,null,null,null,null,null,"I",{"$f":"P176-C176","v":0},{"$f":"IF(K176=data!$A$26,P176-$E$1,\"-\")","v":"-"},1,{"$f":"IF(B176=data!$A$36,IF(K176=data!$A$26,1,0),0)","v":0},{"$f":"IF(B176=data!$A$36,IF(K176=data!$A$27,1,0),0)","v":0},{"$f":"IF(B176=data!$A$37,IF(K176=data!$A$26,1,0),0)","v":0},{"$f":"IF(B176=data!$A$37,IF(K176=data!$A$27,1,0),0)","v":0},{"$f":"IF(B176=data!$A$38,IF(K176=data!$A$26,1,0),0)","v":0},{"$f":"IF(B176=data!$A$38,IF(K176=data!$A$27,1,0),0)","v":0},{"$f":"IF(B218=data!$A$39,IF(K218=data!$A$26,1,0),0)","v":0},{"$f":"IF(B218=data!$A$39,IF(K218=data!$A$27,1,0),0)","v":0},0]
[175,null,null,null,null,null,null,null,null,null,null,null,null,null,null,null,null,null,"I",{"$f":"P177-C177","v":0},{"$f":"IF(K177=data!$A$26,P177-$E$1,\"-\")","v":"-"},1,{"$f":"IF(B177=data!$A$36,IF(K177=data!$A$26,1,0),0)","v":0},{"$f":"IF(B177=data!$A$36,IF(K177=data!$A$27,1,0),0)","v":0},{"$f":"IF(B177=data!$A$37,IF(K177=data!$A$26,1,0),0)","v":0},{"$f":"IF(B177=data!$A$37,IF(K177=data!$A$27,1,0),0)","v":0},{"$f":"IF(B177=data!$A$38,IF(K177=data!$A$26,1,0),0)","v":0},{"$f":"IF(B177=data!$A$38,IF(K177=data!$A$27,1,0),0)","v":0},{"$f":"IF(B219=data!$A$39,IF(K219=data!$A$26,1,0),0)","v":0},{"$f":"IF(B219=data!$A$39,IF(K219=data!$A$27,1,0),0)","v":0},0]
[176,null,null,null,null,null,null,null,null,null,null,null,null,null,null,null,null,null,"I",{"$f":"P178-C178","v":0},{"$f":"IF(K178=data!$A$26,P178-$E$1,\"-\")","v":"-"},1,{"$f":"IF(B178=data!$A$36,IF(K178=data!$A$26,1,0),0)","v":0},{"$f":"IF(B178=data!$A$36,IF(K178=data!$A$27,1,0),0)","v":0},{"$f":"IF(B178=data!$A$37,IF(K178=data!$A$26,1,0),0)","v":0},{"$f":"IF(B178=data!$A$37,IF(K178=data!$A$27,1,0),0)","v":0},{"$f":"IF(B178=data!$A$38,IF(K178=data!$A$26,1,0),0)","v":0},{"$f":"IF(B178=data!$A$38,IF(K178=data!$A$27,1,0),0)","v":0},{"$f":"IF(B220=data!$A$39,IF(K220=data!$A$26,1,0),0)","v":0},{"$f":"IF(B220=data!$A$39,IF(K220=data!$A$27,1,0),0)","v":0},0]
[177,null,null,null,null,null,null,null,null,null,null,null,null,null,null,null,null,null,"I",{"$f":"P179-C179","v":0},{"$f":"IF(K179=data!$A$26,P179-$E$1,\"-\")","v":"-"},1,{"$f":"IF(B179=data!$A$36,IF(K179=data!$A$26,1,0),0)","v":0},{"$f":"IF(B179=data!$A$36,IF(K179=data!$A$27,1,0),0)","v":0},{"$f":"IF(B179=data!$A$37,IF(K179=data!$A$26,1,0),0)","v":0},{"$f":"IF(B179=data!$A$37,IF(K179=data!$A$27,1,0),0)","v":0},{"$f":"IF(B179=data!$A$38,IF(K179=data!$A$26,1,0),0)","v":0},{"$f":"IF(B179=data!$A$38,IF(K179=data!$A$27,1,0),0)","v":0},{"$f":"IF(B221=data!$A$39,IF(K221=data!$A$26,1,0),0)","v":0},{"$f":"IF(B221=data!$A$39,IF(K221=data!$A$27,1,0),0)","v":0},0]
[178,null,null,null,null,null,null,null,null,null,null,null,null,null,null,null,null,null,"I",{"$f":"P180-C180","v":0},{"$f":"IF(K180=data!$A$26,P180-$E$1,\"-\")","v":"-"},1,{"$f":"IF(B180=data!$A$36,IF(K180=data!$A$26,1,0),0)","v":0},{"$f":"IF(B180=data!$A$36,IF(K180=data!$A$27,1,0),0)","v":0},{"$f":"IF(B180=data!$A$37,IF(K180=data!$A$26,1,0),0)","v":0},{"$f":"IF(B180=data!$A$37,IF(K180=data!$A$27,1,0),0)","v":0},{"$f":"IF(B180=data!$A$38,IF(K180=data!$A$26,1,0),0)","v":0},{"$f":"IF(B180=data!$A$38,IF(K180=data!$A$27,1,0),0)","v":0},{"$f":"IF(B222=data!$A$39,IF(K222=data!$A$26,1,0),0)","v":0},{"$f":"IF(B222=data!$A$39,IF(K222=data!$A$27,1,0),0)","v":0},0]
[179,null,null,null,null,null,null,null,null,null,null,null,null,null,null,null,null,null,"I",{"$f":"P181-C181","v":0},{"$f":"IF(K181=data!$A$26,P181-$E$1,\"-\")","v":"-"},1,{"$f":"IF(B181=data!$A$36,IF(K181=data!$A$26,1,0),0)","v":0},{"$f":"IF(B181=data!$A$36,IF(K181=data!$A$27,1,0),0)","v":0},{"$f":"IF(B181=data!$A$37,IF(K181=data!$A$26,1,0),0)","v":0},{"$f":"IF(B181=data!$A$37,IF(K181=data!$A$27,1,0),0)","v":0},{"$f":"IF(B181=data!$A$38,IF(K181=data!$A$26,1,0),0)","v":0},{"$f":"IF(B181=data!$A$38,IF(K181=data!$A$27,1,0),0)","v":0},{"$f":"IF(B223=data!$A$39,IF(K223=data!$A$26,1,0),0)","v":0},{"$f":"IF(B223=data!$A$39,IF(K223=data!$A$27,1,0),0)","v":0},0]
[180,null,null,null,null,null,null,null,null,null,null,null,null,null,null,null,null,null,"I",{"$f":"P182-C182","v":0},{"$f":"IF(K182=data!$A$26,P182-$E$1,\"-\")","v":"-"},1,{"$f":"IF(B182=data!$A$36,IF(K182=data!$A$26,1,0),0)","v":0},{"$f":"IF(B182=data!$A$36,IF(K182=data!$A$27,1,0),0)","v":0},{"$f":"IF(B182=data!$A$37,IF(K182=data!$A$26,1,0),0)","v":0},{"$f":"IF(B182=data!$A$37,IF(K182=data!$A$27,1,0),0)","v":0},{"$f":"IF(B182=data!$A$38,IF(K182=data!$A$26,1,0),0)","v":0},{"$f":"IF(B182=data!$A$38,IF(K182=data!$A$27,1,0),0)","v":0},{"$f":"IF(B224=data!$A$39,IF(K224=data!$A$26,1,0),0)","v":0},{"$f":"IF(B224=data!$A$39,IF(K224=data!$A$27,1,0),0)","v":0},0]
[181,null,null,null,null,null,null,null,null,null,null,null,null,null,null,null,null,null,"I",{"$f":"P183-C183","v":0},{"$f":"IF(K183=data!$A$26,P183-$E$1,\"-\")","v":"-"},1,{"$f":"IF(B183=data!$A$36,IF(K183=data!$A$26,1,0),0)","v":0},{"$f":"IF(B183=data!$A$36,IF(K183=data!$A$27,1,0),0)","v":0},{"$f":"IF(B183=data!$A$37,IF(K183=data!$A$26,1,0),0)","v":0},{"$f":"IF(B183=data!$A$37,IF(K183=data!$A$27,1,0),0)","v":0},{"$f":"IF(B183=data!$A$38,IF(K183=data!$A$26,1,0),0)","v":0},{"$f":"IF(B183=data!$A$38,IF(K183=data!$A$27,1,0),0)","v":0},{"$f":"IF(B225=data!$A$39,IF(K225=data!$A$26,1,0),0)","v":0},{"$f":"IF(B225=data!$A$39,IF(K225=data!$A$27,1,0),0)","v":0},0]
[182,null,null,null,null,null,null,null,null,null,null,null,null,null,null,null,null,null,"I",{"$f":"P184-C184","v":0},{"$f":"IF(K184=data!$A$26,P184-$E$1,\"-\")","v":"-"},1,{"$f":"IF(B184=data!$A$36,IF(K184=data!$A$26,1,0),0)","v":0},{"$f":"IF(B184=data!$A$36,IF(K184=data!$A$27,1,0),0)","v":0},{"$f":"IF(B184=data!$A$37,IF(K184=data!$A$26,1,0),0)","v":0},{"$f":"IF(B184=data!$A$37,IF(K184=data!$A$27,1,0),0)","v":0},{"$f":"IF(B184=data!$A$38,IF(K184=data!$A$26,1,0),0)","v":0},{"$f":"IF(B184=data!$A$38,IF(K184=data!$A$27,1,0),0)","v":0},{"$f":"IF(B226=data!$A$39,IF(K226=data!$A$26,1,0),0)","v":0},{"$f":"IF(B226=data!$A$39,IF(K226=data!$A$27,1,0),0)","v":0},0]
[183,null,null,null,null,null,null,null,null,null,null,null,null,null,null,null,null,null,"I",{"$f":"P185-C185","v":0},{"$f":"IF(K185=data!$A$26,P185-$E$1,\"-\")","v":"-"},1,{"$f":"IF(B185=data!$A$36,IF(K185=data!$A$26,1,0),0)","v":0},{"$f":"IF(B185=data!$A$36,IF(K185=data!$A$27,1,0),0)","v":0},{"$f":"IF(B185=data!$A$37,IF(K185=data!$A$26,1,0),0)","v":0},{"$f":"IF(B185=data!$A$37,IF(K185=data!$A$27,1,0),0)","v":0},{"$f":"IF(B185=data!$A$38,IF(K185=data!$A$26,1,0),0)","v":0},{"$f":"IF(B185=data!$A$38,IF(K185=data!$A$27,1,0),0)","v":0},{"$f":"IF(B227=data!$A$39,IF(K227=data!$A$26,1,0),0)","v":0},{"$f":"IF(B227=data!$A$39,IF(K227=data!$A$27,1,0),0)","v":0},0]
[184,null,null,null,null,null,null,null,null,null,null,null,null,null,null,null,null,null,"I",{"$f":"P186-C186","v":0},{"$f":"IF(K186=data!$A$26,P186-$E$1,\"-\")","v":"-"},1,{"$f":"IF(B186=data!$A$36,IF(K186=data!$A$26,1,0),0)","v":0},{"$f":"IF(B186=data!$A$36,IF(K186=data!$A$27,1,0),0)","v":0},{"$f":"IF(B186=data!$A$37,IF(K186=data!$A$26,1,0),0)","v":0},{"$f":"IF(B186=data!$A$37,IF(K186=data!$A$27,1,0),0)","v":0},{"$f":"IF(B186=data!$A$38,IF(K186=data!$A$26,1,0),0)","v":0},{"$f":"IF(B186=data!$A$38,IF(K186=data!$A$27,1,0),0)","v":0},{"$f":"IF(B228=data!$A$39,IF(K228=data!$A$26,1,0),0)","v":0},{"$f":"IF(B228=data!$A$39,IF(K228=data!$A$27,1,0),0)","v":0},0]
[185,null,null,null,null,null,null,null,null,null,null,null,null,null,null,null,null,null,"I",{"$f":"P187-C187","v":0},{"$f":"IF(K187=data!$A$26,P187-$E$1,\"-\")","v":"-"},1,{"$f":"IF(B187=data!$A$36,IF(K187=data!$A$26,1,0),0)","v":0},{"$f":"IF(B187=data!$A$36,IF(K187=data!$A$27,1,0),0)","v":0},{"$f":"IF(B187=data!$A$37,IF(K187=data!$A$26,1,0),0)","v":0},{"$f":"IF(B187=data!$A$37,IF(K187=data!$A$27,1,0),0)","v":0},{"$f":"IF(B187=data!$A$38,IF(K187=data!$A$26,1,0),0)","v":0},{"$f":"IF(B187=data!$A$38,IF(K187=data!$A$27,1,0),0)","v":0},{"$f":"IF(B229=data!$A$39,IF(K229=data!$A$26,1,0),0)","v":0},{"$f":"IF(B229=data!$A$39,IF(K229=data!$A$27,1,0),0)","v":0},0]
[186,null,null,null,null,null,null,null,null,null,null,null,null,null,null,null,null,null,"I",{"$f":"P188-C188","v":0},{"$f":"IF(K188=data!$A$26,P188-$E$1,\"-\")","v":"-"},1,{"$f":"IF(B188=data!$A$36,IF(K188=data!$A$26,1,0),0)","v":0},{"$f":"IF(B188=data!$A$36,IF(K188=data!$A$27,1,0),0)","v":0},{"$f":"IF(B188=data!$A$37,IF(K188=data!$A$26,1,0),0)","v":0},{"$f":"IF(B188=data!$A$37,IF(K188=data!$A$27,1,0),0)","v":0},{"$f":"IF(B188=data!$A$38,IF(K188=data!$A$26,1,0),0)","v":0},{"$f":"IF(B188=data!$A$38,IF(K188=data!$A$27,1,0),0)","v":0},{"$f":"IF(B230=data!$A$39,IF(K230=data!$A$26,1,0),0)","v":0},{"$f":"IF(B230=data!$A$39,IF(K230=data!$A$27,1,0),0)","v":0},0]
[187,null,null,null,null,null,null,null,null,null,null,null,null,null,null,null,null,null,"I",{"$f":"P189-C189","v":0},{"$f":"IF(K189=data!$A$26,P189-$E$1,\"-\")","v":"-"},1,{"$f":"IF(B189=data!$A$36,IF(K189=data!$A$26,1,0),0)","v":0},{"$f":"IF(B189=data!$A$36,IF(K189=data!$A$27,1,0),0)","v":0},{"$f":"IF(B189=data!$A$37,IF(K189=data!$A$26,1,0),0)","v":0},{"$f":"IF(B189=data!$A$37,IF(K189=data!$A$27,1,0),0)","v":0},{"$f":"IF(B189=data!$A$38,IF(K189=data!$A$26,1,0),0)","v":0},{"$f":"IF(B189=data!$A$38,IF(K189=data!$A$27,1,0),0)","v":0},{"$f":"IF(B231=data!$A$39,IF(K231=data!$A$26,1,0),0)","v":0},{"$f":"IF(B231=data!$A$39,IF(K231=data!$A$27,1,0),0)","v":0},0]
[188,null,null,null,null,null,null,null,null,null,null,null,null,null,null,null,null,null,"I",{"$f":"P190-C190","v":0},{"$f":"IF(K190=data!$A$26,P190-$E$1,\"-\")","v":"-"},1,{"$f":"IF(B190=data!$A$36,IF(K190=data!$A$26,1,0),0)","v":0},{"$f":"IF(B190=data!$A$36,IF(K190=data!$A$27,1,0),0)","v":0},{"$f":"IF(B190=data!$A$37,IF(K190=data!$A$26,1,0),0)","v":0},{"$f":"IF(B190=data!$A$37,IF(K190=data!$A$27,1,0),0)","v":0},{"$f":"IF(B190=data!$A$38,IF(K190=data!$A$26,1,0),0)","v":0},{"$f":"IF(B190=data!$A$38,IF(K190=data!$A$27,1,0),0)","v":0},{"$f":"IF(B232=data!$A$39,IF(K232=data!$A$26,1,0),0)","v":0},{"$f":"IF(B232=data!$A$39,IF(K232=data!$A$27,1,0),0)","v":0},0]
[189,null,null,null,null,null,null,null,null,null,null,null,null,null,null,null,null,null,"I",{"$f":"P191-C191","v":0},{"$f":"IF(K191=data!$A$26,P191-$E$1,\"-\")","v":"-"},1,{"$f":"IF(B191=data!$A$36,IF(K191=data!$A$26,1,0),0)","v":0},{"$f":"IF(B191=data!$A$36,IF(K191=data!$A$27,1,0),0)","v":0},{"$f":"IF(B191=data!$A$37,IF(K191=data!$A$26,1,0),0)","v":0},{"$f":"IF(B191=data!$A$37,IF(K191=data!$A$27,1,0),0)","v":0},{"$f":"IF(B191=data!$A$38,IF(K191=data!$A$26,1,0),0)","v":0},{"$f":"IF(B191=data!$A$38,IF(K191=data!$A$27,1,0),0)","v":0},{"$f":"IF(B233=data!$A$39,IF(K233=data!$A$26,1,0),0)","v":0},{"$f":"IF(B233=data!$A$39,IF(K233=data!$A$27,1,0),0)","v":0},0]
[190,null,null,null,null,null,null,null,null,null,null,null,null,null,null,null,null,null,"I",{"$f":"P192-C192","v":0},{"$f":"IF(K192=data!$A$26,P192-$E$1,\"-\")","v":"-"},1,{"$f":"IF(B192=data!$A$36,IF(K192=data!$A$26,1,0),0)","v":0},{"$f":"IF(B192=data!$A$36,IF(K192=data!$A$27,1,0),0)","v":0},{"$f":"IF(B192=data!$A$37,IF(K192=data!$A$26,1,0),0)","v":0},{"$f":"IF(B192=data!$A$37,IF(K192=data!$A$27,1,0),0)","v":0},{"$f":"IF(B192=data!$A$38,IF(K192=data!$A$26,1,0),0)","v":0},{"$f":"IF(B192=data!$A$38,IF(K192=data!$A$27,1,0),0)","v":0},{"$f":"IF(B234=data!$A$39,IF(K234=data!$A$26,1,0),0)","v":0},{"$f":"IF(B234=data!$A$39,IF(K234=data!$A$27,1,0),0)","v":0},0]
[191,null,null,null,null,null,null,null,null,null,null,null,null,null,null,null,null,null,"I",{"$f":"P193-C193","v":0},{"$f":"IF(K193=data!$A$26,P193-$E$1,\"-\")","v":"-"},1,{"$f":"IF(B193=data!$A$36,IF(K193=data!$A$26,1,0),0)","v":0},{"$f":"IF(B193=data!$A$36,IF(K193=data!$A$27,1,0),0)","v":0},{"$f":"IF(B193=data!$A$37,IF(K193=data!$A$26,1,0),0)","v":0},{"$f":"IF(B193=data!$A$37,IF(K193=data!$A$27,1,0),0)","v":0},{"$f":"IF(B193=data!$A$38,IF(K193=data!$A$26,1,0),0)","v":0},{"$f":"IF(B193=data!$A$38,IF(K193=data!$A$27,1,0),0)","v":0},{"$f":"IF(B235=data!$A$39,IF(K235=data!$A$26,1,0),0)","v":0},{"$f":"IF(B235=data!$A$39,IF(K235=data!$A$27,1,0),0)","v":0},0]
[192,null,null,null,null,null,null,null,null,null,null,null,null,null,null,null,null,null,"I",{"$f":"P194-C194","v":0},{"$f":"IF(K194=data!$A$26,P194-$E$1,\"-\")","v":"-"},1,{"$f":"IF(B194=data!$A$36,IF(K194=data!$A$26,1,0),0)","v":0},{"$f":"IF(B194=data!$A$36,IF(K194=data!$A$27,1,0),0)","v":0},{"$f":"IF(B194=data!$A$37,IF(K194=data!$A$26,1,0),0)","v":0},{"$f":"IF(B194=data!$A$37,IF(K194=data!$A$27,1,0),0)","v":0},{"$f":"IF(B194=data!$A$38,IF(K194=data!$A$26,1,0),0)","v":0},{"$f":"IF(B194=data!$A$38,IF(K194=data!$A$27,1,0),0)","v":0},{"$f":"IF(B236=data!$A$39,IF(K236=data!$A$26,1,0),0)","v":0},{"$f":"IF(B236=data!$A$39,IF(K236=data!$A$27,1,0),0)","v":0},0]
[193,null,null,null,null,null,null,null,null,null,null,null,null,null,null,null,null,null,"I",{"$f":"P195-C195","v":0},{"$f":"IF(K195=data!$A$26,P195-$E$1,\"-\")","v":"-"},1,{"$f":"IF(B195=data!$A$36,IF(K195=data!$A$26,1,0),0)","v":0},{"$f":"IF(B195=data!$A$36,IF(K195=data!$A$27,1,0),0)","v":0},{"$f":"IF(B195=data!$A$37,IF(K195=data!$A$26,1,0),0)","v":0},{"$f":"IF(B195=data!$A$37,IF(K195=data!$A$27,1,0),0)","v":0},{"$f":"IF(B195=data!$A$38,IF(K195=data!$A$26,1,0),0)","v":0},{"$f":"IF(B195=data!$A$38,IF(K195=data!$A$27,1,0),0)","v":0},{"$f":"IF(B237=data!$A$39,IF(K237=data!$A$26,1,0),0)","v":0},{"$f":"IF(B237=data!$A$39,IF(K237=data!$A$27,1,0),0)","v":0},0]
[194,null,null,null,null,null,null,null,null,null,null,null,null,null,null,null,null,null,"I",{"$f":"P196-C196","v":0},{"$f":"IF(K196=data!$A$26,P196-$E$1,\"-\")","v":"-"},1,{"$f":"IF(B196=data!$A$36,IF(K196=data!$A$26,1,0),0)","v":0},{"$f":"IF(B196=data!$A$36,IF(K196=data!$A$27,1,0),0)","v":0},{"$f":"IF(B196=data!$A$37,IF(K196=data!$A$26,1,0),0)","v":0},{"$f":"IF(B196=data!$A$37,IF(K196=data!$A$27,1,0),0)","v":0},{"$f":"IF(B196=data!$A$38,IF(K196=data!$A$26,1,0),0)","v":0},{"$f":"IF(B196=data!$A$38,IF(K196=data!$A$27,1,0),0)","v":0},{"$f":"IF(B238=data!$A$39,IF(K238=data!$A$26,1,0),0)","v":0},{"$f":"IF(B238=data!$A$39,IF(K238=data!$A$27,1,0),0)","v":0},0]
[195,null,null,null,null,null,null,null,null,null,null,null,null,null,null,null,null,null,"I",{"$f":"P197-C197","v":0},{"$f":"IF(K197=data!$A$26,P197-$E$1,\"-\")","v":"-"},1,{"$f":"IF(B197=data!$A$36,IF(K197=data!$A$26,1,0),0)","v":0},{"$f":"IF(B197=data!$A$36,IF(K197=data!$A$27,1,0),0)","v":0},{"$f":"IF(B197=data!$A$37,IF(K197=data!$A$26,1,0),0)","v":0},{"$f":"IF(B197=data!$A$37,IF(K197=data!$A$27,1,0),0)","v":0},{"$f":"IF(B197=data!$A$38,IF(K197=data!$A$26,1,0),0)","v":0},{"$f":"IF(B197=data!$A$38,IF(K197=data!$A$27,1,0),0)","v":0},{"$f":"IF(B239=data!$A$39,IF(K239=data!$A$26,1,0),0)","v":0},{"$f":"IF(B239=data!$A$39,IF(K239=data!$A$27,1,0),0)","v":0},0]
[196,null,null,null,null,null,null,null,null,null,null,null,null,null,null,null,null,null,"I",{"$f":"P198-C198","v":0},{"$f":"IF(K198=data!$A$26,P198-$E$1,\"-\")","v":"-"},1,{"$f":"IF(B198=data!$A$36,IF(K198=data!$A$26,1,0),0)","v":0},{"$f":"IF(B198=data!$A$36,IF(K198=data!$A$27,1,0),0)","v":0},{"$f":"IF(B198=data!$A$37,IF(K198=data!$A$26,1,0),0)","v":0},{"$f":"IF(B198=data!$A$37,IF(K198=data!$A$27,1,0),0)","v":0},{"$f":"IF(B198=data!$A$38,IF(K198=data!$A$26,1,0),0)","v":0},{"$f":"IF(B198=data!$A$38,IF(K198=data!$A$27,1,0),0)","v":0},{"$f":"IF(B240=data!$A$39,IF(K240=data!$A$26,1,0),0)","v":0},{"$f":"IF(B240=data!$A$39,IF(K240=data!$A$27,1,0),0)","v":0},0]
[197,null,null,null,null,null,null,null,null,null,null,null,null,null,null,null,null,null,"I",{"$f":"P199-C199","v":0},{"$f":"IF(K199=data!$A$26,P199-$E$1,\"-\")","v":"-"},1,{"$f":"IF(B199=data!$A$36,IF(K199=data!$A$26,1,0),0)","v":0},{"$f":"IF(B199=data!$A$36,IF(K199=data!$A$27,1,0),0)","v":0},{"$f":"IF(B199=data!$A$37,IF(K199=data!$A$26,1,0),0)","v":0},{"$f":"IF(B199=data!$A$37,IF(K199=data!$A$27,1,0),0)","v":0},{"$f":"IF(B199=data!$A$38,IF(K199=data!$A$26,1,0),0)","v":0},{"$f":"IF(B199=data!$A$38,IF(K199=data!$A$27,1,0),0)","v":0},{"$f":"IF(B241=data!$A$39,IF(K241=data!$A$26,1,0),0)","v":0},{"$f":"IF(B241=data!$A$39,IF(K241=data!$A$27,1,0),0)","v":0},0]
[198,null,null,null,null,null,null,null,null,null,null,null,null,null,null,null,null,null,"I",{"$f":"P200-C200","v":0},{"$f":"IF(K200=data!$A$26,P200-$E$1,\"-\")","v":"-"},1,{"$f":"IF(B200=data!$A$36,IF(K200=data!$A$26,1,0),0)","v":0},{"$f":"IF(B200=data!$A$36,IF(K200=data!$A$27,1,0),0)","v":0},{"$f":"IF(B200=data!$A$37,IF(K200=data!$A$26,1,0),0)","v":0},{"$f":"IF(B200=data!$A$37,IF(K200=data!$A$27,1,0),0)","v":0},{"$f":"IF(B200=data!$A$38,IF(K200=data!$A$26,1,0),0)","v":0},{"$f":"IF(B200=data!$A$38,IF(K200=data!$A$27,1,0),0)","v":0},{"$f":"IF(B242=data!$A$39,IF(K242=data!$A$26,1,0),0)","v":0},{"$f":"IF(B242=data!$A$39,IF(K242=data!$A$27,1,0),0)","v":0},0]
[199,null,null,null,null,null,null,null,null,null,null,null,null,null,null,null,null,null,"I",{"$f":"P201-C201","v":0},{"$f":"IF(K201=data!$A$26,P201-$E$1,\"-\")","v":"-"},1,{"$f":"IF(B201=data!$A$36,IF(K201=data!$A$26,1,0),0)","v":0},{"$f":"IF(B201=data!$A$36,IF(K201=data!$A$27,1,0),0)","v":0},{"$f":"IF(B201=data!$A$37,IF(K201=data!$A$26,1,0),0)","v":0},{"$f":"IF(B201=data!$A$37,IF(K201=data!$A$27,1,0),0)","v":0},{"$f":"IF(B201=data!$A$38,IF(K201=data!$A$26,1,0),0)","v":0},{"$f":"IF(B201=data!$A$38,IF(K201=data!$A$27,1,0),0)","v":0},{"$f":"IF(B243=data!$A$39,IF(K243=data!$A$26,1,0),0)","v":0},{"$f":"IF(B243=data!$A$39,IF(K243=data!$A$27,1,0),0)","v":0},0]
[200,null,null,null,null,null,null,null,null,null,null,null,null,null,null,null,null,null,"I",{"$f":"P202-C202","v":0},{"$f":"IF(K202=data!$A$26,P202-$E$1,\"-\")","v":"-"},1,{"$f":"IF(B202=data!$A$36,IF(K202=data!$A$26,1,0),0)","v":0},{"$f":"IF(B202=data!$A$36,IF(K202=data!$A$27,1,0),0)","v":0},{"$f":"IF(B202=data!$A$37,IF(K202=data!$A$26,1,0),0)","v":0},{"$f":"IF(B202=data!$A$37,IF(K202=data!$A$27,1,0),0)","v":0},{"$f":"IF(B202=data!$A$38,IF(K202=data!$A$26,1,0),0)","v":0},{"$f":"IF(B202=data!$A$38,IF(K202=data!$A$27,1,0),0)","v":0},{"$f":"IF(B244=data!$A$39,IF(K244=data!$A$26,1,0),0)","v":0},{"$f":"IF(B244=data!$A$39,IF(K244=data!$A$27,1,0),0)","v":0},0]
[201,null,null,null,null,null,null,null,null,null,null,null,null,null,null,null,null,null,"I",{"$f":"P203-C203","v":0},{"$f":"IF(K203=data!$A$26,P203-$E$1,\"-\")","v":"-"},1,{"$f":"IF(B203=data!$A$36,IF(K203=data!$A$26,1,0),0)","v":0},{"$f":"IF(B203=data!$A$36,IF(K203=data!$A$27,1,0),0)","v":0},{"$f":"IF(B203=data!$A$37,IF(K203=data!$A$26,1,0),0)","v":0},{"$f":"IF(B203=data!$A$37,IF(K203=data!$A$27,1,0),0)","v":0},{"$f":"IF(B203=data!$A$38,IF(K203=data!$A$26,1,0),0)","v":0},{"$f":"IF(B203=data!$A$38,IF(K203=data!$A$27,1,0),0)","v":0},{"$f":"IF(B245=data!$A$39,IF(K245=data!$A$26,1,0),0)","v":0},{"$f":"IF(B245=data!$A$39,IF(K245=data!$A$27,1,0),0)","v":0},0]
[202,null,null,null,null,null,null,null,null,null,null,null,null,null,null,null,null,null,"I",{"$f":"P204-C204","v":0},{"$f":"IF(K204=data!$A$26,P204-$E$1,\"-\")","v":"-"},1,{"$f":"IF(B204=data!$A$36,IF(K204=data!$A$26,1,0),0)","v":0},{"$f":"IF(B204=data!$A$36,IF(K204=data!$A$27,1,0),0)","v":0},{"$f":"IF(B204=data!$A$37,IF(K204=data!$A$26,1,0),0)","v":0},{"$f":"IF(B204=data!$A$37,IF(K204=data!$A$27,1,0),0)","v":0},{"$f":"IF(B204=data!$A$38,IF(K204=data!$A$26,1,0),0)","v":0},{"$f":"IF(B204=data!$A$38,IF(K204=data!$A$27,1,0),0)","v":0},{"$f":"IF(B246=data!$A$39,IF(K246=data!$A$26,1,0),0)","v":0},{"$f":"IF(B246=data!$A$39,IF(K246=data!$A$27,1,0),0)","v":0},0]

{"sheet":"Besluiten","index":1,"n_rows":202,"n_cols":10,"rows_kept":202,"cut":false,"hidden":false,"merged":[]}
[2010,null,"2010-05-20T09:20:27.820"]
["nr","datum","Project deel","sub_projectdeel","wat","Wie","relatie met aktie/issue/risico","relatie met aktie/issue/risico","relatie met aktie/issue/risico","relatie met aktie/issue/risico"]
[1]
[2]
[3]
[4]
[5]
[6]
[7]
[8]
[9]
[10]
[11]
[12]
[13]
[14]
[15]
[16]
[17]
[18]
[19]
[20]
[21]
[22]
[23]
[24]
[25]
[26]
[27]
[28]
[29]
[30]
[31]
[32]
[33]
[34]
[35]
[36]
[37]
[38]
[39]
[40]
[41]
[42]
[43]
[44]
[45]
[46]
[47]
[48]
[49]
[50]
[51]
[52]
[53]
[54]
[55]
[56]
[57]
[58]
[59]
[60]
[61]
[62]
[63]
[64]
[65]
[66]
[67]
[68]
[69]
[70]
[71]
[72]
[73]
[74]
[75]
[76]
[77]
[78]
[79]
[80]
[81]
[82]
[83]
[84]
[85]
[86]
[87]
[88]
[89]
[90]
[91]
[92]
[93]
[94]
[95]
[96]
[97]
[98]
[99]
[100]
[101]
[102]
[103]
[104]
[105]
[106]
[107]
[108]
[109]
[110]
[111]
[112]
[113]
[114]
[115]
[116]
[117]
[118]
[119]
[120]
[121]
[122]
[123]
[124]
[125]
[126]
[127]
[128]
[129]
[130]
[131]
[132]
[133]
[134]
[135]
[136]
[137]
[138]
[139]
[140]
[141]
[142]
[143]
[144]
[145]
[146]
[147]
[148]
[149]
[150]
[151]
[152]
[153]
[154]
[155]
[156]
[157]
[158]
[159]
[160]
[161]
[162]
[163]
[164]
[165]
[166]
[167]
[168]
[169]
[170]
[171]
[172]
[173]
[174]
[175]
[176]
[177]
[178]
[179]
[180]
[181]
[182]
[183]
[184]
[185]
[186]
[187]
[188]
[189]
[190]
[191]
[192]
[193]
[194]
[195]
[196]
[197]
[198]
[199]
[200]

{"sheet":"data","index":2,"n_rows":65,"n_cols":3,"rows_kept":65,"cut":false,"hidden":false,"merged":[]}
["Opname tool","projectdeeel"]
["ARA aplicatie"]
["Sharepoint"]
["Algemeen"]
[]
[]
[]
[]
[]
[]
[]
[]
[]
[]
[]
[]
[]
[]
[]
[]
[]
["J","status"]
["K"]
["L"]
[]
["Open","open/close"]
["Close"]
["Pending"]
[]
[]
["H","prio"]
["M"]
["L"]
[]
[]
["Risico","type"]
["Issue"]
["Aktie"]
["RFC"]
[]
["kans klasse","norm ","referentiebeeld"]
[1,"< of 1x per 10 jaar ","zeer klein"]
[2,"1x per 5-10 jaar","klein"]
[3,"1x per 2-5 jaar","gemiddeld"]
[4,"1x per 1-2jaar","groot"]
[5,"1x per jaar of >","zeer groot"]
[]
["impact klasse","financieel gevolg","percentage van het begrotingstotaal"]
[1,"< € 20.000","<0,05%"]
[2,"> € 20.000 en < € 50.000","0,05-0,25%"]
[3,"> € 50.000 en < € 200.000","0,25-0,5%"]
[4,"> € 200.000 en € 400.000","0,5-1,0%"]
[5,">€ 400.000",">1,0%"]
[]
["voorkomen","response type"]
["verminderen"]
["overgedragen"]
["geaccepteerd"]
["Contingency"]
[]
["Peter v.d Duyn S","personen"]
["Rens Vermeer"]
["Rob Aalders"]
["Karel Kohn"]
["Ge Jacobs"]

{"sheet":"statistiek","index":3,"n_rows":12,"n_cols":5,"rows_kept":12,"cut":false,"hidden":false,"merged":[]}
["Wat ","aantal",{"$f":"A7","v":"Open"},{"$f":"A8","v":"Close"},{"$f":"A9","v":"Pending"}]
[{"$f":"data!A36","v":"Risico"},{"$f":"SUMIF(akties!$B$3:$B$1040,A2,akties!$V$3:$V$1040)","v":0},{"$f":"akties!W1","v":0},{"$f":"akties!X1","v":0},{"$f":"B2-C2-D2","v":0}]
[{"$f":"data!A37","v":"Issue"},{"$f":"SUMIF(akties!$B$3:$B$1040,A3,akties!$V$3:$V$1040)","v":0},{"$f":"akties!Y1","v":0},{"$f":"akties!Z1","v":0},{"$f":"B3-C3-D3","v":0}]
[{"$f":"data!A38","v":"Aktie"},{"$f":"SUMIF(akties!$B$3:$B$1040,A4,akties!$V$3:$V$1040)","v":0},{"$f":"akties!AA1","v":0},{"$f":"akties!AB1","v":0},{"$f":"B4-C4-D4","v":0}]
[{"$f":"data!A39","v":"RFC"},{"$f":"SUMIF(akties!$B$3:$B$1040,A5,akties!$V$3:$V$1040)","v":0},{"$f":"akties!AC1","v":0},{"$f":"akties!AD1","v":0},{"$f":"B5-C5-D5","v":0}]
[]
[{"$f":"data!A26","v":"Open"},{"$f":"SUMIF(akties!$K$3:$K$1040,A7,akties!$V$3:$V$1040)","v":0}]
[{"$f":"data!A27","v":"Close"},{"$f":"SUMIF(akties!$K$3:$K$1040,A8,akties!$V$3:$V$1040)","v":0}]
[{"$f":"data!A28","v":"Pending"},{"$f":"SUMIF(akties!$K$3:$K$1040,A9,akties!$V$3:$V$1040)","v":0}]
["totaal",{"$f":"SUM(B7:B9)","v":0}]
[]
["over datum",{"$f":"akties!AE1","v":0}]

{"sheet":"RisicoMatrix","index":4,"n_rows":222,"n_cols":10,"rows_kept":222,"cut":false,"hidden":false,"merged":[]}
[null,"Tolerantiegrens:\nkans* impact (1-25)",15]
[null,null,null,null,null,null,null,null,"Aantal van nr","kans"]
[null,"impact",null,null,null,null,null,null,"impact"]
[{"$f":"data!A53","v":5},{"$f":"data!B53","v":">€ 400.000"}]
[{"$f":"data!A52","v":4},{"$f":"data!B52","v":"> € 200.000 en € 400.000"}]
[{"$f":"data!A51","v":3},{"$f":"data!B51","v":"> € 50.000 en < € 200.000"}]
[{"$f":"data!A50","v":2},{"$f":"data!B50","v":"> € 20.000 en < € 50.000"}]
[{"$f":"data!A49","v":1},{"$f":"data!B49","v":"< € 20.000"}]
[null,null,{"$f":"data!$C42","v":"zeer klein"},{"$f":"data!$C43","v":"klein"},{"$f":"data!$C44","v":"gemiddeld"},{"$f":"data!$C45","v":"groot"},{"$f":"data!$C46","v":"zeer groot"},"kans"]
["klasse",null,{"$f":"data!A42","v":1},{"$f":"data!A43","v":2},{"$f":"data!A44","v":3},{"$f":"data!A45","v":4},{"$f":"data!A46","v":5}]
[null,null,{"$f":"data!$B42","v":"< of 1x per 10 jaar "},{"$f":"data!$B43","v":"1x per 5-10 jaar"},{"$f":"data!$B44","v":"1x per 2-5 jaar"},{"$f":"data!$B45","v":"1x per 1-2jaar"},{"$f":"data!$B46","v":"1x per jaar of >"}]
[]
[null,null,"Risico_id","kans","impact"]
[null,null,{"$f":"IF(akties!B3=data!$A$36,akties!A3)","v":false},{"$f":"IF(akties!B3=data!$A$36,akties!M3)","v":false},{"$f":"IF(akties!B3=data!$A$36,akties!N3)","v":false}]
[null,null,{"$f":"IF(akties!B4=data!$A$36,akties!A4)","v":false},{"$f":"IF(akties!B4=data!$A$36,akties!M4)","v":false},{"$f":"IF(akties!B4=data!$A$36,akties!N4)","v":false}]
[null,null,{"$f":"IF(akties!B5=data!$A$36,akties!A5)","v":false},{"$f":"IF(akties!B5=data!$A$36,akties!M5)","v":false},{"$f":"IF(akties!B5=data!$A$36,akties!N5)","v":false}]
[null,null,{"$f":"IF(akties!B6=data!$A$36,akties!A6)","v":false},{"$f":"IF(akties!B6=data!$A$36,akties!M6)","v":false},{"$f":"IF(akties!B6=data!$A$36,akties!N6)","v":false}]
[null,null,{"$f":"IF(akties!B7=data!$A$36,akties!A7)","v":false},{"$f":"IF(akties!B7=data!$A$36,akties!M7)","v":false},{"$f":"IF(akties!B7=data!$A$36,akties!N7)","v":false}]
[null,null,{"$f":"IF(akties!B8=data!$A$36,akties!A8)","v":false},{"$f":"IF(akties!B8=data!$A$36,akties!M8)","v":false},{"$f":"IF(akties!B8=data!$A$36,akties!N8)","v":false}]
[null,null,{"$f":"IF(akties!B9=data!$A$36,akties!A9)","v":false},{"$f":"IF(akties!B9=data!$A$36,akties!M9)","v":false},{"$f":"IF(akties!B9=data!$A$36,akties!N9)","v":false}]
[null,null,{"$f":"IF(akties!B10=data!$A$36,akties!A10)","v":false},{"$f":"IF(akties!B10=data!$A$36,akties!M10)","v":false},{"$f":"IF(akties!B10=data!$A$36,akties!N10)","v":false}]
[null,null,{"$f":"IF(akties!B11=data!$A$36,akties!A11)","v":false},{"$f":"IF(akties!B11=data!$A$36,akties!M11)","v":false},{"$f":"IF(akties!B11=data!$A$36,akties!N11)","v":false}]
[null,null,{"$f":"IF(akties!B12=data!$A$36,akties!A12)","v":false},{"$f":"IF(akties!B12=data!$A$36,akties!M12)","v":false},{"$f":"IF(akties!B12=data!$A$36,akties!N12)","v":false}]
[null,null,{"$f":"IF(akties!B13=data!$A$36,akties!A13)","v":false},{"$f":"IF(akties!B13=data!$A$36,akties!M13)","v":false},{"$f":"IF(akties!B13=data!$A$36,akties!N13)","v":false}]
[null,null,{"$f":"IF(akties!B14=data!$A$36,akties!A14)","v":false},{"$f":"IF(akties!B14=data!$A$36,akties!M14)","v":false},{"$f":"IF(akties!B14=data!$A$36,akties!N14)","v":false}]
[null,null,{"$f":"IF(akties!B15=data!$A$36,akties!A15)","v":false},{"$f":"IF(akties!B15=data!$A$36,akties!M15)","v":false},{"$f":"IF(akties!B15=data!$A$36,akties!N15)","v":false}]
[null,null,{"$f":"IF(akties!B16=data!$A$36,akties!A16)","v":false},{"$f":"IF(akties!B16=data!$A$36,akties!M16)","v":false},{"$f":"IF(akties!B16=data!$A$36,akties!N16)","v":false}]
[null,null,{"$f":"IF(akties!B17=data!$A$36,akties!A17)","v":false},{"$f":"IF(akties!B17=data!$A$36,akties!M17)","v":false},{"$f":"IF(akties!B17=data!$A$36,akties!N17)","v":false}]
[null,null,{"$f":"IF(akties!B18=data!$A$36,akties!A18)","v":false},{"$f":"IF(akties!B18=data!$A$36,akties!M18)","v":false},{"$f":"IF(akties!B18=data!$A$36,akties!N18)","v":false}]
[null,null,{"$f":"IF(akties!B19=data!$A$36,akties!A19)","v":false},{"$f":"IF(akties!B19=data!$A$36,akties!M19)","v":false},{"$f":"IF(akties!B19=data!$A$36,akties!N19)","v":false}]
[null,null,{"$f":"IF(akties!B20=data!$A$36,akties!A20)","v":false},{"$f":"IF(akties!B20=data!$A$36,akties!M20)","v":false},{"$f":"IF(akties!B20=data!$A$36,akties!N20)","v":false}]
[null,null,{"$f":"IF(akties!B21=data!$A$36,akties!A21)","v":false},{"$f":"IF(akties!B21=data!$A$36,akties!M21)","v":false},{"$f":"IF(akties!B21=data!$A$36,akties!N21)","v":false}]
[null,null,{"$f":"IF(akties!B22=data!$A$36,akties!A22)","v":false},{"$f":"IF(akties!B22=data!$A$36,akties!M22)","v":false},{"$f":"IF(akties!B22=data!$A$36,akties!N22)","v":false}]
[null,null,{"$f":"IF(akties!B23=data!$A$36,akties!A23)","v":false},{"$f":"IF(akties!B23=data!$A$36,akties!M23)","v":false},{"$f":"IF(akties!B23=data!$A$36,akties!N23)","v":false}]
[null,null,{"$f":"IF(akties!B24=data!$A$36,akties!A24)","v":false},{"$f":"IF(akties!B24=data!$A$36,akties!M24)","v":false},{"$f":"IF(akties!B24=data!$A$36,akties!N24)","v":false}]
[null,null,{"$f":"IF(akties!B25=data!$A$36,akties!A25)","v":false},{"$f":"IF(akties!B25=data!$A$36,akties!M25)","v":false},{"$f":"IF(akties!B25=data!$A$36,akties!N25)","v":false}]
[null,null,{"$f":"IF(akties!B26=data!$A$36,akties!A26)","v":false},{"$f":"IF(akties!B26=data!$A$36,akties!M26)","v":false},{"$f":"IF(akties!B26=data!$A$36,akties!N26)","v":false}]
[null,null,{"$f":"IF(akties!B27=data!$A$36,akties!A27)","v":false},{"$f":"IF(akties!B27=data!$A$36,akties!M27)","v":false},{"$f":"IF(akties!B27=data!$A$36,akties!N27)","v":false}]
[null,null,{"$f":"IF(akties!B28=data!$A$36,akties!A28)","v":false},{"$f":"IF(akties!B28=data!$A$36,akties!M28)","v":false},{"$f":"IF(akties!B28=data!$A$36,akties!N28)","v":false}]
[null,null,{"$f":"IF(akties!B29=data!$A$36,akties!A29)","v":false},{"$f":"IF(akties!B29=data!$A$36,akties!M29)","v":false},{"$f":"IF(akties!B29=data!$A$36,akties!N29)","v":false}]
[null,null,{"$f":"IF(akties!B30=data!$A$36,akties!A30)","v":false},{"$f":"IF(akties!B30=data!$A$36,akties!M30)","v":false},{"$f":"IF(akties!B30=data!$A$36,akties!N30)","v":false}]
[null,null,{"$f":"IF(akties!B31=data!$A$36,akties!A31)","v":false},{"$f":"IF(akties!B31=data!$A$36,akties!M31)","v":false},{"$f":"IF(akties!B31=data!$A$36,akties!N31)","v":false}]
[null,null,{"$f":"IF(akties!B32=data!$A$36,akties!A32)","v":false},{"$f":"IF(akties!B32=data!$A$36,akties!M32)","v":false},{"$f":"IF(akties!B32=data!$A$36,akties!N32)","v":false}]
[null,null,{"$f":"IF(akties!B33=data!$A$36,akties!A33)","v":false},{"$f":"IF(akties!B33=data!$A$36,akties!M33)","v":false},{"$f":"IF(akties!B33=data!$A$36,akties!N33)","v":false}]
[null,null,{"$f":"IF(akties!B34=data!$A$36,akties!A34)","v":false},{"$f":"IF(akties!B34=data!$A$36,akties!M34)","v":false},{"$f":"IF(akties!B34=data!$A$36,akties!N34)","v":false}]
[null,null,{"$f":"IF(akties!B35=data!$A$36,akties!A35)","v":false},{"$f":"IF(akties!B35=data!$A$36,akties!M35)","v":false},{"$f":"IF(akties!B35=data!$A$36,akties!N35)","v":false}]
[null,null,{"$f":"IF(akties!B36=data!$A$36,akties!A36)","v":false},{"$f":"IF(akties!B36=data!$A$36,akties!M36)","v":false},{"$f":"IF(akties!B36=data!$A$36,akties!N36)","v":false}]
[null,null,{"$f":"IF(akties!B37=data!$A$36,akties!A37)","v":false},{"$f":"IF(akties!B37=data!$A$36,akties!M37)","v":false},{"$f":"IF(akties!B37=data!$A$36,akties!N37)","v":false}]
[null,null,{"$f":"IF(akties!B38=data!$A$36,akties!A38)","v":false},{"$f":"IF(akties!B38=data!$A$36,akties!M38)","v":false},{"$f":"IF(akties!B38=data!$A$36,akties!N38)","v":false}]
[null,null,{"$f":"IF(akties!B39=data!$A$36,akties!A39)","v":false},{"$f":"IF(akties!B39=data!$A$36,akties!M39)","v":false},{"$f":"IF(akties!B39=data!$A$36,akties!N39)","v":false}]
[null,null,{"$f":"IF(akties!B40=data!$A$36,akties!A40)","v":false},{"$f":"IF(akties!B40=data!$A$36,akties!M40)","v":false},{"$f":"IF(akties!B40=data!$A$36,akties!N40)","v":false}]
[null,null,{"$f":"IF(akties!B41=data!$A$36,akties!A41)","v":false},{"$f":"IF(akties!B41=data!$A$36,akties!M41)","v":false},{"$f":"IF(akties!B41=data!$A$36,akties!N41)","v":false}]
[null,null,{"$f":"IF(akties!B42=data!$A$36,akties!A42)","v":false},{"$f":"IF(akties!B42=data!$A$36,akties!M42)","v":false},{"$f":"IF(akties!B42=data!$A$36,akties!N42)","v":false}]
[null,null,{"$f":"IF(akties!B43=data!$A$36,akties!A43)","v":false},{"$f":"IF(akties!B43=data!$A$36,akties!M43)","v":false},{"$f":"IF(akties!B43=data!$A$36,akties!N43)","v":false}]
[null,null,{"$f":"IF(akties!B44=data!$A$36,akties!A44)","v":false},{"$f":"IF(akties!B44=data!$A$36,akties!M44)","v":false},{"$f":"IF(akties!B44=data!$A$36,akties!N44)","v":false}]
[null,null,{"$f":"IF(akties!B45=data!$A$36,akties!A45)","v":false},{"$f":"IF(akties!B45=data!$A$36,akties!M45)","v":false},{"$f":"IF(akties!B45=data!$A$36,akties!N45)","v":false}]
[null,null,{"$f":"IF(akties!B46=data!$A$36,akties!A46)","v":false},{"$f":"IF(akties!B46=data!$A$36,akties!M46)","v":false},{"$f":"IF(akties!B46=data!$A$36,akties!N46)","v":false}]
[null,null,{"$f":"IF(akties!B47=data!$A$36,akties!A47)","v":false},{"$f":"IF(akties!B47=data!$A$36,akties!M47)","v":false},{"$f":"IF(akties!B47=data!$A$36,akties!N47)","v":false}]
[null,null,{"$f":"IF(akties!B48=data!$A$36,akties!A48)","v":false},{"$f":"IF(akties!B48=data!$A$36,akties!M48)","v":false},{"$f":"IF(akties!B48=data!$A$36,akties!N48)","v":false}]
[null,null,{"$f":"IF(akties!B49=data!$A$36,akties!A49)","v":false},{"$f":"IF(akties!B49=data!$A$36,akties!M49)","v":false},{"$f":"IF(akties!B49=data!$A$36,akties!N49)","v":false}]
[null,null,{"$f":"IF(akties!B50=data!$A$36,akties!A50)","v":false},{"$f":"IF(akties!B50=data!$A$36,akties!M50)","v":false},{"$f":"IF(akties!B50=data!$A$36,akties!N50)","v":false}]
[null,null,{"$f":"IF(akties!B51=data!$A$36,akties!A51)","v":false},{"$f":"IF(akties!B51=data!$A$36,akties!M51)","v":false},{"$f":"IF(akties!B51=data!$A$36,akties!N51)","v":false}]
[null,null,{"$f":"IF(akties!B52=data!$A$36,akties!A52)","v":false},{"$f":"IF(akties!B52=data!$A$36,akties!M52)","v":false},{"$f":"IF(akties!B52=data!$A$36,akties!N52)","v":false}]
[null,null,{"$f":"IF(akties!B53=data!$A$36,akties!A53)","v":false},{"$f":"IF(akties!B53=data!$A$36,akties!M53)","v":false},{"$f":"IF(akties!B53=data!$A$36,akties!N53)","v":false}]
[null,null,{"$f":"IF(akties!B54=data!$A$36,akties!A54)","v":false},{"$f":"IF(akties!B54=data!$A$36,akties!M54)","v":false},{"$f":"IF(akties!B54=data!$A$36,akties!N54)","v":false}]
[null,null,{"$f":"IF(akties!B55=data!$A$36,akties!A55)","v":false},{"$f":"IF(akties!B55=data!$A$36,akties!M55)","v":false},{"$f":"IF(akties!B55=data!$A$36,akties!N55)","v":false}]
[null,null,{"$f":"IF(akties!B56=data!$A$36,akties!A56)","v":false},{"$f":"IF(akties!B56=data!$A$36,akties!M56)","v":false},{"$f":"IF(akties!B56=data!$A$36,akties!N56)","v":false}]
[null,null,{"$f":"IF(akties!B57=data!$A$36,akties!A57)","v":false},{"$f":"IF(akties!B57=data!$A$36,akties!M57)","v":false},{"$f":"IF(akties!B57=data!$A$36,akties!N57)","v":false}]
[null,null,{"$f":"IF(akties!B58=data!$A$36,akties!A58)","v":false},{"$f":"IF(akties!B58=data!$A$36,akties!M58)","v":false},{"$f":"IF(akties!B58=data!$A$36,akties!N58)","v":false}]
[null,null,{"$f":"IF(akties!B59=data!$A$36,akties!A59)","v":false},{"$f":"IF(akties!B59=data!$A$36,akties!M59)","v":false},{"$f":"IF(akties!B59=data!$A$36,akties!N59)","v":false}]
[null,null,{"$f":"IF(akties!B60=data!$A$36,akties!A60)","v":false},{"$f":"IF(akties!B60=data!$A$36,akties!M60)","v":false},{"$f":"IF(akties!B60=data!$A$36,akties!N60)","v":false}]
[null,null,{"$f":"IF(akties!B61=data!$A$36,akties!A61)","v":false},{"$f":"IF(akties!B61=data!$A$36,akties!M61)","v":false},{"$f":"IF(akties!B61=data!$A$36,akties!N61)","v":false}]
[null,null,{"$f":"IF(akties!B62=data!$A$36,akties!A62)","v":false},{"$f":"IF(akties!B62=data!$A$36,akties!M62)","v":false},{"$f":"IF(akties!B62=data!$A$36,akties!N62)","v":false}]
[null,null,{"$f":"IF(akties!B63=data!$A$36,akties!A63)","v":false},{"$f":"IF(akties!B63=data!$A$36,akties!M63)","v":false},{"$f":"IF(akties!B63=data!$A$36,akties!N63)","v":false}]
[null,null,{"$f":"IF(akties!B64=data!$A$36,akties!A64)","v":false},{"$f":"IF(akties!B64=data!$A$36,akties!M64)","v":false},{"$f":"IF(akties!B64=data!$A$36,akties!N64)","v":false}]
[null,null,{"$f":"IF(akties!B65=data!$A$36,akties!A65)","v":false},{"$f":"IF(akties!B65=data!$A$36,akties!M65)","v":false},{"$f":"IF(akties!B65=data!$A$36,akties!N65)","v":false}]
[null,null,{"$f":"IF(akties!B66=data!$A$36,akties!A66)","v":false},{"$f":"IF(akties!B66=data!$A$36,akties!M66)","v":false},{"$f":"IF(akties!B66=data!$A$36,akties!N66)","v":false}]
[null,null,{"$f":"IF(akties!B67=data!$A$36,akties!A67)","v":false},{"$f":"IF(akties!B67=data!$A$36,akties!M67)","v":false},{"$f":"IF(akties!B67=data!$A$36,akties!N67)","v":false}]
[null,null,{"$f":"IF(akties!B68=data!$A$36,akties!A68)","v":false},{"$f":"IF(akties!B68=data!$A$36,akties!M68)","v":false},{"$f":"IF(akties!B68=data!$A$36,akties!N68)","v":false}]
[null,null,{"$f":"IF(akties!B69=data!$A$36,akties!A69)","v":false},{"$f":"IF(akties!B69=data!$A$36,akties!M69)","v":false},{"$f":"IF(akties!B69=data!$A$36,akties!N69)","v":false}]
[null,null,{"$f":"IF(akties!B70=data!$A$36,akties!A70)","v":false},{"$f":"IF(akties!B70=data!$A$36,akties!M70)","v":false},{"$f":"IF(akties!B70=data!$A$36,akties!N70)","v":false}]
[null,null,{"$f":"IF(akties!B71=data!$A$36,akties!A71)","v":false},{"$f":"IF(akties!B71=data!$A$36,akties!M71)","v":false},{"$f":"IF(akties!B71=data!$A$36,akties!N71)","v":false}]
[null,null,{"$f":"IF(akties!B72=data!$A$36,akties!A72)","v":false},{"$f":"IF(akties!B72=data!$A$36,akties!M72)","v":false},{"$f":"IF(akties!B72=data!$A$36,akties!N72)","v":false}]
[null,null,{"$f":"IF(akties!B73=data!$A$36,akties!A73)","v":false},{"$f":"IF(akties!B73=data!$A$36,akties!M73)","v":false},{"$f":"IF(akties!B73=data!$A$36,akties!N73)","v":false}]
[null,null,{"$f":"IF(akties!B74=data!$A$36,akties!A74)","v":false},{"$f":"IF(akties!B74=data!$A$36,akties!M74)","v":false},{"$f":"IF(akties!B74=data!$A$36,akties!N74)","v":false}]
[null,null,{"$f":"IF(akties!B75=data!$A$36,akties!A75)","v":false},{"$f":"IF(akties!B75=data!$A$36,akties!M75)","v":false},{"$f":"IF(akties!B75=data!$A$36,akties!N75)","v":false}]
[null,null,{"$f":"IF(akties!B76=data!$A$36,akties!A76)","v":false},{"$f":"IF(akties!B76=data!$A$36,akties!M76)","v":false},{"$f":"IF(akties!B76=data!$A$36,akties!N76)","v":false}]
[null,null,{"$f":"IF(akties!B77=data!$A$36,akties!A77)","v":false},{"$f":"IF(akties!B77=data!$A$36,akties!M77)","v":false},{"$f":"IF(akties!B77=data!$A$36,akties!N77)","v":false}]
[null,null,{"$f":"IF(akties!B78=data!$A$36,akties!A78)","v":false},{"$f":"IF(akties!B78=data!$A$36,akties!M78)","v":false},{"$f":"IF(akties!B78=data!$A$36,akties!N78)","v":false}]
[null,null,{"$f":"IF(akties!B79=data!$A$36,akties!A79)","v":false},{"$f":"IF(akties!B79=data!$A$36,akties!M79)","v":false},{"$f":"IF(akties!B79=data!$A$36,akties!N79)","v":false}]
[null,null,{"$f":"IF(akties!B80=data!$A$36,akties!A80)","v":false},{"$f":"IF(akties!B80=data!$A$36,akties!M80)","v":false},{"$f":"IF(akties!B80=data!$A$36,akties!N80)","v":false}]
[null,null,{"$f":"IF(akties!B81=data!$A$36,akties!A81)","v":false},{"$f":"IF(akties!B81=data!$A$36,akties!M81)","v":false},{"$f":"IF(akties!B81=data!$A$36,akties!N81)","v":false}]
[null,null,{"$f":"IF(akties!B82=data!$A$36,akties!A82)","v":false},{"$f":"IF(akties!B82=data!$A$36,akties!M82)","v":false},{"$f":"IF(akties!B82=data!$A$36,akties!N82)","v":false}]
[null,null,{"$f":"IF(akties!B83=data!$A$36,akties!A83)","v":false},{"$f":"IF(akties!B83=data!$A$36,akties!M83)","v":false},{"$f":"IF(akties!B83=data!$A$36,akties!N83)","v":false}]
[null,null,{"$f":"IF(akties!B84=data!$A$36,akties!A84)","v":false},{"$f":"IF(akties!B84=data!$A$36,akties!M84)","v":false},{"$f":"IF(akties!B84=data!$A$36,akties!N84)","v":false}]
[null,null,{"$f":"IF(akties!B85=data!$A$36,akties!A85)","v":false},{"$f":"IF(akties!B85=data!$A$36,akties!M85)","v":false},{"$f":"IF(akties!B85=data!$A$36,akties!N85)","v":false}]
[null,null,{"$f":"IF(akties!B86=data!$A$36,akties!A86)","v":false},{"$f":"IF(akties!B86=data!$A$36,akties!M86)","v":false},{"$f":"IF(akties!B86=data!$A$36,akties!N86)","v":false}]
[null,null,{"$f":"IF(akties!B87=data!$A$36,akties!A87)","v":false},{"$f":"IF(akties!B87=data!$A$36,akties!M87)","v":false},{"$f":"IF(akties!B87=data!$A$36,akties!N87)","v":false}]
[null,null,{"$f":"IF(akties!B88=data!$A$36,akties!A88)","v":false},{"$f":"IF(akties!B88=data!$A$36,akties!M88)","v":false},{"$f":"IF(akties!B88=data!$A$36,akties!N88)","v":false}]
[null,null,{"$f":"IF(akties!B89=data!$A$36,akties!A89)","v":false},{"$f":"IF(akties!B89=data!$A$36,akties!M89)","v":false},{"$f":"IF(akties!B89=data!$A$36,akties!N89)","v":false}]
[null,null,{"$f":"IF(akties!B90=data!$A$36,akties!A90)","v":false},{"$f":"IF(akties!B90=data!$A$36,akties!M90)","v":false},{"$f":"IF(akties!B90=data!$A$36,akties!N90)","v":false}]
[null,null,{"$f":"IF(akties!B91=data!$A$36,akties!A91)","v":false},{"$f":"IF(akties!B91=data!$A$36,akties!M91)","v":false},{"$f":"IF(akties!B91=data!$A$36,akties!N91)","v":false}]
[null,null,{"$f":"IF(akties!B92=data!$A$36,akties!A92)","v":false},{"$f":"IF(akties!B92=data!$A$36,akties!M92)","v":false},{"$f":"IF(akties!B92=data!$A$36,akties!N92)","v":false}]
[null,null,{"$f":"IF(akties!B93=data!$A$36,akties!A93)","v":false},{"$f":"IF(akties!B93=data!$A$36,akties!M93)","v":false},{"$f":"IF(akties!B93=data!$A$36,akties!N93)","v":false}]
[null,null,{"$f":"IF(akties!B94=data!$A$36,akties!A94)","v":false},{"$f":"IF(akties!B94=data!$A$36,akties!M94)","v":false},{"$f":"IF(akties!B94=data!$A$36,akties!N94)","v":false}]
[null,null,{"$f":"IF(akties!B95=data!$A$36,akties!A95)","v":false},{"$f":"IF(akties!B95=data!$A$36,akties!M95)","v":false},{"$f":"IF(akties!B95=data!$A$36,akties!N95)","v":false}]
[null,null,{"$f":"IF(akties!B96=data!$A$36,akties!A96)","v":false},{"$f":"IF(akties!B96=data!$A$36,akties!M96)","v":false},{"$f":"IF(akties!B96=data!$A$36,akties!N96)","v":false}]
[null,null,{"$f":"IF(akties!B97=data!$A$36,akties!A97)","v":false},{"$f":"IF(akties!B97=data!$A$36,akties!M97)","v":false},{"$f":"IF(akties!B97=data!$A$36,akties!N97)","v":false}]
[null,null,{"$f":"IF(akties!B98=data!$A$36,akties!A98)","v":false},{"$f":"IF(akties!B98=data!$A$36,akties!M98)","v":false},{"$f":"IF(akties!B98=data!$A$36,akties!N98)","v":false}]
[null,null,{"$f":"IF(akties!B99=data!$A$36,akties!A99)","v":false},{"$f":"IF(akties!B99=data!$A$36,akties!M99)","v":false},{"$f":"IF(akties!B99=data!$A$36,akties!N99)","v":false}]
[null,null,{"$f":"IF(akties!B100=data!$A$36,akties!A100)","v":false},{"$f":"IF(akties!B100=data!$A$36,akties!M100)","v":false},{"$f":"IF(akties!B100=data!$A$36,akties!N100)","v":false}]
[null,null,{"$f":"IF(akties!B101=data!$A$36,akties!A101)","v":false},{"$f":"IF(akties!B101=data!$A$36,akties!M101)","v":false},{"$f":"IF(akties!B101=data!$A$36,akties!N101)","v":false}]
[null,null,{"$f":"IF(akties!B102=data!$A$36,akties!A102)","v":false},{"$f":"IF(akties!B102=data!$A$36,akties!M102)","v":false},{"$f":"IF(akties!B102=data!$A$36,akties!N102)","v":false}]
[null,null,{"$f":"IF(akties!B103=data!$A$36,akties!A103)","v":false},{"$f":"IF(akties!B103=data!$A$36,akties!M103)","v":false},{"$f":"IF(akties!B103=data!$A$36,akties!N103)","v":false}]
[null,null,{"$f":"IF(akties!B104=data!$A$36,akties!A104)","v":false},{"$f":"IF(akties!B104=data!$A$36,akties!M104)","v":false},{"$f":"IF(akties!B104=data!$A$36,akties!N104)","v":false}]
[null,null,{"$f":"IF(akties!B105=data!$A$36,akties!A105)","v":false},{"$f":"IF(akties!B105=data!$A$36,akties!M105)","v":false},{"$f":"IF(akties!B105=data!$A$36,akties!N105)","v":false}]
[null,null,{"$f":"IF(akties!B106=data!$A$36,akties!A106)","v":false},{"$f":"IF(akties!B106=data!$A$36,akties!M106)","v":false},{"$f":"IF(akties!B106=data!$A$36,akties!N106)","v":false}]
[null,null,{"$f":"IF(akties!B107=data!$A$36,akties!A107)","v":false},{"$f":"IF(akties!B107=data!$A$36,akties!M107)","v":false},{"$f":"IF(akties!B107=data!$A$36,akties!N107)","v":false}]
[null,null,{"$f":"IF(akties!B108=data!$A$36,akties!A108)","v":false},{"$f":"IF(akties!B108=data!$A$36,akties!M108)","v":false},{"$f":"IF(akties!B108=data!$A$36,akties!N108)","v":false}]
[null,null,{"$f":"IF(akties!B109=data!$A$36,akties!A109)","v":false},{"$f":"IF(akties!B109=data!$A$36,akties!M109)","v":false},{"$f":"IF(akties!B109=data!$A$36,akties!N109)","v":false}]
[null,null,{"$f":"IF(akties!B110=data!$A$36,akties!A110)","v":false},{"$f":"IF(akties!B110=data!$A$36,akties!M110)","v":false},{"$f":"IF(akties!B110=data!$A$36,akties!N110)","v":false}]
[null,null,{"$f":"IF(akties!B111=data!$A$36,akties!A111)","v":false},{"$f":"IF(akties!B111=data!$A$36,akties!M111)","v":false},{"$f":"IF(akties!B111=data!$A$36,akties!N111)","v":false}]
[null,null,{"$f":"IF(akties!B112=data!$A$36,akties!A112)","v":false},{"$f":"IF(akties!B112=data!$A$36,akties!M112)","v":false},{"$f":"IF(akties!B112=data!$A$36,akties!N112)","v":false}]
[null,null,{"$f":"IF(akties!B113=data!$A$36,akties!A113)","v":false},{"$f":"IF(akties!B113=data!$A$36,akties!M113)","v":false},{"$f":"IF(akties!B113=data!$A$36,akties!N113)","v":false}]
[null,null,{"$f":"IF(akties!B114=data!$A$36,akties!A114)","v":false},{"$f":"IF(akties!B114=data!$A$36,akties!M114)","v":false},{"$f":"IF(akties!B114=data!$A$36,akties!N114)","v":false}]
[null,null,{"$f":"IF(akties!B115=data!$A$36,akties!A115)","v":false},{"$f":"IF(akties!B115=data!$A$36,akties!M115)","v":false},{"$f":"IF(akties!B115=data!$A$36,akties!N115)","v":false}]
[null,null,{"$f":"IF(akties!B116=data!$A$36,akties!A116)","v":false},{"$f":"IF(akties!B116=data!$A$36,akties!M116)","v":false},{"$f":"IF(akties!B116=data!$A$36,akties!N116)","v":false}]
[null,null,{"$f":"IF(akties!B117=data!$A$36,akties!A117)","v":false},{"$f":"IF(akties!B117=data!$A$36,akties!M117)","v":false},{"$f":"IF(akties!B117=data!$A$36,akties!N117)","v":false}]
[null,null,{"$f":"IF(akties!B118=data!$A$36,akties!A118)","v":false},{"$f":"IF(akties!B118=data!$A$36,akties!M118)","v":false},{"$f":"IF(akties!B118=data!$A$36,akties!N118)","v":false}]
[null,null,{"$f":"IF(akties!B119=data!$A$36,akties!A119)","v":false},{"$f":"IF(akties!B119=data!$A$36,akties!M119)","v":false},{"$f":"IF(akties!B119=data!$A$36,akties!N119)","v":false}]
[null,null,{"$f":"IF(akties!B120=data!$A$36,akties!A120)","v":false},{"$f":"IF(akties!B120=data!$A$36,akties!M120)","v":false},{"$f":"IF(akties!B120=data!$A$36,akties!N120)","v":false}]
[null,null,{"$f":"IF(akties!B121=data!$A$36,akties!A121)","v":false},{"$f":"IF(akties!B121=data!$A$36,akties!M121)","v":false},{"$f":"IF(akties!B121=data!$A$36,akties!N121)","v":false}]
[null,null,{"$f":"IF(akties!B122=data!$A$36,akties!A122)","v":false},{"$f":"IF(akties!B122=data!$A$36,akties!M122)","v":false},{"$f":"IF(akties!B122=data!$A$36,akties!N122)","v":false}]
[null,null,{"$f":"IF(akties!B123=data!$A$36,akties!A123)","v":false},{"$f":"IF(akties!B123=data!$A$36,akties!M123)","v":false},{"$f":"IF(akties!B123=data!$A$36,akties!N123)","v":false}]
[null,null,{"$f":"IF(akties!B124=data!$A$36,akties!A124)","v":false},{"$f":"IF(akties!B124=data!$A$36,akties!M124)","v":false},{"$f":"IF(akties!B124=data!$A$36,akties!N124)","v":false}]
[null,null,{"$f":"IF(akties!B125=data!$A$36,akties!A125)","v":false},{"$f":"IF(akties!B125=data!$A$36,akties!M125)","v":false},{"$f":"IF(akties!B125=data!$A$36,akties!N125)","v":false}]
[null,null,{"$f":"IF(akties!B126=data!$A$36,akties!A126)","v":false},{"$f":"IF(akties!B126=data!$A$36,akties!M126)","v":false},{"$f":"IF(akties!B126=data!$A$36,akties!N126)","v":false}]
[null,null,{"$f":"IF(akties!B127=data!$A$36,akties!A127)","v":false},{"$f":"IF(akties!B127=data!$A$36,akties!M127)","v":false},{"$f":"IF(akties!B127=data!$A$36,akties!N127)","v":false}]
[null,null,{"$f":"IF(akties!B128=data!$A$36,akties!A128)","v":false},{"$f":"IF(akties!B128=data!$A$36,akties!M128)","v":false},{"$f":"IF(akties!B128=data!$A$36,akties!N128)","v":false}]
[null,null,{"$f":"IF(akties!B129=data!$A$36,akties!A129)","v":false},{"$f":"IF(akties!B129=data!$A$36,akties!M129)","v":false},{"$f":"IF(akties!B129=data!$A$36,akties!N129)","v":false}]
[null,null,{"$f":"IF(akties!B130=data!$A$36,akties!A130)","v":false},{"$f":"IF(akties!B130=data!$A$36,akties!M130)","v":false},{"$f":"IF(akties!B130=data!$A$36,akties!N130)","v":false}]
[null,null,{"$f":"IF(akties!B131=data!$A$36,akties!A131)","v":false},{"$f":"IF(akties!B131=data!$A$36,akties!M131)","v":false},{"$f":"IF(akties!B131=data!$A$36,akties!N131)","v":false}]
[null,null,{"$f":"IF(akties!B132=data!$A$36,akties!A132)","v":false},{"$f":"IF(akties!B132=data!$A$36,akties!M132)","v":false},{"$f":"IF(akties!B132=data!$A$36,akties!N132)","v":false}]
[null,null,{"$f":"IF(akties!B133=data!$A$36,akties!A133)","v":false},{"$f":"IF(akties!B133=data!$A$36,akties!M133)","v":false},{"$f":"IF(akties!B133=data!$A$36,akties!N133)","v":false}]
[null,null,{"$f":"IF(akties!B134=data!$A$36,akties!A134)","v":false},{"$f":"IF(akties!B134=data!$A$36,akties!M134)","v":false},{"$f":"IF(akties!B134=data!$A$36,akties!N134)","v":false}]
[null,null,{"$f":"IF(akties!B135=data!$A$36,akties!A135)","v":false},{"$f":"IF(akties!B135=data!$A$36,akties!M135)","v":false},{"$f":"IF(akties!B135=data!$A$36,akties!N135)","v":false}]
[null,null,{"$f":"IF(akties!B136=data!$A$36,akties!A136)","v":false},{"$f":"IF(akties!B136=data!$A$36,akties!M136)","v":false},{"$f":"IF(akties!B136=data!$A$36,akties!N136)","v":false}]
[null,null,{"$f":"IF(akties!B137=data!$A$36,akties!A137)","v":false},{"$f":"IF(akties!B137=data!$A$36,akties!M137)","v":false},{"$f":"IF(akties!B137=data!$A$36,akties!N137)","v":false}]
[null,null,{"$f":"IF(akties!B138=data!$A$36,akties!A138)","v":false},{"$f":"IF(akties!B138=data!$A$36,akties!M138)","v":false},{"$f":"IF(akties!B138=data!$A$36,akties!N138)","v":false}]
[null,null,{"$f":"IF(akties!B139=data!$A$36,akties!A139)","v":false},{"$f":"IF(akties!B139=data!$A$36,akties!M139)","v":false},{"$f":"IF(akties!B139=data!$A$36,akties!N139)","v":false}]
[null,null,{"$f":"IF(akties!B140=data!$A$36,akties!A140)","v":false},{"$f":"IF(akties!B140=data!$A$36,akties!M140)","v":false},{"$f":"IF(akties!B140=data!$A$36,akties!N140)","v":false}]
[null,null,{"$f":"IF(akties!B141=data!$A$36,akties!A141)","v":false},{"$f":"IF(akties!B141=data!$A$36,akties!M141)","v":false},{"$f":"IF(akties!B141=data!$A$36,akties!N141)","v":false}]
[null,null,{"$f":"IF(akties!B142=data!$A$36,akties!A142)","v":false},{"$f":"IF(akties!B142=data!$A$36,akties!M142)","v":false},{"$f":"IF(akties!B142=data!$A$36,akties!N142)","v":false}]
[null,null,{"$f":"IF(akties!B143=data!$A$36,akties!A143)","v":false},{"$f":"IF(akties!B143=data!$A$36,akties!M143)","v":false},{"$f":"IF(akties!B143=data!$A$36,akties!N143)","v":false}]
[null,null,{"$f":"IF(akties!B144=data!$A$36,akties!A144)","v":false},{"$f":"IF(akties!B144=data!$A$36,akties!M144)","v":false},{"$f":"IF(akties!B144=data!$A$36,akties!N144)","v":false}]
[null,null,{"$f":"IF(akties!B145=data!$A$36,akties!A145)","v":false},{"$f":"IF(akties!B145=data!$A$36,akties!M145)","v":false},{"$f":"IF(akties!B145=data!$A$36,akties!N145)","v":false}]
[null,null,{"$f":"IF(akties!B146=data!$A$36,akties!A146)","v":false},{"$f":"IF(akties!B146=data!$A$36,akties!M146)","v":false},{"$f":"IF(akties!B146=data!$A$36,akties!N146)","v":false}]
[null,null,{"$f":"IF(akties!B147=data!$A$36,akties!A147)","v":false},{"$f":"IF(akties!B147=data!$A$36,akties!M147)","v":false},{"$f":"IF(akties!B147=data!$A$36,akties!N147)","v":false}]
[null,null,{"$f":"IF(akties!B148=data!$A$36,akties!A148)","v":false},{"$f":"IF(akties!B148=data!$A$36,akties!M148)","v":false},{"$f":"IF(akties!B148=data!$A$36,akties!N148)","v":false}]
[null,null,{"$f":"IF(akties!B149=data!$A$36,akties!A149)","v":false},{"$f":"IF(akties!B149=data!$A$36,akties!M149)","v":false},{"$f":"IF(akties!B149=data!$A$36,akties!N149)","v":false}]
[null,null,{"$f":"IF(akties!B150=data!$A$36,akties!A150)","v":false},{"$f":"IF(akties!B150=data!$A$36,akties!M150)","v":false},{"$f":"IF(akties!B150=data!$A$36,akties!N150)","v":false}]
[null,null,{"$f":"IF(akties!B151=data!$A$36,akties!A151)","v":false},{"$f":"IF(akties!B151=data!$A$36,akties!M151)","v":false},{"$f":"IF(akties!B151=data!$A$36,akties!N151)","v":false}]
[null,null,{"$f":"IF(akties!B152=data!$A$36,akties!A152)","v":false},{"$f":"IF(akties!B152=data!$A$36,akties!M152)","v":false},{"$f":"IF(akties!B152=data!$A$36,akties!N152)","v":false}]
[null,null,{"$f":"IF(akties!B153=data!$A$36,akties!A153)","v":false},{"$f":"IF(akties!B153=data!$A$36,akties!M153)","v":false},{"$f":"IF(akties!B153=data!$A$36,akties!N153)","v":false}]
[null,null,{"$f":"IF(akties!B154=data!$A$36,akties!A154)","v":false},{"$f":"IF(akties!B154=data!$A$36,akties!M154)","v":false},{"$f":"IF(akties!B154=data!$A$36,akties!N154)","v":false}]
[null,null,{"$f":"IF(akties!B155=data!$A$36,akties!A155)","v":false},{"$f":"IF(akties!B155=data!$A$36,akties!M155)","v":false},{"$f":"IF(akties!B155=data!$A$36,akties!N155)","v":false}]
[null,null,{"$f":"IF(akties!B156=data!$A$36,akties!A156)","v":false},{"$f":"IF(akties!B156=data!$A$36,akties!M156)","v":false},{"$f":"IF(akties!B156=data!$A$36,akties!N156)","v":false}]
[null,null,{"$f":"IF(akties!B157=data!$A$36,akties!A157)","v":false},{"$f":"IF(akties!B157=data!$A$36,akties!M157)","v":false},{"$f":"IF(akties!B157=data!$A$36,akties!N157)","v":false}]
[null,null,{"$f":"IF(akties!B158=data!$A$36,akties!A158)","v":false},{"$f":"IF(akties!B158=data!$A$36,akties!M158)","v":false},{"$f":"IF(akties!B158=data!$A$36,akties!N158)","v":false}]
[null,null,{"$f":"IF(akties!B159=data!$A$36,akties!A159)","v":false},{"$f":"IF(akties!B159=data!$A$36,akties!M159)","v":false},{"$f":"IF(akties!B159=data!$A$36,akties!N159)","v":false}]
[null,null,{"$f":"IF(akties!B160=data!$A$36,akties!A160)","v":false},{"$f":"IF(akties!B160=data!$A$36,akties!M160)","v":false},{"$f":"IF(akties!B160=data!$A$36,akties!N160)","v":false}]
[null,null,{"$f":"IF(akties!B161=data!$A$36,akties!A161)","v":false},{"$f":"IF(akties!B161=data!$A$36,akties!M161)","v":false},{"$f":"IF(akties!B161=data!$A$36,akties!N161)","v":false}]
[null,null,{"$f":"IF(akties!B162=data!$A$36,akties!A162)","v":false},{"$f":"IF(akties!B162=data!$A$36,akties!M162)","v":false},{"$f":"IF(akties!B162=data!$A$36,akties!N162)","v":false}]
[null,null,{"$f":"IF(akties!B163=data!$A$36,akties!A163)","v":false},{"$f":"IF(akties!B163=data!$A$36,akties!M163)","v":false},{"$f":"IF(akties!B163=data!$A$36,akties!N163)","v":false}]
[null,null,{"$f":"IF(akties!B164=data!$A$36,akties!A164)","v":false},{"$f":"IF(akties!B164=data!$A$36,akties!M164)","v":false},{"$f":"IF(akties!B164=data!$A$36,akties!N164)","v":false}]
[null,null,{"$f":"IF(akties!B165=data!$A$36,akties!A165)","v":false},{"$f":"IF(akties!B165=data!$A$36,akties!M165)","v":false},{"$f":"IF(akties!B165=data!$A$36,akties!N165)","v":false}]
[null,null,{"$f":"IF(akties!B166=data!$A$36,akties!A166)","v":false},{"$f":"IF(akties!B166=data!$A$36,akties!M166)","v":false},{"$f":"IF(akties!B166=data!$A$36,akties!N166)","v":false}]
[null,null,{"$f":"IF(akties!B167=data!$A$36,akties!A167)","v":false},{"$f":"IF(akties!B167=data!$A$36,akties!M167)","v":false},{"$f":"IF(akties!B167=data!$A$36,akties!N167)","v":false}]
[null,null,{"$f":"IF(akties!B168=data!$A$36,akties!A168)","v":false},{"$f":"IF(akties!B168=data!$A$36,akties!M168)","v":false},{"$f":"IF(akties!B168=data!$A$36,akties!N168)","v":false}]
[null,null,{"$f":"IF(akties!B169=data!$A$36,akties!A169)","v":false},{"$f":"IF(akties!B169=data!$A$36,akties!M169)","v":false},{"$f":"IF(akties!B169=data!$A$36,akties!N169)","v":false}]
[null,null,{"$f":"IF(akties!B170=data!$A$36,akties!A170)","v":false},{"$f":"IF(akties!B170=data!$A$36,akties!M170)","v":false},{"$f":"IF(akties!B170=data!$A$36,akties!N170)","v":false}]
[null,null,{"$f":"IF(akties!B171=data!$A$36,akties!A171)","v":false},{"$f":"IF(akties!B171=data!$A$36,akties!M171)","v":false},{"$f":"IF(akties!B171=data!$A$36,akties!N171)","v":false}]
[null,null,{"$f":"IF(akties!B172=data!$A$36,akties!A172)","v":false},{"$f":"IF(akties!B172=data!$A$36,akties!M172)","v":false},{"$f":"IF(akties!B172=data!$A$36,akties!N172)","v":false}]
[null,null,{"$f":"IF(akties!B173=data!$A$36,akties!A173)","v":false},{"$f":"IF(akties!B173=data!$A$36,akties!M173)","v":false},{"$f":"IF(akties!B173=data!$A$36,akties!N173)","v":false}]
[null,null,{"$f":"IF(akties!B174=data!$A$36,akties!A174)","v":false},{"$f":"IF(akties!B174=data!$A$36,akties!M174)","v":false},{"$f":"IF(akties!B174=data!$A$36,akties!N174)","v":false}]
[null,null,{"$f":"IF(akties!B175=data!$A$36,akties!A175)","v":false},{"$f":"IF(akties!B175=data!$A$36,akties!M175)","v":false},{"$f":"IF(akties!B175=data!$A$36,akties!N175)","v":false}]
[null,null,{"$f":"IF(akties!B176=data!$A$36,akties!A176)","v":false},{"$f":"IF(akties!B176=data!$A$36,akties!M176)","v":false},{"$f":"IF(akties!B176=data!$A$36,akties!N176)","v":false}]
[null,null,{"$f":"IF(akties!B177=data!$A$36,akties!A177)","v":false},{"$f":"IF(akties!B177=data!$A$36,akties!M177)","v":false},{"$f":"IF(akties!B177=data!$A$36,akties!N177)","v":false}]
[null,null,{"$f":"IF(akties!B178=data!$A$36,akties!A178)","v":false},{"$f":"IF(akties!B178=data!$A$36,akties!M178)","v":false},{"$f":"IF(akties!B178=data!$A$36,akties!N178)","v":false}]
[null,null,{"$f":"IF(akties!B179=data!$A$36,akties!A179)","v":false},{"$f":"IF(akties!B179=data!$A$36,akties!M179)","v":false},{"$f":"IF(akties!B179=data!$A$36,akties!N179)","v":false}]
[null,null,{"$f":"IF(akties!B180=data!$A$36,akties!A180)","v":false},{"$f":"IF(akties!B180=data!$A$36,akties!M180)","v":false},{"$f":"IF(akties!B180=data!$A$36,akties!N180)","v":false}]
[null,null,{"$f":"IF(akties!B181=data!$A$36,akties!A181)","v":false},{"$f":"IF(akties!B181=data!$A$36,akties!M181)","v":false},{"$f":"IF(akties!B181=data!$A$36,akties!N181)","v":false}]
[null,null,{"$f":"IF(akties!B182=data!$A$36,akties!A182)","v":false},{"$f":"IF(akties!B182=data!$A$36,akties!M182)","v":false},{"$f":"IF(akties!B182=data!$A$36,akties!N182)","v":false}]
[null,null,{"$f":"IF(akties!B183=data!$A$36,akties!A183)","v":false},{"$f":"IF(akties!B183=data!$A$36,akties!M183)","v":false},{"$f":"IF(akties!B183=data!$A$36,akties!N183)","v":false}]
[null,null,{"$f":"IF(akties!B184=data!$A$36,akties!A184)","v":false},{"$f":"IF(akties!B184=data!$A$36,akties!M184)","v":false},{"$f":"IF(akties!B184=data!$A$36,akties!N184)","v":false}]
[null,null,{"$f":"IF(akties!B185=data!$A$36,akties!A185)","v":false},{"$f":"IF(akties!B185=data!$A$36,akties!M185)","v":false},{"$f":"IF(akties!B185=data!$A$36,akties!N185)","v":false}]
[null,null,{"$f":"IF(akties!B186=data!$A$36,akties!A186)","v":false},{"$f":"IF(akties!B186=data!$A$36,akties!M186)","v":false},{"$f":"IF(akties!B186=data!$A$36,akties!N186)","v":false}]
[null,null,{"$f":"IF(akties!B187=data!$A$36,akties!A187)","v":false},{"$f":"IF(akties!B187=data!$A$36,akties!M187)","v":false},{"$f":"IF(akties!B187=data!$A$36,akties!N187)","v":false}]
[null,null,{"$f":"IF(akties!B188=data!$A$36,akties!A188)","v":false},{"$f":"IF(akties!B188=data!$A$36,akties!M188)","v":false},{"$f":"IF(akties!B188=data!$A$36,akties!N188)","v":false}]
[null,null,{"$f":"IF(akties!B189=data!$A$36,akties!A189)","v":false},{"$f":"IF(akties!B189=data!$A$36,akties!M189)","v":false},{"$f":"IF(akties!B189=data!$A$36,akties!N189)","v":false}]
[null,null,{"$f":"IF(akties!B190=data!$A$36,akties!A190)","v":false},{"$f":"IF(akties!B190=data!$A$36,akties!M190)","v":false},{"$f":"IF(akties!B190=data!$A$36,akties!N190)","v":false}]
[null,null,{"$f":"IF(akties!B191=data!$A$36,akties!A191)","v":false},{"$f":"IF(akties!B191=data!$A$36,akties!M191)","v":false},{"$f":"IF(akties!B191=data!$A$36,akties!N191)","v":false}]
[null,null,{"$f":"IF(akties!B192=data!$A$36,akties!A192)","v":false},{"$f":"IF(akties!B192=data!$A$36,akties!M192)","v":false},{"$f":"IF(akties!B192=data!$A$36,akties!N192)","v":false}]
[null,null,{"$f":"IF(akties!B193=data!$A$36,akties!A193)","v":false},{"$f":"IF(akties!B193=data!$A$36,akties!M193)","v":false},{"$f":"IF(akties!B193=data!$A$36,akties!N193)","v":false}]
[null,null,{"$f":"IF(akties!B194=data!$A$36,akties!A194)","v":false},{"$f":"IF(akties!B194=data!$A$36,akties!M194)","v":false},{"$f":"IF(akties!B194=data!$A$36,akties!N194)","v":false}]
[null,null,{"$f":"IF(akties!B195=data!$A$36,akties!A195)","v":false},{"$f":"IF(akties!B195=data!$A$36,akties!M195)","v":false},{"$f":"IF(akties!B195=data!$A$36,akties!N195)","v":false}]
[null,null,{"$f":"IF(akties!B196=data!$A$36,akties!A196)","v":false},{"$f":"IF(akties!B196=data!$A$36,akties!M196)","v":false},{"$f":"IF(akties!B196=data!$A$36,akties!N196)","v":false}]
[null,null,{"$f":"IF(akties!B197=data!$A$36,akties!A197)","v":false},{"$f":"IF(akties!B197=data!$A$36,akties!M197)","v":false},{"$f":"IF(akties!B197=data!$A$36,akties!N197)","v":false}]
[null,null,{"$f":"IF(akties!B198=data!$A$36,akties!A198)","v":false},{"$f":"IF(akties!B198=data!$A$36,akties!M198)","v":false},{"$f":"IF(akties!B198=data!$A$36,akties!N198)","v":false}]
[null,null,{"$f":"IF(akties!B199=data!$A$36,akties!A199)","v":false},{"$f":"IF(akties!B199=data!$A$36,akties!M199)","v":false},{"$f":"IF(akties!B199=data!$A$36,akties!N199)","v":false}]
[null,null,{"$f":"IF(akties!B200=data!$A$36,akties!A200)","v":false},{"$f":"IF(akties!B200=data!$A$36,akties!M200)","v":false},{"$f":"IF(akties!B200=data!$A$36,akties!N200)","v":false}]
[null,null,{"$f":"IF(akties!B201=data!$A$36,akties!A201)","v":false},{"$f":"IF(akties!B201=data!$A$36,akties!M201)","v":false},{"$f":"IF(akties!B201=data!$A$36,akties!N201)","v":false}]
[null,null,{"$f":"IF(akties!B202=data!$A$36,akties!A202)","v":false},{"$f":"IF(akties!B202=data!$A$36,akties!M202)","v":false},{"$f":"IF(akties!B202=data!$A$36,akties!N202)","v":false}]
[null,null,{"$f":"IF(akties!B203=data!$A$36,akties!A203)","v":false},{"$f":"IF(akties!B203=data!$A$36,akties!M203)","v":false},{"$f":"IF(akties!B203=data!$A$36,akties!N203)","v":false}]
[null,null,{"$f":"IF(akties!B204=data!$A$36,akties!A204)","v":false},{"$f":"IF(akties!B204=data!$A$36,akties!M204)","v":false},{"$f":"IF(akties!B204=data!$A$36,akties!N204)","v":false}]
[null,null,{"$f":"IF(akties!B205=data!$A$36,akties!A205)","v":false},{"$f":"IF(akties!B205=data!$A$36,akties!M205)","v":false},{"$f":"IF(akties!B205=data!$A$36,akties!N205)","v":false}]
[null,null,{"$f":"IF(akties!B206=data!$A$36,akties!A206)","v":false},{"$f":"IF(akties!B206=data!$A$36,akties!M206)","v":false},{"$f":"IF(akties!B206=data!$A$36,akties!N206)","v":false}]
[null,null,{"$f":"IF(akties!B207=data!$A$36,akties!A207)","v":false},{"$f":"IF(akties!B207=data!$A$36,akties!M207)","v":false},{"$f":"IF(akties!B207=data!$A$36,akties!N207)","v":false}]
[null,null,{"$f":"IF(akties!B208=data!$A$36,akties!A208)","v":false},{"$f":"IF(akties!B208=data!$A$36,akties!M208)","v":false},{"$f":"IF(akties!B208=data!$A$36,akties!N208)","v":false}]
[null,null,{"$f":"IF(akties!B209=data!$A$36,akties!A209)","v":false},{"$f":"IF(akties!B209=data!$A$36,akties!M209)","v":false},{"$f":"IF(akties!B209=data!$A$36,akties!N209)","v":false}]
[null,null,{"$f":"IF(akties!B210=data!$A$36,akties!A210)","v":false},{"$f":"IF(akties!B210=data!$A$36,akties!M210)","v":false},{"$f":"IF(akties!B210=data!$A$36,akties!N210)","v":false}]
[null,null,{"$f":"IF(akties!B211=data!$A$36,akties!A211)","v":false},{"$f":"IF(akties!B211=data!$A$36,akties!M211)","v":false},{"$f":"IF(akties!B211=data!$A$36,akties!N211)","v":false}]